Uber Exif Photo
By-line : Louis DiBacco
Copyright Notice : © 2008 LouisDiBacco
Copyright Flag : True
Make : Minolta
Camera Model Name : DSE 54005400
Orientation : Horizontal (normal)
Software : Adobe Photoshop CS3 Macintosh
Modify Date : 2010:11:05 07:01:20
Artist : Louis DiBacco
Copyright : © 2008 LouisDiBacco
Color Space : Uncalibrated
Exif Image Width : 1260
Exif Image Height : 1902
Creator Tool : Adobe Photoshop CS3 Macintosh
Create Date : 2010:11:05 07:01:20-04:00
Format : image/jpeg
Color Mode : RGB
ICC Profile Name : Adobe RGB (1998)
Marked : True
Version : 5.6
White Balance : As Shot
Incremental Temperature : 0
Incremental Tint : 0
Exposure : 0.00
Shadows : 0
Brightness : -3
Contrast : -20
Saturation : 0
Sharpness : 0
Luminance Smoothing : 0
Color Noise Reduction : 0
Chromatic Aberration R : 0
Chromatic Aberration B : 0
Vignette Amount : -73
Vignette Midpoint : 50
Shadow Tint : 0
Red Hue : 0
Red Saturation : 0
Green Hue : 0
Green Saturation : 0
Blue Hue : 0
Blue Saturation : 0
Fill Light : 0
Vibrance : +25
Highlight Recovery : 0
Clarity : +27
Defringe : 0
Hue Adjustment Red : 0
Hue Adjustment Orange : 0
Hue Adjustment Yellow : 0
Hue Adjustment Green : 0
Hue Adjustment Aqua : 0
Hue Adjustment Blue : 0
Hue Adjustment Purple : 0
Hue Adjustment Magenta : 0
Saturation Adjustment Red : 0
Saturation Adjustment Orange : 0
Saturation Adjustment Yellow : 0
Saturation Adjustment Green : 0
Saturation Adjustment Aqua : 0
Saturation Adjustment Blue : 0
Saturation Adjustment Purple : 0
Saturation Adjustment Magenta : 0
Luminance Adjustment Red : 0
Luminance Adjustment Orange : 0
Luminance Adjustment Yellow : 0
Luminance Adjustment Green : 0
Luminance Adjustment Aqua : 0
Luminance Adjustment Blue : 0
Luminance Adjustment Purple : 0
Luminance Adjustment Magenta : 0
Split Toning Shadow Hue : 0
Split Toning Shadow Saturation : 0
Split Toning Highlight Hue : 0
Split Toning Highlight Saturation : 0
Split Toning Balance : 0
Parametric Shadows : 0
Parametric Darks : 0
Parametric Lights : -83
Parametric Highlights : -27
Parametric Shadow Split : 25
Parametric Midtone Split : 50
Parametric Highlight Split : 75
Sharpen Radius : +0.5
Sharpen Detail : 41
Sharpen Edge Masking : 0
Post Crop Vignette Amount : -25
Post Crop Vignette Midpoint : 50
Post Crop Vignette Feather : 89
Post Crop Vignette Roundness : 0
Convert To Grayscale : False
Tone Curve Name : Linear
Camera Profile : Embedded
Has Settings : True
Crop Top : 0.004866
Crop Left : 0.014519
Crop Bottom : 0.980535
Crop Right : 0.978221
Crop Angle : 0
Crop Width : 2521
Crop Height : 3805
Crop Unit : pixels
Has Crop : True
Already Applied : True
Creator : Louis DiBacco
Rights : © 2008 LouisDiBacco
Tone Curve : 0, 0, 255, 255
Creator City : Avon
Creator Region : CT
Creator Postal Code : 06001
Creator Country : U.S.A.
Image Width : 199
Image Height : 300
Bits Per Sample : 8
Color Components : 1
Image Size : 199x300
Megapixels : 0.060