Uber Exif Photo
By-line : unknown
Photometric Interpretation : RGB
Make : Canon
Camera Model Name : Canon EOS 350D DIGITAL
Orientation : Horizontal (normal)
Samples Per Pixel : 3
Software : Adobe Photoshop CS5.1 Windows
Modify Date : 2013:12:25 16:12:13
Artist : unknown
Exposure Time : 1/60
F Number : 13.0
Exposure Program : Manual
ISO : 100
Date/Time Original : 2013:12:25 15:01:07
Create Date : 2013:12:25 15:01:07
Shutter Speed Value : 1/60
Aperture Value : 13.0
Exposure Compensation : 0
Max Aperture Value : 3.5
Metering Mode : Multi-segment
Flash : On, Red-eye reduction
Focal Length : 18.0 mm
Color Space : Uncalibrated
Exif Image Width : 1000
Exif Image Height : 1500
Custom Rendered : Normal
Exposure Mode : Manual
White Balance : Auto
Scene Capture Type : Standard
Owner Name : unknown
Serial Number : 1730706456
Lens Info : 18-55mm f/?
Lens Model : 18.0-55.0 mm
Profile Description : Adobe RGB (1998)
Format : image/jpeg
Lens : 18.0-55.0 mm
Image Number : 53
Flash Compensation : -0.666666666666667
Firmware : 1.0.3
Creator Tool : Adobe Photoshop Camera Raw 6.6 (Windows)
Date Created : 2013:12:25 15:01:07
Color Mode : RGB
ICC Profile Name : Adobe RGB (1998)
Raw File Name : IMG_0309.CR2
Version : 6.6
Process Version : 5.7
Color Temperature : 5800
Tint : +13
Exposure : 0.00
Shadows : 5
Brightness : +50
Contrast : +25
Saturation : 0
Sharpness : 25
Luminance Smoothing : 0
Color Noise Reduction : 25
Chromatic Aberration R : 0
Chromatic Aberration B : 0
Vignette Amount : 0
Shadow Tint : 0
Red Hue : 0
Red Saturation : 0
Green Hue : 0
Green Saturation : 0
Blue Hue : 0
Blue Saturation : 0
Fill Light : 8
Vibrance : +55
Highlight Recovery : 30
Clarity : +100
Defringe : 0
Hue Adjustment Red : 0
Hue Adjustment Orange : 0
Hue Adjustment Yellow : 0
Hue Adjustment Green : 0
Hue Adjustment Aqua : 0
Hue Adjustment Blue : 0
Hue Adjustment Purple : 0
Hue Adjustment Magenta : 0
Saturation Adjustment Red : 0
Saturation Adjustment Orange : 0
Saturation Adjustment Yellow : 0
Saturation Adjustment Green : 0
Saturation Adjustment Aqua : 0
Saturation Adjustment Blue : 0
Saturation Adjustment Purple : 0
Saturation Adjustment Magenta : 0
Luminance Adjustment Red : 0
Luminance Adjustment Orange : 0
Luminance Adjustment Yellow : 0
Luminance Adjustment Green : 0
Luminance Adjustment Aqua : 0
Luminance Adjustment Blue : 0
Luminance Adjustment Purple : 0
Luminance Adjustment Magenta : 0
Split Toning Shadow Hue : 0
Split Toning Shadow Saturation : 0
Split Toning Highlight Hue : 0
Split Toning Highlight Saturation : 0
Split Toning Balance : 0
Parametric Shadows : 0
Parametric Darks : 0
Parametric Lights : 0
Parametric Highlights : 0
Parametric Shadow Split : 25
Parametric Midtone Split : 50
Parametric Highlight Split : 75
Sharpen Radius : +1.0
Sharpen Detail : 25
Sharpen Edge Masking : 0
Post Crop Vignette Amount : 0
Grain Amount : 0
Color Noise Reduction Detail : 50
Lens Profile Enable : 0
Lens Manual Distortion Amount : 0
Perspective Vertical : 0
Perspective Horizontal : 0
Perspective Rotate : 0.0
Perspective Scale : 100
Convert To Grayscale : False
Tone Curve Name : Medium Contrast
Camera Profile : Adobe Standard
Lens Profile Setup : LensDefaults
Has Settings : True
Has Crop : False
Already Applied : True
Creator : unknown
Tone Curve : 0, 0, 32, 22, 64, 56, 128, 128, 192, 196, 255, 255
Image Width : 200
Image Height : 300
Bits Per Sample : 8
Color Components : 3
Aperture : 13.0
Image Size : 200x300
Megapixels : 0.060
Scale Factor To 35 mm Equivalent : 1.6
Shutter Speed : 1/60
Circle Of Confusion : 0.019 mm
Field Of View : 63.3 deg
Focal Length : 18.0 mm (35 mm equivalent: 29.2 mm)
Hyperfocal Distance : 1.35 m
Light Value : 13.3
Lens ID : 18.0-55.0mm