Uber Exif Photo
Make : Leica Camera AG
Camera Model Name : M9 Digital Camera
Orientation : Horizontal (normal)
Software : Adobe Photoshop CS5 (12.0x20100115 [20100115.m.998 2010/01/15:02:00:00 cutoff; m branch]) Windows
Modify Date : 2010:07:30 13:24:30
Maker Note Safety : Safe
Exposure Time : 1/350
F Number : 2.8
Exposure Program : Aperture-priority AE
ISO : 160
Date/Time Original : 2010:07:30 03:06:07
Create Date : 2010:07:30 03:06:07
Shutter Speed Value : 1/350
Aperture Value : 2.8
Exposure Compensation : +0.332
Max Aperture Value : 1.0
Metering Mode : Center-weighted average
Light Source : Unknown
Flash : No Flash
Color Space : sRGB
Exif Image Width : 1000
Exif Image Height : 667
Scene Type : Directly photographed
Exposure Mode : Manual
White Balance : Auto
Digital Zoom Ratio : 0
Scene Capture Type : Standard
Profile Description : sRGB IEC61966-2.1
Creator Tool : 1.116
Rating : 1
Serial Number : 3810957
Raw File Name : L1002912.DNG
Version : 6.0
Process Version : 5.7
Color Temperature : 6500
Tint : +10
Exposure : -1.25
Shadows : 3
Brightness : +50
Contrast : +25
Saturation : 0
Sharpness : 0
Luminance Smoothing : 0
Color Noise Reduction : 0
Chromatic Aberration R : 0
Chromatic Aberration B : 0
Vignette Amount : 0
Shadow Tint : 0
Red Hue : 0
Red Saturation : 0
Green Hue : 0
Green Saturation : 0
Blue Hue : 0
Blue Saturation : 0
Fill Light : 0
Vibrance : 0
Highlight Recovery : 30
Clarity : +31
Defringe : 0
Hue Adjustment Red : 0
Hue Adjustment Orange : 0
Hue Adjustment Yellow : 0
Hue Adjustment Green : 0
Hue Adjustment Aqua : 0
Hue Adjustment Blue : 0
Hue Adjustment Purple : 0
Hue Adjustment Magenta : 0
Saturation Adjustment Red : 0
Saturation Adjustment Orange : 0
Saturation Adjustment Yellow : 0
Saturation Adjustment Green : 0
Saturation Adjustment Aqua : 0
Saturation Adjustment Blue : 0
Saturation Adjustment Purple : 0
Saturation Adjustment Magenta : 0
Luminance Adjustment Red : 0
Luminance Adjustment Orange : 0
Luminance Adjustment Yellow : 0
Luminance Adjustment Green : 0
Luminance Adjustment Aqua : 0
Luminance Adjustment Blue : 0
Luminance Adjustment Purple : 0
Luminance Adjustment Magenta : 0
Split Toning Shadow Hue : 0
Split Toning Shadow Saturation : 0
Split Toning Highlight Hue : 0
Split Toning Highlight Saturation : 0
Split Toning Balance : 0
Parametric Shadows : 0
Parametric Darks : 0
Parametric Lights : 0
Parametric Highlights : 0
Parametric Shadow Split : 25
Parametric Midtone Split : 50
Parametric Highlight Split : 75
Sharpen Radius : +1.0
Sharpen Detail : 0
Sharpen Edge Masking : 0
Post Crop Vignette Amount : 0
Grain Amount : 0
Convert To Grayscale : False
Tone Curve Name : Medium Contrast
Camera Profile : Embedded
Has Settings : True
Has Crop : False
Already Applied : True
Format : image/jpeg
Color Mode : RGB
ICC Profile Name : sRGB IEC61966-2.1
Date Created : 2010:01:07
Tone Curve : 0, 0, 32, 22, 64, 56, 128, 128, 192, 196, 255, 255
Image Width : 300
Image Height : 200
Bits Per Sample : 8
Color Components : 3
Aperture : 2.8
Image Size : 300x200
Megapixels : 0.060
Scale Factor To 35 mm Equivalent : 5.2
Shutter Speed : 1/350
Circle Of Confusion : 0.006 mm
Light Value : 10.7