Uber Exif Photo
By-line : ruggeroranzani
Copyright Notice : Copyright 2012
Copyright Flag : True
Make : Panasonic
Camera Model Name : DMC-GF1
Orientation : Horizontal (normal)
Software : Adobe Photoshop Lightroom 4.0 (Windows)
Modify Date : 2013:12:22 17:13:02
Artist : ruggeroranzani
Copyright : Copyright 2012
Exposure Time : 1/30
F Number : 1.7
Exposure Program : Program AE
ISO : 800
Date/Time Original : 2013:12:12 19:38:26
Shutter Speed Value : 1/30
Aperture Value : 1.7
Exposure Compensation : 0
Max Aperture Value : 1.7
Metering Mode : Multi-segment
Light Source : Other
Flash : Off, Did not fire
Focal Length : 20.0 mm
Sensing Method : One-chip color area
Scene Type : Directly photographed
Exposure Mode : Auto
White Balance : Manual
Digital Zoom Ratio : 0
Focal Length In 35mm Format : 40 mm
Scene Capture Type : Standard
Gain Control : High gain up
Contrast : Normal
Saturation : Normal
Sharpness : Hard
Lens : LUMIX G 20/F1.7
Lens Serial Number : 02IG3221163
Already Applied : True
Auto Lateral CA : 0
Blacks 2012 : +5
Blue Hue : 0
Blue Saturation : 0
Brightness : +50
Camera Profile : Adobe Standard
Clarity : 0
Clarity 2012 : +9
Color Noise Reduction : 25
Color Noise Reduction Detail : 50
Contrast 2012 : +37
Convert To Grayscale : True
Crop Angle : 0
Crop Bottom : 0.971246
Crop Constrain To Warp : 0
Crop Height : 1185
Crop Left : 0
Crop Right : 0.904192
Crop Top : 0.019169
Crop Unit : pixels
Crop Width : 1500
Defringe : 0
Exposure : 0.00
Exposure 2012 : -0.47
Fill Light : 0
Grain Amount : 0
Gray Mixer Aqua : -26
Gray Mixer Blue : -3
Gray Mixer Green : -19
Gray Mixer Magenta : +18
Gray Mixer Orange : +3
Gray Mixer Purple : +15
Gray Mixer Red : +15
Gray Mixer Yellow : -5
Green Hue : 0
Green Saturation : 0
Has Crop : True
Has Settings : True
Highlight Recovery : 0
Highlights 2012 : -26
Lens Manual Distortion Amount : 0
Lens Profile Enable : 0
Lens Profile Setup : LensDefaults
Luminance Smoothing : 0
Parametric Darks : 0
Parametric Highlight Split : 75
Parametric Highlights : 0
Parametric Lights : 0
Parametric Midtone Split : 50
Parametric Shadow Split : 25
Parametric Shadows : 0
Perspective Horizontal : 0
Perspective Rotate : 0.0
Perspective Scale : 100
Perspective Vertical : 0
Post Crop Vignette Amount : 0
Process Version : 6.7
Red Hue : 0
Red Saturation : 0
Shadow Tint : 0
Shadows : 5
Shadows 2012 : +23
Sharpen Detail : 25
Sharpen Edge Masking : 0
Sharpen Radius : +1.0
Split Toning Balance : 0
Split Toning Highlight Hue : 0
Split Toning Highlight Saturation : 0
Split Toning Shadow Hue : 0
Split Toning Shadow Saturation : 0
Color Temperature : 3150
Tint : 0
Tone Curve Name : Linear
Tone Curve Name 2012 : Medium Contrast
Version : 7.0
Vignette Amount : 0
Whites 2012 : -21
Format : image/jpeg
Create Date : 2013:12:12 19:38:26
Creator Tool : Adobe Photoshop Lightroom 4.0 (Windows)
Category : people
Date Created : 2013:12:12 19:38:26
Marked : True
Tone Curve : 0, 0, 255, 255
Tone Curve Blue : 0, 0, 255, 255
Tone Curve Green : 0, 0, 255, 255
Tone Curve PV2012 : 0, 0, 32, 22, 64, 56, 128, 128, 192, 196, 255, 255
Tone Curve PV2012 Blue : 0, 0, 255, 255
Tone Curve PV2012 Green : 0, 0, 255, 255
Tone Curve PV2012 Red : 0, 0, 255, 255
Tone Curve Red : 0, 0, 255, 255
Creator : ruggeroranzani
Rights : Copyright 2012
Image Width : 300
Image Height : 237
Bits Per Sample : 8
Color Components : 1
Aperture : 1.7
Image Size : 300x237
Megapixels : 0.071
Scale Factor To 35 mm Equivalent : 2.0
Shutter Speed : 1/30
Circle Of Confusion : 0.015 mm
Field Of View : 48.5 deg
Focal Length : 20.0 mm (35 mm equivalent: 40.0 mm)
Hyperfocal Distance : 15.66 m
Light Value : 3.4
Lens ID : LUMIX G 20mm F1.7