Uber Exif Photo
By-line : Photographer:GordonClark
Keywords : Leica M9, Lens, Pitt Meadows, Places, Rangefinder, Zeiss 1.5/50 Sonnar
Copyright Notice : © GordonClark 2010
Copyright Flag : True
Photometric Interpretation : RGB
Make : Leica Camera AG
Camera Model Name : M9 Digital Camera
Orientation : Horizontal (normal)
Planar Configuration : Chunky
Software : Adobe Photoshop CS4 Windows
Modify Date : 2010:11:11 19:40:15
Artist : Photographer:GordonClark
Copyright : © GordonClark 2010
Exposure Time : 1/500
F Number : 2.4
Exposure Program : Aperture-priority AE
ISO : 160
Sensitivity Type : Unknown
Date/Time Original : 2010:11:11 11:32:33
Create Date : 2010:11:11 11:32:33
Shutter Speed Value : 1/500
Aperture Value : 2.4
Exposure Compensation : 0
Max Aperture Value : 1.4
Metering Mode : Center-weighted average
Light Source : Unknown
Focal Length : 50.0 mm
Color Space : Uncalibrated
Exif Image Width : 1280
Exif Image Height : 852
Scene Type : Directly photographed
Exposure Mode : Manual
White Balance : Auto
Digital Zoom Ratio : 0
Focal Length In 35mm Format : 50 mm
Scene Capture Type : Standard
Serial Number : 3906756
Lens Model : Leica Summilux-M 50mm f/1.4 ASPH.
Samples Per Pixel : 3
Date/Time Digitized : 2010:11:11 11:32:33-08:00
Creator Tool : Adobe Photoshop Lightroom
Lens : Leica Summilux-M 50mm f/1.4 ASPH.
Marked : True
Format : image/jpeg
Version : 6.2
Process Version : 5.7
Color Temperature : 6500
Tint : +10
Exposure : +0.24
Shadows : 2
Brightness : +56
Contrast : +36
Saturation : 0
Sharpness : 40
Luminance Smoothing : 10
Color Noise Reduction : 10
Chromatic Aberration R : 0
Chromatic Aberration B : 0
Vignette Amount : 0
Shadow Tint : 0
Red Hue : 0
Red Saturation : 0
Green Hue : 0
Green Saturation : 0
Blue Hue : 0
Blue Saturation : 0
Fill Light : 0
Vibrance : +10
Highlight Recovery : 11
Clarity : +10
Defringe : 0
Hue Adjustment Red : 0
Hue Adjustment Orange : 0
Hue Adjustment Yellow : 0
Hue Adjustment Green : 0
Hue Adjustment Aqua : 0
Hue Adjustment Blue : 0
Hue Adjustment Purple : 0
Hue Adjustment Magenta : 0
Saturation Adjustment Red : 0
Saturation Adjustment Orange : 0
Saturation Adjustment Yellow : 0
Saturation Adjustment Green : 0
Saturation Adjustment Aqua : 0
Saturation Adjustment Blue : 0
Saturation Adjustment Purple : 0
Saturation Adjustment Magenta : 0
Luminance Adjustment Red : 0
Luminance Adjustment Orange : 0
Luminance Adjustment Yellow : 0
Luminance Adjustment Green : 0
Luminance Adjustment Aqua : 0
Luminance Adjustment Blue : 0
Luminance Adjustment Purple : 0
Luminance Adjustment Magenta : 0
Split Toning Shadow Hue : 0
Split Toning Shadow Saturation : 0
Split Toning Highlight Hue : 0
Split Toning Highlight Saturation : 0
Split Toning Balance : 0
Parametric Shadows : 0
Parametric Darks : 0
Parametric Lights : 0
Parametric Highlights : 0
Parametric Shadow Split : 25
Parametric Midtone Split : 50
Parametric Highlight Split : 75
Sharpen Radius : +0.8
Sharpen Detail : 35
Sharpen Edge Masking : 0
Post Crop Vignette Amount : -35
Post Crop Vignette Midpoint : 50
Post Crop Vignette Feather : 50
Post Crop Vignette Roundness : 0
Post Crop Vignette Style : Highlight Priority
Post Crop Vignette Highlight Contrast : 0
Grain Amount : 0
Luminance Noise Reduction Detail : 50
Color Noise Reduction Detail : 0
Luminance Noise Reduction Contrast : 0
Lens Profile Enable : 0
Lens Manual Distortion Amount : 0
Perspective Vertical : 0
Perspective Horizontal : 0
Perspective Rotate : 0.0
Perspective Scale : 100
Convert To Grayscale : False
Tone Curve Name : Medium Contrast
Camera Profile : Embedded
Lens Profile Setup : LensDefaults
Has Settings : True
Crop Top : 0
Crop Left : 0.017391
Crop Bottom : 0.905139
Crop Right : 0.92253
Crop Angle : 0
Crop Constrain To Warp : 0
Crop Width : 4718
Crop Height : 3139
Crop Unit : pixels
Has Crop : True
Already Applied : True
Raw File Name : L1000917-Edit.tif
Color Mode : Grayscale
ICC Profile Name : Gray Gamma 2.2
Flash Fired : False
Flash Return : No return detection
Flash Mode : Unknown
Flash Function : False
Flash Red Eye Mode : False
Creator Work Email : info@gclarkphoto.ca
Creator Work URL : www.gclarkphoto.ca
Creator : Photographer:GordonClark
Rights : © GordonClark 2010
Subject : Leica M9, Lens, Pitt Meadows, Places, Rangefinder, Zeiss 1.5/50 Sonnar
Tone Curve : 0, 0, 32, 22, 64, 56, 128, 128, 192, 196, 255, 255
Hierarchical Subject : Lens|Zeiss 1.5/50 Sonnar, Places|Pitt Meadows, Rangefinder|Leica M9
Image Width : 300
Image Height : 200
Bits Per Sample : 8
Color Components : 1
Aperture : 2.4
Image Size : 300x200
Megapixels : 0.060
Scale Factor To 35 mm Equivalent : 1.0
Shutter Speed : 1/500
Flash : No Flash
Circle Of Confusion : 0.030 mm
Field Of View : 39.6 deg
Focal Length : 50.0 mm (35 mm equivalent: 50.0 mm)
Hyperfocal Distance : 34.67 m
Light Value : 10.8
Lens ID : Summilux-M 50mm f/1.4 ASPH.