Uber Exif Photo
By-line : ruggeroranzani
Copyright Notice : Copyright 2012
Copyright Flag : True
Make : Epson
Camera Model Name : PerfectionV600
Orientation : Horizontal (normal)
Software : Adobe Photoshop Lightroom 4.0 (Windows)
Modify Date : 2014:01:07 19:51:31
Artist : ruggeroranzani
Copyright : Copyright 2012
Already Applied : True
Blacks 2012 : -42
Brightness : 0
Clarity : 0
Clarity 2012 : 0
Contrast : 0
Contrast 2012 : +30
Crop Angle : 0
Crop Bottom : 0.985229
Crop Constrain To Warp : 0
Crop Height : 1200
Crop Left : 0.150613
Crop Right : 0.908932
Crop Top : 0.026588
Crop Unit : pixels
Crop Width : 800
Exposure : 0.00
Exposure 2012 : -0.12
Fill Light : 0
Grain Amount : 0
Has Crop : True
Has Settings : True
Highlight Recovery : 0
Highlights 2012 : -21
Lens Manual Distortion Amount : 0
Lens Profile Enable : 0
Lens Profile Setup : LensDefaults
Luminance Smoothing : 0
Parametric Darks : 0
Parametric Highlight Split : 75
Parametric Highlights : 0
Parametric Lights : 0
Parametric Midtone Split : 50
Parametric Shadow Split : 25
Parametric Shadows : 0
Perspective Horizontal : 0
Perspective Rotate : 0.0
Perspective Scale : 100
Perspective Vertical : 0
Post Crop Vignette Amount : 0
Process Version : 6.7
Shadows : 0
Shadows 2012 : -5
Sharpen Detail : 25
Sharpen Edge Masking : 0
Sharpen Radius : +1.0
Sharpness : 0
Split Toning Balance : 0
Split Toning Highlight Hue : 0
Split Toning Highlight Saturation : 0
Split Toning Shadow Hue : 0
Split Toning Shadow Saturation : 0
Tone Curve Name : Linear
Tone Curve Name 2012 : Medium Contrast
Version : 7.0
Vignette Amount : 0
Whites 2012 : -16
Format : image/jpeg
Create Date : 2014:01:06 17:09:03
Creator Tool : Microsoft Windows Live Photo Gallery 15.4.3555.308
Category : people
Marked : True
Tone Curve : 0, 0, 255, 255
Tone Curve Blue : 0, 0, 255, 255
Tone Curve Green : 0, 0, 255, 255
Tone Curve PV2012 : 0, 0, 32, 22, 64, 56, 128, 128, 192, 196, 255, 255
Tone Curve PV2012 Blue : 0, 0, 255, 255
Tone Curve PV2012 Green : 0, 0, 255, 255
Tone Curve PV2012 Red : 0, 0, 255, 255
Tone Curve Red : 0, 0, 255, 255
Creator : ruggeroranzani
Rights : Copyright 2012
Pipeline Version : 01.00
Camera Model ID :
Stream Type : 3
White Balance 0 : 2.497562
White Balance 1 : 1.000000
White Balance 2 : 1.051616
Exposure Compensation : 0.000000
Image Width : 200
Image Height : 300
Bits Per Sample : 8
Color Components : 1
Image Size : 200x300
Megapixels : 0.060