Uber Exif Photo
Copyright Notice : dierk topp
Copyright Flag : True
Software : Microsoft ICE v1.3.5.0
Modify Date : 2010:11:20 21:05:01
Copyright : dierk topp
Date/Time Original : 2010:11:20 16:01:21
Create Date : 2010:11:20 16:01:21
Color Space : Uncalibrated
Profile Description : sRGB IEC61966-2.1
Rights : dierk topp
Contrast : High
Date/Time Digitized : 2010:11:20 16:01:21Z
Exif Image Width : 1153
Exif Image Height : 1000
Sharpness : Hard
Property Release Status : Unknown (nil)
PLUS Version : 1.2.0
Creator Tool : Adobe Photoshop Lightroom
Rating : 5
Marked : True
Already Applied : True
Blue Hue : 0
Blue Saturation : 0
Brightness : +50
Camera Profile : Embedded
Chromatic Aberration B : 0
Chromatic Aberration R : 0
Clarity : -51
Color Noise Reduction : 25
Convert To Grayscale : True
Defringe : 0
Exposure : 0.00
Fill Light : 5
Gray Mixer Aqua : -10
Gray Mixer Blue : +20
Gray Mixer Green : -19
Gray Mixer Magenta : +28
Gray Mixer Orange : +4
Gray Mixer Purple : +25
Gray Mixer Red : +29
Gray Mixer Yellow : -13
Green Hue : 0
Green Saturation : 0
Has Crop : False
Has Settings : True
Highlight Recovery : 0
Incremental Temperature : +8
Incremental Tint : -16
Luminance Smoothing : 0
Parametric Darks : -17
Parametric Highlight Split : 75
Parametric Highlights : 0
Parametric Lights : +28
Parametric Midtone Split : 50
Parametric Shadow Split : 25
Parametric Shadows : 0
Post Crop Vignette Amount : 0
Red Hue : 0
Red Saturation : 0
Shadow Tint : 0
Shadows : 0
Sharpen Detail : 25
Sharpen Edge Masking : 35
Sharpen Radius : +1.0
Split Toning Balance : 0
Split Toning Highlight Hue : 52
Split Toning Highlight Saturation : 44
Split Toning Shadow Hue : 37
Split Toning Shadow Saturation : 28
Tone Curve : 0, 0, 32, 22, 64, 56, 128, 128, 192, 196, 255, 255
Tone Curve Name : Medium Contrast
Version : 6.1
Vignette Amount : 0
Image Width : 300
Image Height : 263
Bits Per Sample : 8
Color Components : 3
Image Size : 300x263
Megapixels : 0.079