Uber Exif Photo
Make : Leica Camera AG
Camera Model Name : M9 Digital Camera
Orientation : Horizontal (normal)
Software : Adobe Photoshop CS4 Windows
Modify Date : 2010:11:23 23:37:07
Maker Note Safety : Safe
Exposure Time : 1/125
Exposure Program : Aperture-priority AE
ISO : 400
Date/Time Original : 2010:09:05 10:18:46
Create Date : 2010:09:05 10:18:46
Shutter Speed Value : 1/125
Exposure Compensation : +0.332
Max Aperture Value : 2.0
Metering Mode : Center-weighted average
Light Source : Unknown
Focal Length : 35.0 mm
Color Space : Uncalibrated
Exif Image Width : 1246
Exif Image Height : 840
Scene Type : Directly photographed
Exposure Mode : Manual
White Balance : Auto
Digital Zoom Ratio : 0
Focal Length In 35mm Format : 35 mm
Scene Capture Type : Standard
Photometric Interpretation : BlackIsZero
Samples Per Pixel : 1
Date/Time Digitized : 2010:09:05 10:18:46+02:00
Creator Tool : 1.138
Rating : 0
Serial Number : 3804377
Raw File Name : L9996815.DNG
Version : 5.4
Color Temperature : 4650
Tint : +1
Exposure : +0.70
Shadows : 28
Brightness : +50
Contrast : +33
Sharpness : 83
Luminance Smoothing : 8
Color Noise Reduction : 25
Chromatic Aberration R : 0
Chromatic Aberration B : 0
Vignette Amount : 0
Shadow Tint : 0
Red Hue : 0
Red Saturation : 0
Green Hue : 0
Green Saturation : 0
Blue Hue : 0
Blue Saturation : 0
Fill Light : 23
Highlight Recovery : 28
Clarity : +75
Defringe : 0
Gray Mixer Red : -36
Gray Mixer Orange : +32
Gray Mixer Yellow : +16
Gray Mixer Green : -8
Gray Mixer Aqua : -72
Gray Mixer Blue : -64
Gray Mixer Purple : -80
Gray Mixer Magenta : +31
Split Toning Shadow Hue : 0
Split Toning Shadow Saturation : 0
Split Toning Highlight Hue : 0
Split Toning Highlight Saturation : 0
Split Toning Balance : +26
Parametric Shadows : +19
Parametric Darks : +18
Parametric Lights : +13
Parametric Highlights : -8
Parametric Shadow Split : 25
Parametric Midtone Split : 50
Parametric Highlight Split : 76
Sharpen Radius : +1.7
Sharpen Detail : 68
Sharpen Edge Masking : 0
Post Crop Vignette Amount : 0
Convert To Grayscale : True
Tone Curve Name : Medium Contrast
Camera Profile : Adobe Standard
Has Settings : True
Has Crop : False
Already Applied : True
Format : image/jpeg
Color Mode : Grayscale
ICC Profile Name : Gray Gamma 2.2
Flash Fired : False
Flash Return : No return detection
Flash Mode : Unknown
Flash Function : False
Flash Red Eye Mode : False
Tone Curve : 0, 0, 32, 22, 64, 56, 128, 128, 192, 196, 255, 255
Image Width : 300
Image Height : 202
Bits Per Sample : 8
Color Components : 1
Image Size : 300x202
Megapixels : 0.061
Scale Factor To 35 mm Equivalent : 1.0
Shutter Speed : 1/125
Flash : No Flash
Circle Of Confusion : 0.030 mm
Field Of View : 54.4 deg
Focal Length : 35.0 mm (35 mm equivalent: 35.0 mm)