Uber Exif Photo
Caption-Abstract : SONY DSC
Image Description : SONY DSC
Make : SONY
Camera Model Name : NEX-5
Software : NEX-5 v1.05
Modify Date : 2010:11:29 22:08:33
Exposure Time : 1/4000
F Number : 1.0
Exposure Program : Shutter speed priority AE
ISO : 200
Sensitivity Type : Recommended Exposure Index
Recommended Exposure Index : 200
Date/Time Original : 2010:11:26 11:17:21
Create Date : 2010:11:26 11:17:21
Shutter Speed Value : 1/4000
Aperture Value : 1.0
Brightness Value : 3.87
Exposure Compensation : 0
Max Aperture Value : 1.0
Metering Mode : Spot
Light Source : Unknown
Scene Type : Directly photographed
Custom Rendered : Normal
Exposure Mode : Auto
White Balance : Auto
Scene Capture Type : Standard
Contrast : Normal
Saturation : Normal
Sharpness : Normal
Lens Model : ----
Date/Time Digitized : 2010:11:26 11:17:21+08:00
Exif Image Width : 1000
Exif Image Height : 561
Creator Tool : Adobe Photoshop Lightroom
Lens : ----
Version : 6.2
Process Version : 5.7
Incremental Temperature : 0
Incremental Tint : +28
Exposure : -0.75
Shadows : 15
Brightness : +102
Luminance Smoothing : 0
Color Noise Reduction : 25
Chromatic Aberration R : 0
Chromatic Aberration B : 0
Vignette Amount : 0
Shadow Tint : +8
Red Hue : +96
Red Saturation : +3
Green Hue : +11
Green Saturation : +25
Blue Hue : +11
Blue Saturation : -70
Fill Light : 73
Highlight Recovery : 100
Clarity : +100
Defringe : 0
Gray Mixer Red : -14
Gray Mixer Orange : -17
Gray Mixer Yellow : -18
Gray Mixer Green : -18
Gray Mixer Aqua : -8
Gray Mixer Blue : +9
Gray Mixer Purple : +8
Gray Mixer Magenta : -5
Split Toning Shadow Hue : 0
Split Toning Shadow Saturation : 0
Split Toning Highlight Hue : 0
Split Toning Highlight Saturation : 0
Split Toning Balance : 0
Parametric Shadows : 0
Parametric Darks : 0
Parametric Lights : 0
Parametric Highlights : 0
Parametric Shadow Split : 25
Parametric Midtone Split : 50
Parametric Highlight Split : 75
Sharpen Radius : +1.0
Sharpen Detail : 25
Sharpen Edge Masking : 0
Post Crop Vignette Amount : 0
Grain Amount : 0
Color Noise Reduction Detail : 50
Lens Profile Enable : 0
Lens Manual Distortion Amount : 0
Perspective Vertical : 0
Perspective Horizontal : 0
Perspective Rotate : 0.0
Perspective Scale : 100
Convert To Grayscale : True
Tone Curve Name : Medium Contrast
Camera Profile : Embedded
Lens Profile Setup : LensDefaults
Has Settings : True
Crop Top : 0.044872
Crop Left : 0
Crop Bottom : 0.955128
Crop Right : 0.910256
Crop Angle : 0
Crop Constrain To Warp : 0
Crop Width : 1000
Crop Height : 561
Crop Unit : pixels
Has Crop : True
Already Applied : True
Flash Fired : False
Flash Return : No return detection
Flash Mode : Off
Flash Function : False
Flash Red Eye Mode : False
Description : SONY DSC
Tone Curve : 0, 0, 32, 22, 64, 56, 128, 128, 192, 196, 255, 255
Gradient Based Corr What : Correction
Gradient Based Corr Amount : 1.000000
Gradient Based Corr Active : true
Gradient Based Corr Exposure : -0.388235
Gradient Based Corr Saturation : 0.000000
Gradient Based Corr Contrast : 0.250000
Gradient Based Corr Clarity : 0.000000
Gradient Based Corr Sharpness : 0.000000
Gradient Based Corr Brightness : -0.105882
Gradient Based Corr Toning Hue : 240.000000
Gradient Based Corr Toning Saturation : 0.000000
Gradient Based Corr Mask What : Mask/Gradient
Gradient Based Corr Mask Value : 1.000000
Gradient Based Corr Mask Zero X : 0.447348
Gradient Based Corr Mask Zero Y : 0.441917
Gradient Based Corr Mask Full X : 0.443458
Gradient Based Corr Mask Full Y : 0.129829
Image Width : 300
Image Height : 168
Bits Per Sample : 8
Color Components : 1
Aperture : 1.0
Image Size : 300x168
Megapixels : 0.050
Shutter Speed : 1/4000
Flash : Off, Did not fire
Light Value : 11.0