Uber Exif Photo
Keywords : blip
Make : LEICA CAMERA AG
Camera Model Name : LEICA X1
Software : 1.0
Modify Date : 2010:04:04 11:59:02
Exposure Time : 1/125
F Number : 4.0
Exposure Program : Program AE
ISO : 100
Date/Time Original : 2010:04:03 11:17:18
Create Date : 2010:04:03 11:17:18
Shutter Speed Value : 1/125
Aperture Value : 4.0
Exposure Compensation : 0
Max Aperture Value : 2.8
Subject Distance : 7 m
Metering Mode : Multi-segment
Light Source : Unknown
Focal Length : 24.0 mm
Sensing Method : One-chip color area
Custom Rendered : Custom
White Balance : Auto
Digital Zoom Ratio : 1
Focal Length In 35mm Format : 35 mm
Scene Capture Type : Landscape
Contrast : Normal
Saturation : Normal
Sharpness : Hard
Profile Description : sRGB IEC61966-2.1
Date/Time Digitized : 2010:04:03 11:17:18+03:00
Exif Image Width : 501
Exif Image Height : 900
Creator Tool : Adobe Photoshop Lightroom
Version : 5.6.1
Incremental Temperature : 0
Incremental Tint : 0
Exposure : 0.00
Shadows : 15
Brightness : +50
Luminance Smoothing : 0
Color Noise Reduction : 0
Chromatic Aberration R : 0
Chromatic Aberration B : 0
Vignette Amount : -100
Vignette Midpoint : 30
Shadow Tint : 0
Red Hue : 0
Red Saturation : 0
Green Hue : 0
Green Saturation : 0
Blue Hue : 0
Blue Saturation : 0
Fill Light : 0
Highlight Recovery : 0
Clarity : +60
Defringe : 0
Gray Mixer Red : +14
Gray Mixer Orange : +14
Gray Mixer Yellow : -13
Gray Mixer Green : +5
Gray Mixer Aqua : -14
Gray Mixer Blue : +13
Gray Mixer Purple : +5
Gray Mixer Magenta : +11
Split Toning Shadow Hue : 0
Split Toning Shadow Saturation : 18
Split Toning Highlight Hue : 0
Split Toning Highlight Saturation : 2
Split Toning Balance : 0
Parametric Shadows : -20
Parametric Darks : 0
Parametric Lights : +9
Parametric Highlights : 0
Parametric Shadow Split : 25
Parametric Midtone Split : 50
Parametric Highlight Split : 75
Sharpen Radius : +1.0
Sharpen Detail : 25
Sharpen Edge Masking : 0
Post Crop Vignette Amount : 0
Convert To Grayscale : True
Tone Curve Name : Medium Contrast
Camera Profile : Embedded
Has Settings : True
Crop Top : 0.068028
Crop Left : 0
Crop Bottom : 0.901361
Crop Right : 1
Crop Angle : 0
Crop Width : 900
Crop Height : 501
Crop Unit : pixels
Has Crop : True
Already Applied : True
Flash Fired : False
Flash Return : No return detection
Flash Mode : Off
Flash Function : False
Flash Red Eye Mode : False
Subject : blip
Tone Curve : 0, 0, 32, 22, 64, 56, 128, 128, 192, 196, 255, 255
Image Width : 167
Image Height : 300
Bits Per Sample : 8
Color Components : 3
Aperture : 4.0
Image Size : 167x300
Megapixels : 0.050
Scale Factor To 35 mm Equivalent : 1.5
Shutter Speed : 1/125
Flash : Off, Did not fire
Circle Of Confusion : 0.021 mm
Depth Of Field : 3696.60 m (3.50 - 3700.11 m)
Field Of View : 54.4 deg
Focal Length : 24.0 mm (35 mm equivalent: 35.0 mm)
Hyperfocal Distance : 6.99 m
Light Value : 11.0