Uber Exif Photo
Keywords : Arches NP, Utah, canyon, landscape
Copyright Notice : Jim Vehe
Make : Leica Camera AG
Camera Model Name : M8 Digital Camera
Software : 2.005
Modify Date : 2010:12:11 13:54:34
Copyright : Jim Vehe
Exposure Time : 1/500
F Number : 4.0
Exposure Program : Manual
ISO : 160
Sensitivity Type : Unknown
Date/Time Original : 2010:11:03 21:32:46
Create Date : 2010:11:03 21:32:46
Shutter Speed Value : 1/500
Aperture Value : 4.0
Exposure Compensation : 0
Max Aperture Value : 1.0
Metering Mode : Center-weighted average
Light Source : Unknown
Scene Type : Directly photographed
White Balance : Manual
Digital Zoom Ratio : 0
Scene Capture Type : Standard
Serial Number : 3109646
Profile Description : ProPhoto RGB
Date/Time Digitized : 2010:11:03 21:32:46-05:00
Exif Image Width : 1657
Exif Image Height : 800
Creator Tool : Adobe Photoshop Lightroom 3.3
Rating : 3
Version : 6.3
Process Version : 5.7
Color Temperature : 5600
Tint : +2
Exposure : +0.78
Shadows : 46
Brightness : +43
Contrast : +25
Saturation : +8
Sharpness : 94
Luminance Smoothing : 0
Color Noise Reduction : 25
Chromatic Aberration R : 0
Chromatic Aberration B : 0
Vignette Amount : 0
Shadow Tint : 0
Red Hue : 0
Red Saturation : 0
Green Hue : 0
Green Saturation : 0
Blue Hue : 0
Blue Saturation : 0
Fill Light : 0
Vibrance : +31
Highlight Recovery : 0
Clarity : +33
Defringe : 0
Hue Adjustment Red : 0
Hue Adjustment Orange : 0
Hue Adjustment Yellow : 0
Hue Adjustment Green : 0
Hue Adjustment Aqua : 0
Hue Adjustment Blue : 0
Hue Adjustment Purple : 0
Hue Adjustment Magenta : 0
Saturation Adjustment Red : 0
Saturation Adjustment Orange : 0
Saturation Adjustment Yellow : 0
Saturation Adjustment Green : 0
Saturation Adjustment Aqua : 0
Saturation Adjustment Blue : 0
Saturation Adjustment Purple : 0
Saturation Adjustment Magenta : 0
Luminance Adjustment Red : 0
Luminance Adjustment Orange : 0
Luminance Adjustment Yellow : 0
Luminance Adjustment Green : 0
Luminance Adjustment Aqua : 0
Luminance Adjustment Blue : 0
Luminance Adjustment Purple : 0
Luminance Adjustment Magenta : 0
Split Toning Shadow Hue : 0
Split Toning Shadow Saturation : 0
Split Toning Highlight Hue : 0
Split Toning Highlight Saturation : 0
Split Toning Balance : 0
Parametric Shadows : 0
Parametric Darks : 0
Parametric Lights : 0
Parametric Highlights : 0
Parametric Shadow Split : 25
Parametric Midtone Split : 50
Parametric Highlight Split : 75
Sharpen Radius : +0.6
Sharpen Detail : 8
Sharpen Edge Masking : 45
Post Crop Vignette Amount : 0
Grain Amount : 0
Color Noise Reduction Detail : 50
Lens Profile Enable : 0
Lens Manual Distortion Amount : 0
Perspective Vertical : 0
Perspective Horizontal : 0
Perspective Rotate : 0.0
Perspective Scale : 100
Convert To Grayscale : False
Tone Curve Name : Custom
Camera Profile : Adobe Standard
Lens Profile Setup : LensDefaults
Has Settings : True
Crop Top : 0
Crop Left : 0.020645
Crop Bottom : 0.658349
Crop Right : 0.938065
Crop Angle : 0
Crop Constrain To Warp : 0
Crop Width : 1657
Crop Height : 800
Crop Unit : pixels
Has Crop : True
Already Applied : True
Flash Fired : False
Flash Return : No return detection
Flash Mode : Off
Flash Function : False
Flash Red Eye Mode : False
Rights : Jim Vehe
Subject : Arches NP, Utah, canyon, landscape
Tone Curve : 0, 0, 47, 38, 201, 212, 255, 255
Image Width : 300
Image Height : 145
Bits Per Sample : 8
Color Components : 3
Aperture : 4.0
Image Size : 300x145
Megapixels : 0.043
Shutter Speed : 1/500
Flash : Off, Did not fire
Light Value : 12.3