Uber Exif Photo
Make : Leica Camera AG
Camera Model Name : M8 Digital Camera
Software : 2.004
Modify Date : 2010:12:15 10:24:44
Exposure Time : 1/500
F Number : 8.0
Exposure Program : Manual
ISO : 160
Sensitivity Type : Unknown
Date/Time Original : 2010:12:07 18:15:50
Create Date : 2010:12:07 18:15:50
Shutter Speed Value : 1/500
Aperture Value : 8.0
Exposure Compensation : 0
Max Aperture Value : 2.8
Metering Mode : Center-weighted average
Light Source : Unknown
Focal Length : 90.0 mm
Scene Type : Directly photographed
White Balance : Auto
Digital Zoom Ratio : 0
Focal Length In 35mm Format : 121 mm
Scene Capture Type : Standard
Serial Number : 3197396
Lens Model : Leica Tele-Elmarit-M 90mm f/2.8 (II)
Profile Description : sRGB IEC61966-2.1
Date/Time Digitized : 2010:12:07 18:15:50-08:00
Exif Image Width : 3802
Exif Image Height : 2557
Creator Tool : Adobe Photoshop Lightroom 3.3
Rating : 3
Lens : Leica Tele-Elmarit-M 90mm f/2.8 (II)
Version : 6.3
Process Version : 5.7
Color Temperature : 5523
Tint : 0
Exposure : -0.55
Shadows : 16
Brightness : 0
Contrast : +11
Saturation : +7
Sharpness : 25
Luminance Smoothing : 0
Color Noise Reduction : 25
Chromatic Aberration R : 0
Chromatic Aberration B : 0
Vignette Amount : 0
Shadow Tint : 0
Red Hue : 0
Red Saturation : 0
Green Hue : 0
Green Saturation : 0
Blue Hue : 0
Blue Saturation : 0
Fill Light : 0
Vibrance : 0
Highlight Recovery : 100
Clarity : +9
Defringe : 0
Hue Adjustment Red : 0
Hue Adjustment Orange : 0
Hue Adjustment Yellow : 0
Hue Adjustment Green : 0
Hue Adjustment Aqua : 0
Hue Adjustment Blue : 0
Hue Adjustment Purple : 0
Hue Adjustment Magenta : 0
Saturation Adjustment Red : 0
Saturation Adjustment Orange : 0
Saturation Adjustment Yellow : 0
Saturation Adjustment Green : 0
Saturation Adjustment Aqua : 0
Saturation Adjustment Blue : 0
Saturation Adjustment Purple : 0
Saturation Adjustment Magenta : 0
Luminance Adjustment Red : 0
Luminance Adjustment Orange : 0
Luminance Adjustment Yellow : 0
Luminance Adjustment Green : 0
Luminance Adjustment Aqua : 0
Luminance Adjustment Blue : 0
Luminance Adjustment Purple : 0
Luminance Adjustment Magenta : 0
Split Toning Shadow Hue : 0
Split Toning Shadow Saturation : 0
Split Toning Highlight Hue : 0
Split Toning Highlight Saturation : 0
Split Toning Balance : 0
Parametric Shadows : 0
Parametric Darks : 0
Parametric Lights : 0
Parametric Highlights : 0
Parametric Shadow Split : 10
Parametric Midtone Split : 62
Parametric Highlight Split : 75
Sharpen Radius : +1.0
Sharpen Detail : 25
Sharpen Edge Masking : 0
Post Crop Vignette Amount : 0
Grain Amount : 0
Color Noise Reduction Detail : 50
Lens Profile Enable : 0
Lens Manual Distortion Amount : 0
Perspective Vertical : 0
Perspective Horizontal : 0
Perspective Rotate : 0.0
Perspective Scale : 100
Convert To Grayscale : False
Tone Curve Name : Medium Contrast
Camera Profile : Adobe Standard
Lens Profile Setup : LensDefaults
Has Settings : True
Crop Top : 0
Crop Left : 0.021394
Crop Bottom : 1
Crop Right : 0.978606
Crop Angle : 1.16962
Crop Constrain To Warp : 1
Crop Width : 3802
Crop Height : 2557
Crop Unit : pixels
Has Crop : True
Already Applied : True
Flash Fired : False
Flash Return : No return detection
Flash Mode : Off
Flash Function : False
Flash Red Eye Mode : False
Tone Curve : 0, 0, 32, 22, 64, 56, 128, 128, 192, 196, 255, 255
Paint Correction What : Correction
Paint Correction Amount : 1.000000
Paint Correction Active : true
Paint Correction Exposure : 0.000000
Paint Correction Saturation : 0.000000
Paint Correction Contrast : 0.000000
Paint Correction Clarity : 0.176471
Paint Correction Sharpness : 0.000000
Paint Correction Brightness : 0.000000
Paint Correction Toning Hue : 240.000000
Paint Correction Toning Saturation : 0.000000
Paint Correction Mask What : Mask/Paint
Paint Correction Mask Value : 0.632184
Paint Correction Mask Radius : 0.002304
Paint Correction Mask Flow : 0.237586
Paint Correction Mask Center Weight : 0.182126
Image Width : 300
Image Height : 202
Bits Per Sample : 8
Color Components : 3
Aperture : 8.0
Image Size : 300x202
Megapixels : 0.061
Scale Factor To 35 mm Equivalent : 1.3
Shutter Speed : 1/500
Flash : Off, Did not fire
Circle Of Confusion : 0.022 mm
Field Of View : 16.9 deg
Focal Length : 90.0 mm (35 mm equivalent: 121.0 mm)
Hyperfocal Distance : 45.31 m
Light Value : 14.3
Lens ID : Tele-Elmarit-M 90mm f/2.8 (II)