Uber Exif Photo
Object Name : Blockheide
By-line : Norbert Roesner
Copyright Notice : © 2010 Norbert Roesner
Copyright Flag : True
Make : Leica Camera AG
Camera Model Name : M9 Digital Camera
Software : 1.116
Modify Date : 2010:12:19 22:32:40
Artist : Norbert Roesner
Copyright : (C) 2010 Norbert Roesner
Exposure Time : 1/125
F Number : 3.4
Exposure Program : Manual
ISO : 160
Sensitivity Type : Unknown
Date/Time Original : 2010:07:15 12:00:18
Create Date : 2010:07:15 12:00:18
Shutter Speed Value : 1/125
Aperture Value : 3.4
Exposure Compensation : 0
Max Aperture Value : 2.0
Metering Mode : Center-weighted average
Light Source : Unknown
Focal Length : 35.0 mm
Contrast : Normal
Sharpening : Normal
Saturation : Normal
JPEG Quality : Fine
White Balance : Auto
WB RGB Levels : 0.466076864 1 0.8010560798
User Profile : Auto
JPEG Size : 5216x3472
Firmware Version : 1.116
Base ISO : 160
Sensor Width : 5270
Sensor Height : 3516
Sensor Bit Depth : 14
Camera Temperature : 25 C
Lens Type : Summicron-M 35mm f/2 ASPH.
Approximate F Number : 3.5
Measured LV : 4.76
External Sensor Brightness Value : 4.00
Scene Type : Directly photographed
Exposure Mode : Manual
Digital Zoom Ratio : 0
Focal Length In 35mm Format : 35 mm
Scene Capture Type : Standard
Serial Number : 3837195
Lens Model : Leica Summicron-M 35mm f/2 ASPH.
Maker Note Safety : Safe
Date/Time Digitized : 2010:07:15 12:00:18+02:00
Exif Image Width : 3000
Exif Image Height : 1996
Creator Tool : Adobe Photoshop Lightroom 3.3
Lens : Leica Summicron-M 35mm f/2 ASPH.
Marked : True
Version : 6.3
Process Version : 5.7
Color Temperature : 4950
Tint : -8
Exposure : -0.15
Shadows : 5
Brightness : +32
Sharpness : 61
Luminance Smoothing : 20
Color Noise Reduction : 25
Chromatic Aberration R : 0
Chromatic Aberration B : 0
Vignette Amount : 0
Shadow Tint : 0
Red Hue : 0
Red Saturation : 0
Green Hue : 0
Green Saturation : 0
Blue Hue : 0
Blue Saturation : 0
Fill Light : 14
Highlight Recovery : 83
Clarity : 0
Defringe : 0
Gray Mixer Red : +21
Gray Mixer Orange : -7
Gray Mixer Yellow : +10
Gray Mixer Green : -10
Gray Mixer Aqua : 0
Gray Mixer Blue : +33
Gray Mixer Purple : -29
Gray Mixer Magenta : +76
Split Toning Shadow Hue : 0
Split Toning Shadow Saturation : 0
Split Toning Highlight Hue : 0
Split Toning Highlight Saturation : 0
Split Toning Balance : 0
Parametric Shadows : -20
Parametric Darks : -12
Parametric Lights : +62
Parametric Highlights : -31
Parametric Shadow Split : 25
Parametric Midtone Split : 50
Parametric Highlight Split : 75
Sharpen Radius : +1.0
Sharpen Detail : 33
Sharpen Edge Masking : 0
Post Crop Vignette Amount : -10
Post Crop Vignette Midpoint : 50
Post Crop Vignette Feather : 50
Post Crop Vignette Roundness : 0
Post Crop Vignette Style : Highlight Priority
Post Crop Vignette Highlight Contrast : 0
Grain Amount : 0
Luminance Noise Reduction Detail : 50
Color Noise Reduction Detail : 50
Luminance Noise Reduction Contrast : 0
Lens Profile Enable : 0
Lens Manual Distortion Amount : 0
Perspective Vertical : 0
Perspective Horizontal : 0
Perspective Rotate : 0.0
Perspective Scale : 100
Convert To Grayscale : True
Tone Curve Name : Linear
Camera Profile : Adobe Standard
Lens Profile Setup : LensDefaults
Has Settings : True
Has Crop : False
Already Applied : True
Flash Fired : False
Flash Return : No return detection
Flash Mode : Unknown
Flash Function : False
Flash Red Eye Mode : False
Creator Country : Austria
Creator : Norbert Roesner
Title : Blockheide
Rights : © 2010 Norbert Roesner
Usage Terms : all rights reserved
Tone Curve : 0, 0, 255, 255
Image Width : 300
Image Height : 200
Bits Per Sample : 8
Color Components : 1
Aperture : 3.4
Blue Balance : 0.801056
Image Size : 300x200
Lens ID : Leica Summicron-M 35mm f/2 ASPH.
Megapixels : 0.060
Red Balance : 0.466077
Scale Factor To 35 mm Equivalent : 1.0
Shutter Speed : 1/125
Flash : No Flash
Circle Of Confusion : 0.030 mm
Field Of View : 54.4 deg
Focal Length : 35.0 mm (35 mm equivalent: 35.0 mm)
Hyperfocal Distance : 11.99 m
Light Value : 9.8