Uber Exif Photo
Make : Leica Camera AG
Camera Model Name : M8 Digital Camera
Software : 2.004
Modify Date : 2010:12:28 20:23:36
Exposure Time : 1/180
F Number : 4.0
Exposure Program : Aperture-priority AE
ISO : 160
Sensitivity Type : Unknown
Date/Time Original : 2010:02:03 17:46:58
Create Date : 2010:02:03 17:46:58
Shutter Speed Value : 1/180
Aperture Value : 4.0
Exposure Compensation : 0
Max Aperture Value : 2.8
Metering Mode : Center-weighted average
Light Source : Unknown
Focal Length : 28.0 mm
Scene Type : Directly photographed
White Balance : Manual
Digital Zoom Ratio : 0
Focal Length In 35mm Format : 38 mm
Scene Capture Type : Standard
Serial Number : 3561165
Lens Model : Leica Elmarit-M 28mm f/2.8 ASPH.
Profile Description : sRGB IEC61966-2.1
Date/Time Digitized : 2010:02:03 17:46:58+11:00
Exif Image Width : 3916
Exif Image Height : 2634
Creator Tool : Adobe Photoshop Lightroom
Rating : 1
Version : 6.2
Process Version : 5.0
Color Temperature : 5550
Tint : -4
Exposure : 0.00
Shadows : 2
Brightness : +50
Contrast : +25
Sharpness : 25
Luminance Smoothing : 0
Color Noise Reduction : 25
Chromatic Aberration R : 0
Chromatic Aberration B : 0
Vignette Amount : 0
Shadow Tint : 0
Red Hue : 0
Red Saturation : 0
Green Hue : 0
Green Saturation : 0
Blue Hue : 0
Blue Saturation : 0
Fill Light : 26
Highlight Recovery : 0
Clarity : +50
Defringe : 0
Gray Mixer Red : +39
Gray Mixer Orange : +12
Gray Mixer Yellow : -9
Gray Mixer Green : -17
Gray Mixer Aqua : -10
Gray Mixer Blue : +20
Gray Mixer Purple : +25
Gray Mixer Magenta : +32
Split Toning Shadow Hue : 37
Split Toning Shadow Saturation : 32
Split Toning Highlight Hue : 51
Split Toning Highlight Saturation : 22
Split Toning Balance : 0
Parametric Shadows : 0
Parametric Darks : -17
Parametric Lights : +28
Parametric Highlights : 0
Parametric Shadow Split : 25
Parametric Midtone Split : 50
Parametric Highlight Split : 75
Sharpen Radius : +1.0
Sharpen Detail : 25
Sharpen Edge Masking : 0
Post Crop Vignette Amount : 0
Grain Amount : 0
Lens Profile Enable : 0
Lens Manual Distortion Amount : 0
Perspective Vertical : 0
Perspective Horizontal : 0
Perspective Rotate : 0.0
Perspective Scale : 100
Convert To Grayscale : True
Tone Curve Name : Medium Contrast
Camera Profile : Adobe Standard
Lens Profile Setup : LensDefaults
Has Settings : True
Has Crop : False
Already Applied : True
Flash Fired : False
Flash Return : No return detection
Flash Mode : Auto
Flash Function : False
Flash Red Eye Mode : False
Tone Curve : 0, 0, 32, 22, 64, 56, 128, 128, 192, 196, 255, 255
Image Width : 300
Image Height : 202
Bits Per Sample : 8
Color Components : 3
Aperture : 4.0
Image Size : 300x202
Megapixels : 0.061
Scale Factor To 35 mm Equivalent : 1.4
Shutter Speed : 1/180
Flash : Auto, Did not fire
Circle Of Confusion : 0.022 mm
Field Of View : 50.7 deg
Focal Length : 28.0 mm (35 mm equivalent: 38.0 mm)
Hyperfocal Distance : 8.85 m
Light Value : 10.8
Lens ID : Leica Elmarit-M 28mm f/2.8 ASPH.