Uber Exif Photo
Keywords : Nola Ana Fred Tulley Jen Joe John Green
Photometric Interpretation : RGB
Make : LEICA CAMERA AG
Camera Model Name : LEICA X1
Orientation : Horizontal (normal)
Planar Configuration : Chunky
Software : Adobe Photoshop CS4 Macintosh
Modify Date : 2011:01:15 00:09:34
Exposure Time : 1/4
F Number : 5.6
Exposure Program : Aperture-priority AE
ISO : 800
Date/Time Original : 2011:01:14 16:24:39
Create Date : 2011:01:14 16:24:39
Shutter Speed Value : 1/4
Aperture Value : 5.6
Exposure Compensation : 0
Max Aperture Value : 2.8
Subject Distance : 0.65 m
Metering Mode : Multi-segment
Light Source : Unknown
Focal Length : 24.0 mm
Color Space : sRGB
Exif Image Width : 805
Exif Image Height : 1202
Sensing Method : One-chip color area
Custom Rendered : Normal
White Balance : Auto
Digital Zoom Ratio : 1
Focal Length In 35mm Format : 35 mm
Scene Capture Type : Landscape
Contrast : Normal
Saturation : Normal
Sharpness : Normal
Samples Per Pixel : 3
Date/Time Digitized : 2011:01:14 16:24:39-06:00
Creator Tool : Adobe Photoshop Lightroom
Serial Number : 000003827360
Lens Info : 24mm f/2.8
Lens : 24.0 mm f/2.8
Format : image/jpeg
Version : 5.6
Color Temperature : 4850
Tint : +2
Exposure : 0.00
Shadows : 23
Brightness : +20
Luminance Smoothing : 0
Color Noise Reduction : 34
Chromatic Aberration R : 0
Chromatic Aberration B : 0
Vignette Amount : 0
Shadow Tint : 0
Red Hue : 0
Red Saturation : 0
Green Hue : 0
Green Saturation : 0
Blue Hue : 0
Blue Saturation : 0
Fill Light : 47
Highlight Recovery : 20
Clarity : +26
Defringe : 0
Gray Mixer Red : +21
Gray Mixer Orange : 0
Gray Mixer Yellow : 0
Gray Mixer Green : +40
Gray Mixer Aqua : 0
Gray Mixer Blue : +39
Gray Mixer Purple : 0
Gray Mixer Magenta : 0
Split Toning Shadow Hue : 0
Split Toning Shadow Saturation : 0
Split Toning Highlight Hue : 0
Split Toning Highlight Saturation : 0
Split Toning Balance : 0
Parametric Shadows : 0
Parametric Darks : 0
Parametric Lights : +4
Parametric Highlights : -2
Parametric Shadow Split : 25
Parametric Midtone Split : 50
Parametric Highlight Split : 75
Sharpen Radius : +1.0
Sharpen Detail : 25
Sharpen Edge Masking : 0
Post Crop Vignette Amount : -38
Post Crop Vignette Midpoint : 50
Post Crop Vignette Feather : 65
Post Crop Vignette Roundness : 0
Convert To Grayscale : True
Tone Curve Name : Medium Contrast
Camera Profile : Adobe Standard
Has Settings : True
Crop Top : 0.004124
Crop Left : 0.192838
Crop Bottom : 0.811286
Crop Right : 1
Crop Angle : 0
Crop Width : 3448
Crop Height : 2305
Crop Unit : pixels
Has Crop : True
Already Applied : True
Color Mode : RGB
ICC Profile Name : sRGB IEC61966-2.1
Flash Fired : False
Flash Return : No return detection
Flash Mode : Off
Flash Function : False
Flash Red Eye Mode : False
Subject : Nola Ana Fred Tulley Jen Joe John Green
Tone Curve : 0, 0, 32, 22, 64, 56, 128, 128, 192, 196, 255, 255
Image Width : 201
Image Height : 300
Bits Per Sample : 8
Color Components : 1
Aperture : 5.6
Image Size : 201x300
Megapixels : 0.060
Scale Factor To 35 mm Equivalent : 1.5
Shutter Speed : 1/4
Flash : Off, Did not fire
Circle Of Confusion : 0.021 mm
Depth Of Field : 0.17 m (0.58 - 0.74 m)
Field Of View : 54.4 deg
Focal Length : 24.0 mm (35 mm equivalent: 35.0 mm)
Hyperfocal Distance : 4.99 m
Light Value : 4.0
Lens ID : 24.0mm f/2.8