Uber Exif Photo
Make : LEICA CAMERA AG
Camera Model Name : LEICA X1
Orientation : Horizontal (normal)
Software : Adobe Photoshop Elements 8.0 Macintosh
Modify Date : 2011:01:15 16:34:52
Maker Note Safety : Safe
Exposure Time : 1/400
F Number : 5.0
Exposure Program : Program AE
ISO : 200
Date/Time Original : 2011:01:15 10:17:32
Create Date : 2011:01:15 10:17:32
Shutter Speed Value : 1/400
Aperture Value : 5.0
Exposure Compensation : 0
Max Aperture Value : 2.8
Metering Mode : Multi-segment
Light Source : Unknown
Color Space : sRGB
Exif Image Width : 1871
Exif Image Height : 1041
Sensing Method : One-chip color area
Custom Rendered : Custom
White Balance : Auto
Digital Zoom Ratio : 1
Focal Length In 35mm Format : 35 mm
Scene Capture Type : Landscape
Contrast : High
Saturation : Normal
Sharpness : Hard
Profile Description : sRGB IEC61966-2.1
Date/Time Digitized : 2011:01:15 10:17:32+08:00
Creator Tool : 1.0
Rating : 0
Serial Number : 000003826660
Lens Info : 24mm f/2.8
Lens : 24.0 mm f/2.8
Raw File Name : L9992511.DNG
Version : 5.5
Color Temperature : 5550
Tint : +22
Exposure : -0.05
Shadows : 25
Brightness : +50
Luminance Smoothing : 0
Color Noise Reduction : 25
Chromatic Aberration R : 0
Chromatic Aberration B : 0
Vignette Amount : 0
Shadow Tint : 0
Red Hue : 0
Red Saturation : 0
Green Hue : 0
Green Saturation : 0
Blue Hue : 0
Blue Saturation : 0
Fill Light : 17
Vibrance : +10
Highlight Recovery : 25
Clarity : +32
Defringe : 0
Hue Adjustment Red : 0
Hue Adjustment Orange : 0
Hue Adjustment Yellow : 0
Hue Adjustment Green : 0
Hue Adjustment Aqua : 0
Hue Adjustment Blue : 0
Hue Adjustment Purple : 0
Hue Adjustment Magenta : 0
Saturation Adjustment Red : 0
Saturation Adjustment Orange : 0
Saturation Adjustment Yellow : 0
Saturation Adjustment Green : 0
Saturation Adjustment Aqua : 0
Saturation Adjustment Blue : 0
Saturation Adjustment Purple : 0
Saturation Adjustment Magenta : 0
Luminance Adjustment Red : 0
Luminance Adjustment Orange : 0
Luminance Adjustment Yellow : 0
Luminance Adjustment Green : 0
Luminance Adjustment Aqua : 0
Luminance Adjustment Blue : 0
Luminance Adjustment Purple : 0
Luminance Adjustment Magenta : 0
Split Toning Shadow Hue : 0
Split Toning Shadow Saturation : 0
Split Toning Highlight Hue : 0
Split Toning Highlight Saturation : 0
Split Toning Balance : 0
Parametric Shadows : 0
Parametric Darks : 0
Parametric Lights : 0
Parametric Highlights : 0
Parametric Shadow Split : 25
Parametric Midtone Split : 50
Parametric Highlight Split : 75
Sharpen Radius : +1.0
Sharpen Detail : 25
Sharpen Edge Masking : 0
Post Crop Vignette Amount : 0
Convert To Grayscale : False
Tone Curve Name : Medium Contrast
Camera Profile : Adobe Standard
Has Settings : True
Crop Top : 0.417983
Crop Left : 0.284322
Crop Bottom : 0.782503
Crop Right : 0.722177
Crop Angle : 0
Has Crop : True
Already Applied : True
Format : image/jpeg
Color Mode : RGB
ICC Profile Name : sRGB IEC61966-2.1
Flash Fired : False
Flash Return : No return detection
Flash Mode : Off
Flash Function : False
Flash Red Eye Mode : False
Tone Curve : 0, 0, 32, 22, 64, 56, 128, 128, 192, 196, 255, 255
Image Width : 300
Image Height : 167
Bits Per Sample : 8
Color Components : 3
Aperture : 5.0
Image Size : 300x167
Megapixels : 0.050
Shutter Speed : 1/400
Flash : Off, Did not fire
Light Value : 12.3
Lens ID : 24.0mm f/2.8