Uber Exif Photo
Caption-Abstract : This grocer takes no notice of his overwhelming surroundings
By-line : Carol How
By-line Title : Photographer
Object Name : Overwhelmed
Province-State : BC
Country-Primary Location Name : Canada
Keywords : Canada, Vancouver, Nikon D800E, Vancity, graphic, cityscape, lifestyle, art, graffiti, urban, street, street photography, Commercial Drive, Zeiss
Copyright Notice : Copyright Carol Ann How, all rights reseved
Copyright Flag : True
Image Description : This grocer takes no notice of his overwhelming surroundings
Make : NIKON CORPORATION
Camera Model Name : NIKON D800E
Orientation : Horizontal (normal)
Software : Adobe Photoshop CS6 (Macintosh)
Modify Date : 2014:03:15 22:47:32
Artist : Carol How
Copyright : Copyright Carol Ann How, all rights reseved
Exposure Time : 1/160
F Number : 8.0
Exposure Program : Manual
ISO : 250
Sensitivity Type : Recommended Exposure Index
Date/Time Original : 2014:03:09 16:08:42
Create Date : 2014:03:09 16:08:42
Shutter Speed Value : 1/160
Aperture Value : 8.0
Exposure Compensation : 0
Max Aperture Value : 2.0
Metering Mode : Multi-segment
Light Source : Unknown
Flash : Off, Did not fire
Focal Length : 100.0 mm
User Comment : CarolHow
Color Space : Uncalibrated
Exif Image Width : 1600
Exif Image Height : 1143
Sensing Method : One-chip color area
Scene Type : Directly photographed
CFA Pattern : [Red,Green][Green,Blue]
Custom Rendered : Normal
Exposure Mode : Manual
White Balance : Auto
Digital Zoom Ratio : 1
Focal Length In 35mm Format : 100 mm
Scene Capture Type : Standard
Gain Control : None
Contrast : Normal
Saturation : Normal
Sharpness : Normal
Subject Distance Range : Unknown
Serial Number : 5003573
Lens Info : 100mm f/2
Lens Model : Zeiss Makro-Planar T* 2/100 ZF.2
Profile Description : Adobe RGB (1998)
Creator Tool : Ver.1.02
Rating : 0
Format : image/jpeg
Lens : Zeiss Makro-Planar T* 2/100 ZF.2
Image Number : 2044
Authors Position : Photographer
State : BC
Country : Canada
Date Created : 2014:03:09 16:08:42.005
Color Mode : RGB
ICC Profile Name : Adobe RGB (1998)
Intellectual Genre : Copyright, Carol How, All rights reserved
Marked : True
Raw File Name : _DSC1833A.tif
Version : 8.3
Process Version : 6.7
Auto White Version : 134348800
Incremental Temperature : 0
Incremental Tint : 0
Luminance Smoothing : 0
Color Noise Reduction : 0
Vignette Amount : 0
Shadow Tint : 0
Red Hue : 0
Red Saturation : 0
Green Hue : 0
Green Saturation : 0
Blue Hue : 0
Blue Saturation : 0
Vibrance : 0
Hue Adjustment Red : 0
Hue Adjustment Orange : 0
Hue Adjustment Yellow : 0
Hue Adjustment Green : 0
Hue Adjustment Aqua : 0
Hue Adjustment Blue : 0
Hue Adjustment Purple : 0
Hue Adjustment Magenta : 0
Saturation Adjustment Red : 0
Saturation Adjustment Orange : 0
Saturation Adjustment Yellow : 0
Saturation Adjustment Green : 0
Saturation Adjustment Aqua : 0
Saturation Adjustment Blue : 0
Saturation Adjustment Purple : 0
Saturation Adjustment Magenta : 0
Luminance Adjustment Red : 0
Luminance Adjustment Orange : 0
Luminance Adjustment Yellow : 0
Luminance Adjustment Green : 0
Luminance Adjustment Aqua : 0
Luminance Adjustment Blue : 0
Luminance Adjustment Purple : 0
Luminance Adjustment Magenta : 0
Split Toning Shadow Hue : 0
Split Toning Shadow Saturation : 0
Split Toning Highlight Hue : 0
Split Toning Highlight Saturation : 0
Split Toning Balance : 0
Parametric Shadows : 0
Parametric Darks : 0
Parametric Lights : 0
Parametric Highlights : 0
Parametric Shadow Split : 25
Parametric Midtone Split : 50
Parametric Highlight Split : 75
Sharpen Radius : +1.0
Sharpen Detail : 25
Sharpen Edge Masking : 0
Post Crop Vignette Amount : 0
Grain Amount : 0
Lens Profile Enable : 0
Lens Manual Distortion Amount : 0
Perspective Vertical : 0
Perspective Horizontal : 0
Perspective Rotate : 0.0
Perspective Scale : 100
Perspective Aspect : 0
Perspective Upright : Off
Auto Lateral CA : 0
Exposure 2012 : 0.00
Contrast 2012 : +16
Highlights 2012 : 0
Shadows 2012 : +65
Whites 2012 : 0
Blacks 2012 : 0
Clarity 2012 : 0
Defringe Purple Amount : 0
Defringe Purple Hue Lo : 30
Defringe Purple Hue Hi : 70
Defringe Green Amount : 0
Defringe Green Hue Lo : 40
Defringe Green Hue Hi : 60
Convert To Grayscale : False
Tone Curve Name 2012 : Linear
Camera Profile : Embedded
Lens Profile Setup : LensDefaults
Has Settings : True
Crop Top : 0
Crop Left : 0.002886
Crop Bottom : 1
Crop Right : 0.905797
Crop Angle : 0
Crop Constrain To Warp : 1
Has Crop : True
Already Applied : True
Creator : Carol How
Rights : Copyright Carol Ann How, all rights reseved
Title : Overwhelmed
Description : This grocer takes no notice of his overwhelming surroundings
Subject : Canada, Vancouver, Nikon D800E, Vancity, graphic, cityscape, lifestyle, art, graffiti, urban, street, street photography, Commercial Drive, Zeiss
Creator City : Surrey
Creator Region : BC
Creator Country : Canada
Creator Work Email : carolhow@shaw.ca; how.carol@yahoo.com
Usage Terms : all rights reserved
Tone Curve PV2012 : 0, 0, 255, 255
Tone Curve PV2012 Red : 0, 0, 255, 255
Tone Curve PV2012 Green : 0, 0, 255, 255
Tone Curve PV2012 Blue : 0, 0, 255, 255
Location Created Sublocation : Spanish Banks
Location Created City : Vancouver
Location Created Province State : BC
Image Width : 300
Image Height : 214
Bits Per Sample : 8
Color Components : 3
Aperture : 8.0
Image Size : 300x214
Megapixels : 0.064
Scale Factor To 35 mm Equivalent : 1.0
Shutter Speed : 1/160
Create Date : 2014:03:09 16:08:42.5
Date/Time Original : 2014:03:09 16:08:42.50
Circle Of Confusion : 0.030 mm
Field Of View : 20.4 deg
Focal Length : 100.0 mm (35 mm equivalent: 100.0 mm)
Hyperfocal Distance : 41.60 m
Light Value : 12.0