Uber Exif Photo
Keywords : Bed and Breakfast, Digital, Leitz, Pennsylvania, Rangefinder, Sweetwater Farms, leica, m8, pa
By-line : R.W. Sinclair
Copyright Notice : R.W.Sinclair
Copyright Flag : True
Make : Leica Camera AG
Camera Model Name : M8 Digital Camera
Software : 2.005
Modify Date : 2011:02:01 02:41:09
Copyright : R.W.Sinclair
Exposure Time : 1/90
F Number : 4.8
Exposure Program : Aperture-priority AE
ISO : 320
Sensitivity Type : Unknown
Date/Time Original : 2011:01:30 12:25:54
Create Date : 2011:01:30 12:25:54
Shutter Speed Value : 1/90
Aperture Value : 4.8
Exposure Compensation : 0
Max Aperture Value : 1.0
Metering Mode : Center-weighted average
Light Source : Unknown
Scene Type : Directly photographed
White Balance : Auto
Digital Zoom Ratio : 0
Scene Capture Type : Standard
Serial Number : 3100867
Profile Description : sRGB IEC61966-2.1
Date/Time Digitized : 2011:01:30 12:25:54-05:00
Exif Image Width : 2000
Exif Image Height : 1345
Creator Tool : Adobe Photoshop Lightroom 3.3
Rating : 4
Marked : True
Version : 6.3
Process Version : 5.7
Color Temperature : 6111
Tint : +10
Exposure : 0.00
Shadows : 9
Brightness : +5
Contrast : +28
Saturation : 0
Sharpness : 67
Luminance Smoothing : 0
Color Noise Reduction : 25
Chromatic Aberration R : 0
Chromatic Aberration B : 0
Vignette Amount : 0
Shadow Tint : 0
Red Hue : 0
Red Saturation : 0
Green Hue : 0
Green Saturation : 0
Blue Hue : 0
Blue Saturation : 0
Fill Light : 26
Vibrance : 0
Highlight Recovery : 21
Clarity : 0
Defringe : 0
Hue Adjustment Red : 0
Hue Adjustment Orange : 0
Hue Adjustment Yellow : 0
Hue Adjustment Green : 0
Hue Adjustment Aqua : 0
Hue Adjustment Blue : 0
Hue Adjustment Purple : 0
Hue Adjustment Magenta : 0
Saturation Adjustment Red : -29
Saturation Adjustment Orange : -16
Saturation Adjustment Yellow : 0
Saturation Adjustment Green : 0
Saturation Adjustment Aqua : 0
Saturation Adjustment Blue : 0
Saturation Adjustment Purple : 0
Saturation Adjustment Magenta : 0
Luminance Adjustment Red : 0
Luminance Adjustment Orange : 0
Luminance Adjustment Yellow : 0
Luminance Adjustment Green : 0
Luminance Adjustment Aqua : 0
Luminance Adjustment Blue : 0
Luminance Adjustment Purple : 0
Luminance Adjustment Magenta : 0
Split Toning Shadow Hue : 0
Split Toning Shadow Saturation : 0
Split Toning Highlight Hue : 0
Split Toning Highlight Saturation : 0
Split Toning Balance : 0
Parametric Shadows : 0
Parametric Darks : 0
Parametric Lights : 0
Parametric Highlights : 0
Parametric Shadow Split : 25
Parametric Midtone Split : 50
Parametric Highlight Split : 75
Sharpen Radius : +1.0
Sharpen Detail : 25
Sharpen Edge Masking : 0
Post Crop Vignette Amount : 0
Grain Amount : 0
Color Noise Reduction Detail : 50
Lens Profile Enable : 0
Lens Manual Distortion Amount : 0
Perspective Vertical : 0
Perspective Horizontal : 0
Perspective Rotate : 0.0
Perspective Scale : 100
Convert To Grayscale : False
Tone Curve Name : Medium Contrast
Camera Profile : Adobe Standard
Lens Profile Setup : LensDefaults
Has Settings : True
Crop Top : 0.026343
Crop Left : 0.007212
Crop Bottom : 0.973657
Crop Right : 0.992788
Crop Angle : -1.04256
Crop Constrain To Warp : 0
Crop Width : 2000
Crop Height : 1345
Crop Unit : pixels
Has Crop : True
Already Applied : True
Flash Fired : False
Flash Return : No return detection
Flash Mode : Auto
Flash Function : False
Flash Red Eye Mode : False
Creator Postal Code : 19707
Creator Region : DE
Creator Country : United States of America
Creator City : Hockessin
Creator Work Email : rwphoto@me.com
Creator : R.W. Sinclair
Rights : R.W.Sinclair
Subject : Bed and Breakfast, Digital, Leitz, Pennsylvania, Rangefinder, Sweetwater Farms, leica, m8, pa
Tone Curve : 0, 0, 32, 22, 64, 56, 128, 128, 192, 196, 255, 255
Paint Correction What : Correction
Paint Correction Amount : 1.000000
Paint Correction Active : true
Paint Correction Exposure : 0.000000
Paint Correction Saturation : 0.000000
Paint Correction Contrast : 0.000000
Paint Correction Clarity : -1.000000
Paint Correction Sharpness : 0.250000
Paint Correction Brightness : 0.000000
Paint Correction Toning Hue : 240.000000
Paint Correction Toning Saturation : 0.000000
Paint Correction Mask What : Mask/Paint
Paint Correction Mask Value : 0.920455
Paint Correction Mask Radius : 0.032787
Paint Correction Mask Flow : 0.590345
Paint Correction Mask Center Weight : 0.173904
Image Width : 300
Image Height : 202
Bits Per Sample : 8
Color Components : 3
Aperture : 4.8
Image Size : 300x202
Megapixels : 0.061
Scale Factor To 35 mm Equivalent : 2.6
Shutter Speed : 1/90
Flash : Auto, Did not fire
Circle Of Confusion : 0.011 mm
Light Value : 9.3