Uber Exif Photo
Keywords : cajun teaparty
Photometric Interpretation : RGB
Make : LEICA CAMERA AG
Camera Model Name : LEICA X1
Orientation : Horizontal (normal)
Planar Configuration : Chunky
Software : Adobe Photoshop CS4 Macintosh
Modify Date : 2011:02:02 23:50:48
Exposure Time : 1/80
F Number : 5.6
Exposure Program : Aperture-priority AE
ISO : 400
Date/Time Original : 2011:02:02 17:19:19
Create Date : 2011:02:02 17:19:19
Shutter Speed Value : 1/80
Aperture Value : 5.6
Exposure Compensation : +0.3
Max Aperture Value : 2.8
Subject Distance : 4.5 m
Metering Mode : Multi-segment
Light Source : Unknown
Focal Length : 24.0 mm
Color Space : sRGB
Exif Image Width : 807
Exif Image Height : 1205
Sensing Method : One-chip color area
Custom Rendered : Normal
White Balance : Auto
Digital Zoom Ratio : 1
Focal Length In 35mm Format : 35 mm
Scene Capture Type : Landscape
Contrast : Normal
Saturation : Normal
Sharpness : Normal
Profile Description : sRGB IEC61966-2.1
Samples Per Pixel : 3
Date/Time Digitized : 2011:02:02 17:19:19-06:00
Creator Tool : Adobe Photoshop Lightroom
Serial Number : 000003827360
Lens Info : 24mm f/2.8
Lens : 24.0 mm f/2.8
Format : image/jpeg
Version : 5.6
Color Temperature : 5450
Tint : +13
Exposure : 0.00
Shadows : 39
Brightness : +50
Luminance Smoothing : 21
Color Noise Reduction : 25
Chromatic Aberration R : 0
Chromatic Aberration B : 0
Vignette Amount : 0
Shadow Tint : 0
Red Hue : 0
Red Saturation : 0
Green Hue : 0
Green Saturation : 0
Blue Hue : 0
Blue Saturation : 0
Fill Light : 51
Highlight Recovery : 0
Clarity : 0
Defringe : 0
Gray Mixer Red : -49
Gray Mixer Orange : -51
Gray Mixer Yellow : -81
Gray Mixer Green : -25
Gray Mixer Aqua : -19
Gray Mixer Blue : -34
Gray Mixer Purple : +30
Gray Mixer Magenta : -43
Split Toning Shadow Hue : 40
Split Toning Shadow Saturation : 8
Split Toning Highlight Hue : 38
Split Toning Highlight Saturation : 3
Split Toning Balance : 0
Parametric Shadows : 0
Parametric Darks : 0
Parametric Lights : 0
Parametric Highlights : 0
Parametric Shadow Split : 25
Parametric Midtone Split : 50
Parametric Highlight Split : 75
Sharpen Radius : +1.0
Sharpen Detail : 25
Sharpen Edge Masking : 0
Post Crop Vignette Amount : -19
Post Crop Vignette Midpoint : 50
Post Crop Vignette Feather : 80
Post Crop Vignette Roundness : 0
Convert To Grayscale : True
Tone Curve Name : Medium Contrast
Camera Profile : Adobe Standard
Has Settings : True
Crop Top : 0
Crop Left : 0.320202
Crop Bottom : 0.67662
Crop Right : 0.933496
Crop Angle : 2.64706
Crop Width : 2880
Crop Height : 1925
Crop Unit : pixels
Has Crop : True
Already Applied : True
Color Mode : RGB
ICC Profile Name : sRGB IEC61966-2.1
Flash Fired : True
Flash Return : Return detected
Flash Mode : On
Flash Function : False
Flash Red Eye Mode : False
Subject : cajun teaparty
Tone Curve : 0, 0, 32, 22, 64, 56, 128, 128, 192, 196, 255, 255
Image Width : 201
Image Height : 300
Bits Per Sample : 8
Color Components : 3
Aperture : 5.6
Image Size : 201x300
Megapixels : 0.060
Scale Factor To 35 mm Equivalent : 1.5
Shutter Speed : 1/80
Flash : On, Return detected
Circle Of Confusion : 0.021 mm
Depth Of Field : 41.14 m (2.37 - 43.51 m)
Field Of View : 54.4 deg
Focal Length : 24.0 mm (35 mm equivalent: 35.0 mm)
Hyperfocal Distance : 4.99 m
Light Value : 9.3
Lens ID : 24.0mm f/2.8