Uber Exif Photo
By-line : Alfonso de Castro
By-line Title : Professor in University of Barcelona
Province-State : Zaragoza
Country-Primary Location Name : Spain
Sub-location : AT HOME
Keywords : at home, pedrola
Copyright Notice : ©Alfonso de Castro
Software : 2.000
Modify Date : 2011:02:10 11:54:38
Artist : Alfonso de Castro
Exposure Time : 1/20
F Number : 2.4
ISO : 160
Sensitivity Type : Unknown
Shutter Speed Value : 1/20
Aperture Value : 2.4
Max Aperture Value : 1.0
Scene Type : Directly photographed
White Balance : Auto
Digital Zoom Ratio : 0
Serial Number : 3108098
Make : Leica Camera AG
Camera Model Name : M8 Digital Camera
Exposure Program : Manual
Date/Time Original : 2008-10-06T13:14:47+02:00
Create Date : 2008-10-06T13:14:47+02:00
Exposure Compensation : -0.664
Metering Mode : Center-weighted average
Light Source : Unknown
Exif Image Width : 807
Exif Image Height : 1200
Scene Capture Type : Standard
Orientation : Horizontal (normal)
Profile Description : Adobe RGB (1998)
Samples Per Pixel : 3
Photometric Interpretation : RGB
Date/Time Digitized : 2008:10:06 13:14:47
Flash Fired : False
Flash Return : No return detection
Flash Mode : On
Flash Function : False
Flash Red Eye Mode : False
Creator Tool : Adobe Photoshop Lightroom
Country : Spain
City : Pedrola
State : Zaragoza
Authors Position : Professor in University of Barcelona
Creator : Alfonso de Castro
Subject : at home, pedrola
Rights : ©Alfonso de Castro
Creator Postal Code : 08001
Creator Country : Spain
Creator Work Email : alfondc@gmail.com
Creator Work Telephone : 34 656257817
Creator City : Barcelona
Creator Address : Carme 95, 5º-4ª
Creator Work URL : alfonsodecastro.info
Location : AT HOME
Marked : True
Version : 6.2
Process Version : 5.7
Color Temperature : 12500
Tint : +35
Exposure : +0.75
Shadows : 11
Brightness : +57
Contrast : +25
Saturation : -100
Sharpness : 25
Luminance Smoothing : 0
Color Noise Reduction : 25
Chromatic Aberration R : 0
Chromatic Aberration B : 0
Vignette Amount : 0
Shadow Tint : +8
Red Hue : +96
Red Saturation : +3
Green Hue : +11
Green Saturation : +25
Blue Hue : +11
Blue Saturation : -70
Fill Light : 0
Vibrance : 0
Highlight Recovery : 0
Clarity : 0
Defringe : 0
Hue Adjustment Red : 0
Hue Adjustment Orange : 0
Hue Adjustment Yellow : 0
Hue Adjustment Green : 0
Hue Adjustment Aqua : 0
Hue Adjustment Blue : 0
Hue Adjustment Purple : 0
Hue Adjustment Magenta : 0
Saturation Adjustment Red : 0
Saturation Adjustment Orange : 0
Saturation Adjustment Yellow : 0
Saturation Adjustment Green : 0
Saturation Adjustment Aqua : 0
Saturation Adjustment Blue : 0
Saturation Adjustment Purple : 0
Saturation Adjustment Magenta : 0
Luminance Adjustment Red : 0
Luminance Adjustment Orange : 0
Luminance Adjustment Yellow : 0
Luminance Adjustment Green : 0
Luminance Adjustment Aqua : 0
Luminance Adjustment Blue : 0
Luminance Adjustment Purple : 0
Luminance Adjustment Magenta : 0
Split Toning Shadow Hue : 0
Split Toning Shadow Saturation : 0
Split Toning Highlight Hue : 51
Split Toning Highlight Saturation : 25
Split Toning Balance : 0
Parametric Shadows : -14
Parametric Darks : -3
Parametric Lights : 0
Parametric Highlights : 0
Parametric Shadow Split : 25
Parametric Midtone Split : 50
Parametric Highlight Split : 75
Sharpen Radius : +1.0
Sharpen Detail : 25
Sharpen Edge Masking : 0
Post Crop Vignette Amount : -35
Post Crop Vignette Midpoint : 50
Post Crop Vignette Feather : 50
Post Crop Vignette Roundness : 0
Post Crop Vignette Style : Highlight Priority
Post Crop Vignette Highlight Contrast : 0
Grain Amount : 0
Color Noise Reduction Detail : 50
Lens Profile Enable : 0
Lens Manual Distortion Amount : 0
Perspective Vertical : 0
Perspective Horizontal : 0
Perspective Rotate : 0.0
Perspective Scale : 100
Convert To Grayscale : False
Tone Curve Name : Linear
Tone Curve : 0, 0, 255, 255
Camera Profile : Adobe Standard
Lens Profile Setup : LensDefaults
Has Settings : True
Has Crop : False
Already Applied : True
Image Width : 202
Image Height : 300
Bits Per Sample : 8
Color Components : 3
Aperture : 2.4
Image Size : 202x300
Megapixels : 0.061
Scale Factor To 35 mm Equivalent : 4.4
Shutter Speed : 1/20
Flash : On, Did not fire
Circle Of Confusion : 0.007 mm
Light Value : 6.2