Uber Exif Photo
Keywords : Bonaire, Curacao, Las Aves, Venezuela, e-p1, islands, leica, olympus, tropics, x1
Make : LEICA CAMERA AG
Camera Model Name : LEICA X1
Software : 1.0
Modify Date : 2011:02:23 15:39:36
Exposure Time : 1/2000
F Number : 9.0
Exposure Program : Manual
ISO : 100
Sensitivity Type : Unknown
Date/Time Original : 2011:02:18 09:57:52
Create Date : 2011:02:18 09:57:52
Shutter Speed Value : 1/2000
Aperture Value : 9.0
Exposure Compensation : 0
Max Aperture Value : 2.8
Subject Distance : 4 m
Metering Mode : Multi-segment
Light Source : Unknown
Focal Length : 24.0 mm
Original File Name : L1020128.DNG
Original Directory : 102LEICA
Focus Distance : 4 m
Exposure Mode : Manual
File Index : 128
Film Mode : Standard
WB RGB Levels : 0.5458422175 1 0.7071823204
Internal Serial Number : 000000000000
Sensing Method : One-chip color area
Custom Rendered : Normal
White Balance : Auto
Digital Zoom Ratio : 1
Focal Length In 35mm Format : 35 mm
Scene Capture Type : Landscape
Contrast : Normal
Saturation : Normal
Sharpness : Normal
Serial Number : 000003839675
Lens Info : 24mm f/2.8
Lens Model : 24.0 mm f/2.8
Maker Note Safety : Safe
Profile Description : sRGB IEC61966-2.1
Date/Time Digitized : 2011:02:18 09:57:52-05:00
Exif Image Width : 1280
Exif Image Height : 856
Creator Tool : Adobe Photoshop Lightroom 3.3
Lens : 24.0 mm f/2.8
Approximate Focus Distance : 4
Version : 6.3
Process Version : 5.7
Color Temperature : 5050
Tint : +11
Exposure : +1.35
Shadows : 5
Brightness : +50
Luminance Smoothing : 0
Color Noise Reduction : 25
Chromatic Aberration R : 0
Chromatic Aberration B : 0
Vignette Amount : 0
Shadow Tint : 0
Red Hue : 0
Red Saturation : 0
Green Hue : 0
Green Saturation : 0
Blue Hue : 0
Blue Saturation : 0
Fill Light : 27
Vibrance : 0
Highlight Recovery : 0
Clarity : 0
Defringe : 0
Hue Adjustment Red : 0
Hue Adjustment Orange : 0
Hue Adjustment Yellow : 0
Hue Adjustment Green : 0
Hue Adjustment Aqua : 0
Hue Adjustment Blue : 0
Hue Adjustment Purple : 0
Hue Adjustment Magenta : 0
Saturation Adjustment Red : 0
Saturation Adjustment Orange : 0
Saturation Adjustment Yellow : 0
Saturation Adjustment Green : 0
Saturation Adjustment Aqua : 0
Saturation Adjustment Blue : 0
Saturation Adjustment Purple : 0
Saturation Adjustment Magenta : 0
Luminance Adjustment Red : 0
Luminance Adjustment Orange : 0
Luminance Adjustment Yellow : 0
Luminance Adjustment Green : 0
Luminance Adjustment Aqua : 0
Luminance Adjustment Blue : 0
Luminance Adjustment Purple : 0
Luminance Adjustment Magenta : 0
Split Toning Shadow Hue : 0
Split Toning Shadow Saturation : 0
Split Toning Highlight Hue : 0
Split Toning Highlight Saturation : 0
Split Toning Balance : 0
Parametric Shadows : 0
Parametric Darks : 0
Parametric Lights : 0
Parametric Highlights : 0
Parametric Shadow Split : 25
Parametric Midtone Split : 50
Parametric Highlight Split : 75
Sharpen Radius : +1.0
Sharpen Detail : 25
Sharpen Edge Masking : 0
Post Crop Vignette Amount : 0
Grain Amount : 0
Color Noise Reduction Detail : 50
Lens Profile Enable : 0
Lens Manual Distortion Amount : 0
Perspective Vertical : 0
Perspective Horizontal : 0
Perspective Rotate : 0.0
Perspective Scale : 100
Convert To Grayscale : False
Tone Curve Name : Medium Contrast
Camera Profile : Adobe Standard
Lens Profile Setup : LensDefaults
Has Settings : True
Has Crop : False
Already Applied : True
Flash Fired : False
Flash Return : No return detection
Flash Mode : Off
Flash Function : False
Flash Red Eye Mode : False
Subject : Bonaire, Curacao, Las Aves, Venezuela, e-p1, islands, leica, olympus, tropics, x1
Tone Curve : 0, 0, 32, 22, 64, 56, 128, 128, 192, 196, 255, 255
Image Width : 300
Image Height : 201
Bits Per Sample : 8
Color Components : 3
Aperture : 9.0
Blue Balance : 0.707182
Image Size : 300x201
Megapixels : 0.060
Red Balance : 0.545842
Scale Factor To 35 mm Equivalent : 1.5
Shutter Speed : 1/2000
Flash : Off, Did not fire
Circle Of Confusion : 0.021 mm
Depth Of Field : inf (1.75 m - inf)
Field Of View : 54.2 deg (4.09 m)
Focal Length : 24.0 mm (35 mm equivalent: 35.0 mm)
Hyperfocal Distance : 3.11 m
Light Value : 17.3
Lens ID : 24.0mm f/2.8