Uber Exif Photo
By-line : Richard Berter
Copyright Notice : © Richard Berter
Copyright Flag : True
URL : © Richard Berter
Make : NIKON CORPORATION
Camera Model Name : NIKON D5100
Software : Adobe Photoshop Lightroom 4.4 (Windows)
Modify Date : 2014:04:28 11:33:31
Artist : Richard Berter
Copyright : © Richard Berter
Exposure Time : 1/200
F Number : 2.5
Exposure Program : Program AE
ISO : 100
Sensitivity Type : Recommended Exposure Index
Date/Time Original : 2014:04:27 12:23:51
Create Date : 2014:04:27 12:23:51
Shutter Speed Value : 1/200
Aperture Value : 2.5
Exposure Compensation : -1/3
Max Aperture Value : 1.7
Metering Mode : Multi-segment
Light Source : Unknown
Flash : No Flash
Focal Length : 35.0 mm
Sensing Method : One-chip color area
Scene Type : Directly photographed
CFA Pattern : [Red,Green][Green,Blue]
Custom Rendered : Normal
Exposure Mode : Auto
White Balance : Auto
Digital Zoom Ratio : 1
Focal Length In 35mm Format : 52 mm
Scene Capture Type : Standard
Gain Control : None
Contrast : Normal
Saturation : Normal
Sharpness : Normal
Subject Distance Range : Unknown
Serial Number : 3330465
Lens Info : 35mm f/1.8
Lens Model : 35.0 mm f/1.8
Creator Tool : Adobe Photoshop Lightroom 4.4 (Windows)
Rating : 5
Lens : 35.0 mm f/1.8
Image Number : 12007
Approximate Focus Distance : 3.76
Date Created : 2014:04:27 12:23:51.30
Format : image/jpeg
Marked : True
Web Statement : © Richard Berter
Version : 7.4
Process Version : 6.7
Color Temperature : 4500
Tint : -1
Luminance Smoothing : 0
Color Noise Reduction : 25
Vignette Amount : 0
Shadow Tint : 0
Red Hue : 0
Red Saturation : 0
Green Hue : 0
Green Saturation : 0
Blue Hue : 0
Blue Saturation : 0
Gray Mixer Red : -5
Gray Mixer Orange : -12
Gray Mixer Yellow : -15
Gray Mixer Green : -22
Gray Mixer Aqua : -19
Gray Mixer Blue : +4
Gray Mixer Purple : +11
Gray Mixer Magenta : +4
Split Toning Shadow Hue : 0
Split Toning Shadow Saturation : 0
Split Toning Highlight Hue : 0
Split Toning Highlight Saturation : 0
Split Toning Balance : 0
Parametric Shadows : 0
Parametric Darks : 0
Parametric Lights : 0
Parametric Highlights : 0
Parametric Shadow Split : 25
Parametric Midtone Split : 50
Parametric Highlight Split : 75
Sharpen Radius : +1.0
Sharpen Detail : 25
Sharpen Edge Masking : 0
Post Crop Vignette Amount : 0
Grain Amount : 45
Grain Size : 15
Grain Frequency : 35
Color Noise Reduction Detail : 50
Lens Profile Enable : 0
Lens Manual Distortion Amount : 0
Perspective Vertical : 0
Perspective Horizontal : 0
Perspective Rotate : 0.0
Perspective Scale : 100
Auto Lateral CA : 0
Exposure 2012 : 0.00
Contrast 2012 : +40
Highlights 2012 : -100
Shadows 2012 : +38
Whites 2012 : -62
Blacks 2012 : -19
Clarity 2012 : +17
Convert To Grayscale : True
Tone Curve Name 2012 : Linear
Camera Profile : Adobe Standard
Lens Profile Setup : LensDefaults
Has Settings : True
Crop Top : 0.139805
Crop Left : 0.141389
Crop Bottom : 0.75163
Crop Right : 0.753214
Crop Angle : 0
Crop Constrain To Warp : 0
Crop Width : 800
Crop Height : 530
Crop Unit : pixels
Has Crop : True
Already Applied : True
Creator : Richard Berter
Rights : © Richard Berter
Usage Terms : © Richard Berter
Creator Postal Code : 45217
Creator Region : Ohio
Creator Country : U.S.A
Creator City : Cincinnati
Creator Work Email : richard.berter@zoomtown.com
Tone Curve PV2012 : 0, 0, 255, 255
Tone Curve PV2012 Red : 0, 0, 255, 255
Tone Curve PV2012 Green : 0, 0, 255, 255
Tone Curve PV2012 Blue : 0, 0, 255, 255
Image Width : 300
Image Height : 199
Bits Per Sample : 8
Color Components : 1
Aperture : 2.5
Image Size : 300x199
Megapixels : 0.060
Scale Factor To 35 mm Equivalent : 1.5
Shutter Speed : 1/200
Create Date : 2014:04:27 12:23:51.30
Date/Time Original : 2014:04:27 12:23:51.30
Circle Of Confusion : 0.020 mm
Depth Of Field : 1.18 m (3.26 - 4.44 m)
Field Of View : 38.2 deg
Focal Length : 35.0 mm (35 mm equivalent: 52.0 mm)
Hyperfocal Distance : 24.23 m
Light Value : 10.3
Lens ID : AF-S DX Nikkor 35mm f/1.8G