Uber Exif Photo
Keywords : X1 horse turtle boat
Photometric Interpretation : RGB
Make : LEICA CAMERA AG
Camera Model Name : LEICA X1
Orientation : Horizontal (normal)
Planar Configuration : Chunky
Software : Adobe Photoshop CS4 Macintosh
Modify Date : 2011:03:01 20:37:16
Exposure Time : 1/320
F Number : 5.6
Exposure Program : Aperture-priority AE
ISO : 100
Date/Time Original : 2011:03:01 16:37:38
Create Date : 2011:03:01 16:37:38
Shutter Speed Value : 1/320
Aperture Value : 5.6
Exposure Compensation : +0.3
Max Aperture Value : 2.8
Subject Distance : 10 m
Metering Mode : Multi-segment
Light Source : Unknown
Focal Length : 24.0 mm
Color Space : sRGB
Exif Image Width : 1220
Exif Image Height : 822
Sensing Method : One-chip color area
Custom Rendered : Normal
White Balance : Auto
Digital Zoom Ratio : 1
Focal Length In 35mm Format : 35 mm
Scene Capture Type : Landscape
Contrast : Normal
Saturation : Normal
Sharpness : Normal
Profile Description : sRGB IEC61966-2.1
Samples Per Pixel : 3
Date/Time Digitized : 2011:03:01 16:37:38-06:00
Creator Tool : Adobe Photoshop Lightroom
Serial Number : 000003827360
Lens Info : 24mm f/2.8
Lens : 24.0 mm f/2.8
Format : image/jpeg
Version : 5.6
Color Temperature : 4850
Tint : +17
Exposure : 0.00
Shadows : 13
Brightness : +50
Luminance Smoothing : 0
Color Noise Reduction : 25
Chromatic Aberration R : 0
Chromatic Aberration B : 0
Vignette Amount : 0
Shadow Tint : 0
Red Hue : 0
Red Saturation : 0
Green Hue : 0
Green Saturation : 0
Blue Hue : 0
Blue Saturation : 0
Fill Light : 23
Highlight Recovery : 0
Clarity : +23
Defringe : 0
Gray Mixer Red : -7
Gray Mixer Orange : -16
Gray Mixer Yellow : -20
Gray Mixer Green : -25
Gray Mixer Aqua : -19
Gray Mixer Blue : +8
Gray Mixer Purple : +15
Gray Mixer Magenta : +5
Split Toning Shadow Hue : 180
Split Toning Shadow Saturation : 20
Split Toning Highlight Hue : 180
Split Toning Highlight Saturation : 2
Split Toning Balance : +88
Parametric Shadows : 0
Parametric Darks : 0
Parametric Lights : 0
Parametric Highlights : 0
Parametric Shadow Split : 25
Parametric Midtone Split : 50
Parametric Highlight Split : 75
Sharpen Radius : +1.0
Sharpen Detail : 25
Sharpen Edge Masking : 0
Post Crop Vignette Amount : -21
Post Crop Vignette Midpoint : 50
Post Crop Vignette Feather : 69
Post Crop Vignette Roundness : 0
Convert To Grayscale : True
Tone Curve Name : Strong Contrast
Camera Profile : Adobe Standard
Has Settings : True
Crop Top : 0.347721
Crop Left : 0.340659
Crop Bottom : 0.652587
Crop Right : 0.678298
Crop Angle : -2.64706
Crop Width : 2400
Crop Height : 1604
Crop Unit : pixels
Has Crop : True
Already Applied : True
Color Mode : RGB
ICC Profile Name : sRGB IEC61966-2.1
Flash Fired : False
Flash Return : No return detection
Flash Mode : Off
Flash Function : False
Flash Red Eye Mode : False
Subject : X1 horse turtle boat
Tone Curve : 0, 0, 32, 16, 64, 50, 128, 128, 192, 202, 255, 255
Image Width : 300
Image Height : 202
Bits Per Sample : 8
Color Components : 3
Aperture : 5.6
Image Size : 300x202
Megapixels : 0.061
Scale Factor To 35 mm Equivalent : 1.5
Shutter Speed : 1/320
Flash : Off, Did not fire
Circle Of Confusion : 0.021 mm
Depth Of Field : inf (3.34 m - inf)
Field Of View : 54.4 deg
Focal Length : 24.0 mm (35 mm equivalent: 35.0 mm)
Hyperfocal Distance : 4.99 m
Light Value : 13.3
Lens ID : 24.0mm f/2.8