Uber Exif Photo
Copyright Flag : False
Make : Nikon
Camera Model Name : Nikon SUPER COOLSCAN 5000 ED
Orientation : Horizontal (normal)
Software : Adobe Photoshop CS3 Macintosh
Modify Date : 2008:01:22 22:45:33
Color Space : sRGB
Exif Image Width : 800
Exif Image Height : 521
Profile Description : sRGB IEC61966-2.1
Rating : 0
Create Date : 2008:01:22 22:45:33-05:00
Creator Tool : Adobe Photoshop CS3 Macintosh
Version : 4.3.1
Raw File Name : 39.tif
White Balance : As Shot
Incremental Temperature : 0
Incremental Tint : 0
Exposure : +0.15
Shadows : 0
Brightness : +10
Contrast : 0
Sharpness : 0
Luminance Smoothing : 0
Chromatic Aberration R : 0
Chromatic Aberration B : 0
Vignette Amount : 0
Shadow Tint : 0
Red Hue : 0
Red Saturation : 0
Green Hue : 0
Green Saturation : 0
Blue Hue : 0
Blue Saturation : 0
Fill Light : 22
Highlight Recovery : 41
Clarity : 0
Defringe : 0
Gray Mixer Red : -5
Gray Mixer Orange : -14
Gray Mixer Yellow : -17
Gray Mixer Green : -24
Gray Mixer Aqua : -20
Gray Mixer Blue : +5
Gray Mixer Purple : +13
Gray Mixer Magenta : +6
Split Toning Shadow Hue : 0
Split Toning Shadow Saturation : 0
Split Toning Highlight Hue : 0
Split Toning Highlight Saturation : 0
Split Toning Balance : 0
Parametric Shadows : +18
Parametric Darks : -40
Parametric Lights : +31
Parametric Highlights : +8
Parametric Shadow Split : 25
Parametric Midtone Split : 50
Parametric Highlight Split : 75
Sharpen Radius : +1.0
Sharpen Detail : 25
Sharpen Edge Masking : 0
Convert To Grayscale : True
Tone Curve Name : Linear
Camera Profile : Embedded
Has Settings : True
Has Crop : False
Already Applied : True
Format : image/jpeg
Color Mode : RGB
ICC Profile Name : sRGB IEC61966-2.1
Tone Curve : 0, 0, 255, 255
Derived From :
Image Width : 300
Image Height : 195
Bits Per Sample : 8
Color Components : 3
Image Size : 300x195
Megapixels : 0.059