Uber Exif Photo
Copyright Notice : dierk topp
Copyright Flag : True
Software : PTGui Pro (www.ptgui.com)
Modify Date : 2011:03:13 16:09:11
Copyright : dierk topp
Exposure Time : 1/750
Date/Time Original : 2011:03:11 14:22:52
Create Date : 2011:03:11 14:22:52
Shutter Speed Value : 1/750
Focal Length : 17.8 mm
Color Space : Uncalibrated
Focal Length In 35mm Format : 18 mm
Rights : dierk topp
Contrast : High
Date/Time Digitized : 2011:03:11 14:22:52+01:00
Exif Image Width : 886
Exif Image Height : 800
Sharpness : Hard
Property Release Status : Unknown (nil)
PLUS Version : 1.2.0
Creator Tool : Adobe Photoshop Lightroom
Rating : 5
Marked : True
Already Applied : True
Blue Hue : 0
Blue Saturation : 0
Brightness : +46
Camera Profile : Embedded
Chromatic Aberration B : 0
Chromatic Aberration R : 0
Clarity : +17
Color Noise Reduction : 0
Convert To Grayscale : True
Crop Angle : 0
Crop Bottom : 0.87484
Crop Height : 800
Crop Left : 0.11991
Crop Right : 0.945701
Crop Top : 0.033206
Crop Unit : pixels
Crop Width : 886
Defringe : 0
Exposure : 0.00
Fill Light : 4
Gray Mixer Aqua : -19
Gray Mixer Blue : -86
Gray Mixer Green : -27
Gray Mixer Magenta : +4
Gray Mixer Orange : +7
Gray Mixer Purple : -14
Gray Mixer Red : -9
Gray Mixer Yellow : +17
Green Hue : 0
Green Saturation : 0
Has Crop : True
Has Settings : True
Highlight Recovery : 0
Incremental Temperature : -5
Incremental Tint : 0
Luminance Smoothing : 0
Parametric Darks : 0
Parametric Highlight Split : 75
Parametric Highlights : 0
Parametric Lights : 0
Parametric Midtone Split : 50
Parametric Shadow Split : 25
Parametric Shadows : 0
Post Crop Vignette Amount : -7
Post Crop Vignette Feather : 50
Post Crop Vignette Midpoint : 50
Post Crop Vignette Roundness : 0
Red Hue : 0
Red Saturation : 0
Shadow Tint : 0
Shadows : 2
Sharpen Detail : 25
Sharpen Edge Masking : 25
Sharpen Radius : +1.0
Split Toning Balance : 0
Split Toning Highlight Hue : 0
Split Toning Highlight Saturation : 0
Split Toning Shadow Hue : 0
Split Toning Shadow Saturation : 0
Tone Curve : 0, 0, 255, 255
Tone Curve Name : Linear
Version : 6.1
Vignette Amount : 0
Image Width : 300
Image Height : 273
Bits Per Sample : 8
Color Components : 1
Image Size : 300x273
Megapixels : 0.082
Scale Factor To 35 mm Equivalent : 1.0
Shutter Speed : 1/750
Circle Of Confusion : 0.030 mm
Field Of View : 90.0 deg
Focal Length : 17.8 mm (35 mm equivalent: 18.0 mm)