Uber Exif Photo
Keywords : New Orleans
Copyright Flag : False
Orientation : Horizontal (normal)
Software : Adobe Photoshop CS2 Macintosh
Modify Date : 2011:03:20 19:19:50
Color Space : sRGB
Exif Image Width : 1500
Exif Image Height : 1000
Profile Description : sRGB IEC61966-2.1
Saved Settings Name : Import
Saved Settings Type : Snapshot
Saved Settings Parameters Version : 5.7
Saved Settings Parameters White Balance : As Shot
Saved Settings Parameters Incremental Temperature:
0
Saved Settings Parameters Incremental Tint : 0
Saved Settings Parameters Exposure : 0.00
Saved Settings Parameters Shadows : 0
Saved Settings Parameters Brightness : 0
Saved Settings Parameters Contrast : 0
Saved Settings Parameters Saturation : 0
Saved Settings Parameters Sharpness : 0
Saved Settings Parameters Luminance Smoothing : 0
Saved Settings Parameters Color Noise Reduction:
Saved Settings Parameters Chromatic Aberration R:
Saved Settings Parameters Chromatic Aberration B:
Saved Settings Parameters Vignette Amount : 0
Saved Settings Parameters Shadow Tint : 0
Saved Settings Parameters Red Hue : 0
Saved Settings Parameters Red Saturation : 0
Saved Settings Parameters Green Hue : 0
Saved Settings Parameters Green Saturation : 0
Saved Settings Parameters Blue Hue : 0
Saved Settings Parameters Blue Saturation : 0
Saved Settings Parameters Fill Light : 0
Saved Settings Parameters Vibrance : 0
Saved Settings Parameters Highlight Recovery : 0
Saved Settings Parameters Clarity : 0
Saved Settings Parameters Defringe : 0
Saved Settings Parameters Hue Adjustment Red : 0
Saved Settings Parameters Hue Adjustment Orange:
Saved Settings Parameters Hue Adjustment Yellow:
Saved Settings Parameters Hue Adjustment Green:
Saved Settings Parameters Hue Adjustment Aqua : 0
Saved Settings Parameters Hue Adjustment Blue : 0
Saved Settings Parameters Hue Adjustment Purple:
Saved Settings Parameters Hue Adjustment Magenta:
Saved Settings Parameters Saturation Adjustment Red:
Saved Settings Parameters Saturation Adjustment Orange:
Saved Settings Parameters Saturation Adjustment Yellow:
Saved Settings Parameters Saturation Adjustment Green:
Saved Settings Parameters Saturation Adjustment Aqua:
Saved Settings Parameters Saturation Adjustment Blue:
Saved Settings Parameters Saturation Adjustment Purple:
Saved Settings Parameters Saturation Adjustment Magenta:
Saved Settings Parameters Luminance Adjustment Red:
Saved Settings Parameters Luminance Adjustment Orange:
Saved Settings Parameters Luminance Adjustment Yellow:
Saved Settings Parameters Luminance Adjustment Green:
Saved Settings Parameters Luminance Adjustment Aqua:
Saved Settings Parameters Luminance Adjustment Blue:
Saved Settings Parameters Luminance Adjustment Purple:
Saved Settings Parameters Luminance Adjustment Magenta:
Saved Settings Parameters Split Toning Shadow Hue:
Saved Settings Parameters Split Toning Shadow Saturation:
Saved Settings Parameters Split Toning Highlight Hue:
Saved Settings Parameters Split Toning Highlight Saturation:
Saved Settings Parameters Split Toning Balance:
Saved Settings Parameters Parametric Shadows : 0
Saved Settings Parameters Parametric Darks : 0
Saved Settings Parameters Parametric Lights : 0
Saved Settings Parameters Parametric Highlights:
Saved Settings Parameters Parametric Shadow Split:
25
Saved Settings Parameters Parametric Midtone Split:
50
Saved Settings Parameters Parametric Highlight Split:
75
Saved Settings Parameters Sharpen Radius : +1.0
Saved Settings Parameters Sharpen Detail : 25
Saved Settings Parameters Sharpen Edge Masking:
Saved Settings Parameters Post Crop Vignette Amount:
Saved Settings Parameters Convert To Grayscale:
False
Saved Settings Parameters Tone Curve Name : Linear
Saved Settings Parameters Tone Curve : 0, 0, 255, 255
Saved Settings Parameters Camera Profile : Embedded
54650A341B5B5CCAE8442D0B43A92BCE
Version : 3.7
Raw File Name : ArtAss.dng
White Balance : As Shot
Incremental Temperature : 0
Incremental Tint : 0
Exposure : 0.00
Shadows : 0
Brightness : 0
Contrast : 0
Saturation : 0
Sharpness : 0
Luminance Smoothing : 0
Color Noise Reduction : 0
Chromatic Aberration R : 0
Chromatic Aberration B : 0
Vignette Amount : 0
Shadow Tint : 0
Red Hue : 0
Red Saturation : 0
Green Hue : 0
Green Saturation : 0
Blue Hue : 0
Blue Saturation : 0
Fill Light : 0
Vibrance : 0
Highlight Recovery : 0
Hue Adjustment Red : 0
Hue Adjustment Orange : 0
Hue Adjustment Yellow : 0
Hue Adjustment Green : 0
Hue Adjustment Aqua : 0
Hue Adjustment Blue : 0
Hue Adjustment Purple : 0
Hue Adjustment Magenta : 0
Saturation Adjustment Red : 0
Saturation Adjustment Orange : 0
Saturation Adjustment Yellow : 0
Saturation Adjustment Green : 0
Saturation Adjustment Aqua : 0
Saturation Adjustment Blue : 0
Saturation Adjustment Purple : 0
Saturation Adjustment Magenta : 0
Luminance Adjustment Red : 0
Luminance Adjustment Orange : 0
Luminance Adjustment Yellow : 0
Luminance Adjustment Green : 0
Luminance Adjustment Aqua : 0
Luminance Adjustment Blue : 0
Luminance Adjustment Purple : 0
Luminance Adjustment Magenta : 0
Split Toning Shadow Hue : 50
Split Toning Shadow Saturation : 10
Split Toning Highlight Hue : 0
Split Toning Highlight Saturation : 0
Split Toning Balance : +60
Parametric Shadows : 0
Parametric Darks : 0
Parametric Lights : -15
Parametric Highlights : -10
Parametric Shadow Split : 25
Parametric Midtone Split : 50
Parametric Highlight Split : 75
Convert To Grayscale : False
Tone Curve Name : Linear
Tone Curve : 0, 0, 255, 255
Camera Profile : Embedded
Has Settings : True
Has Crop : False
Already Applied : True
Color Mode : RGB
ICC Profile Name : sRGB IEC61966-2.1
Creator Tool : Adobe Photoshop CS2 Macintosh
Create Date : 2011:03:20 19:19:50-05:00
Rating : 5
Format : image/jpeg
Subject : New Orleans
Image Width : 300
Image Height : 200
Bits Per Sample : 8
Color Components : 3
Image Size : 300x200
Megapixels : 0.060