Uber Exif Photo
Software : Adobe Photoshop Lightroom
Modify Date : 2011:03:21 00:06:39
Exposure Time : 1/320
Sensitivity Type : Unknown
Create Date : 2011:02:12 14:36:10
Shutter Speed Value : 1/320
Exposure Compensation : 0
Max Aperture Value : 1.0
Light Source : Other
Custom Rendered : Normal
Exposure Mode : Auto
Digital Zoom Ratio : 1
Scene Capture Type : Standard
Gain Control : High gain up
Serial Number : H45503655
Profile Description : Adobe RGB (1998)
Date/Time Digitized : 2011:02:12 14:36:10-08:00
Exif Image Width : 1920
Exif Image Height : 1280
Creator Tool : Adobe Photoshop Lightroom
Flash Compensation : 0.33203125
Version : 6.2
Process Version : 5.7
White Balance : Custom
Incremental Temperature : +5
Incremental Tint : 0
Exposure : -0.10
Shadows : 3
Brightness : -5
Contrast : +34
Sharpness : 0
Luminance Smoothing : 0
Color Noise Reduction : 0
Chromatic Aberration R : 0
Chromatic Aberration B : 0
Vignette Amount : 0
Shadow Tint : 0
Red Hue : 0
Red Saturation : 0
Green Hue : 0
Green Saturation : 0
Blue Hue : 0
Blue Saturation : 0
Fill Light : 0
Highlight Recovery : 17
Clarity : +33
Defringe : 0
Gray Mixer Red : 0
Gray Mixer Orange : 0
Gray Mixer Yellow : 0
Gray Mixer Green : 0
Gray Mixer Aqua : 0
Gray Mixer Blue : 0
Gray Mixer Purple : 0
Gray Mixer Magenta : 0
Split Toning Shadow Hue : 0
Split Toning Shadow Saturation : 0
Split Toning Highlight Hue : 46
Split Toning Highlight Saturation : 10
Split Toning Balance : 0
Parametric Shadows : 0
Parametric Darks : -5
Parametric Lights : 0
Parametric Highlights : 0
Parametric Shadow Split : 25
Parametric Midtone Split : 50
Parametric Highlight Split : 75
Sharpen Radius : +1.0
Sharpen Detail : 25
Sharpen Edge Masking : 0
Post Crop Vignette Amount : -15
Post Crop Vignette Midpoint : 40
Post Crop Vignette Feather : 50
Post Crop Vignette Roundness : +10
Post Crop Vignette Style : Highlight Priority
Post Crop Vignette Highlight Contrast : 0
Grain Amount : 0
Lens Profile Enable : 0
Lens Manual Distortion Amount : 0
Perspective Vertical : 0
Perspective Horizontal : 0
Perspective Rotate : 0.0
Perspective Scale : 100
Convert To Grayscale : True
Tone Curve Name : Linear
Camera Profile : Embedded
Lens Profile Setup : LensDefaults
Has Settings : True
Has Crop : False
Already Applied : True
Tone Curve : 0, 0, 255, 255
Image Width : 300
Image Height : 200
Bits Per Sample : 8
Color Components : 3
Image Size : 300x200
Megapixels : 0.060
Shutter Speed : 1/320