Uber Exif Photo
By-line : ruggeroranzani
Copyright Notice : Copyright 2012
Copyright Flag : True
Make : Panasonic
Camera Model Name : DMC-GF1
Orientation : Horizontal (normal)
Software : Adobe Photoshop Lightroom 4.0 (Windows)
Modify Date : 2014:05:05 10:29:31
Artist : ruggeroranzani
Copyright : Copyright 2012
Exposure Time : 1/80
Exposure Program : Manual
ISO : 800
Date/Time Original : 2014:04:26 14:31:44
Shutter Speed Value : 1/80
Exposure Compensation : 0
Max Aperture Value : 1.0
Metering Mode : Multi-segment
Light Source : Other
Flash : Off, Did not fire
Sensing Method : One-chip color area
Scene Type : Directly photographed
Exposure Mode : Manual
White Balance : Manual
Digital Zoom Ratio : 0
Scene Capture Type : Standard
Gain Control : High gain up
Contrast : Normal
Saturation : Normal
Sharpness : Hard
Already Applied : True
Auto Lateral CA : 0
Blacks 2012 : +14
Blue Hue : 0
Blue Saturation : 0
Brightness : 0
Camera Profile : Embedded
Clarity : 0
Clarity 2012 : +14
Color Noise Reduction : 0
Contrast 2012 : 0
Convert To Grayscale : False
Crop Angle : 0
Crop Bottom : 1
Crop Constrain To Warp : 0
Crop Height : 1200
Crop Left : 0
Crop Right : 0.961702
Crop Top : 0
Crop Unit : pixels
Crop Width : 866
Defringe : 0
Exposure : 0.00
Exposure 2012 : 0.00
Fill Light : 0
Grain Amount : 0
Green Hue : 0
Green Saturation : 0
Has Crop : True
Has Settings : True
Highlight Recovery : 0
Highlights 2012 : +23
Hue Adjustment Aqua : 0
Hue Adjustment Blue : 0
Hue Adjustment Green : 0
Hue Adjustment Magenta : 0
Hue Adjustment Orange : 0
Hue Adjustment Purple : 0
Hue Adjustment Red : 0
Hue Adjustment Yellow : 0
Incremental Temperature : 0
Incremental Tint : 0
Lens Manual Distortion Amount : 0
Lens Profile Enable : 0
Lens Profile Setup : LensDefaults
Luminance Adjustment Aqua : 0
Luminance Adjustment Blue : 0
Luminance Adjustment Green : 0
Luminance Adjustment Magenta : 0
Luminance Adjustment Orange : 0
Luminance Adjustment Purple : 0
Luminance Adjustment Red : 0
Luminance Adjustment Yellow : 0
Luminance Smoothing : 0
Parametric Darks : 0
Parametric Highlight Split : 75
Parametric Highlights : 0
Parametric Lights : 0
Parametric Midtone Split : 50
Parametric Shadow Split : 25
Parametric Shadows : 0
Perspective Horizontal : 0
Perspective Rotate : 0.0
Perspective Scale : 100
Perspective Vertical : 0
Post Crop Vignette Amount : 0
Process Version : 6.7
Red Hue : 0
Red Saturation : 0
Saturation Adjustment Aqua : 0
Saturation Adjustment Blue : 0
Saturation Adjustment Green : 0
Saturation Adjustment Magenta : 0
Saturation Adjustment Orange : 0
Saturation Adjustment Purple : 0
Saturation Adjustment Red : 0
Saturation Adjustment Yellow : 0
Shadow Tint : 0
Shadows : 0
Shadows 2012 : -2
Sharpen Detail : 25
Sharpen Edge Masking : 0
Sharpen Radius : +1.0
Split Toning Balance : 0
Split Toning Highlight Hue : 0
Split Toning Highlight Saturation : 0
Split Toning Shadow Hue : 0
Split Toning Shadow Saturation : 0
Tone Curve Name : Linear
Tone Curve Name 2012 : Medium Contrast
Version : 7.0
Vibrance : 0
Vignette Amount : 0
Whites 2012 : +21
Format : image/jpeg
Create Date : 2014:04:26 14:31:44
Creator Tool : Adobe Photoshop Lightroom 4.0 (Windows)
Category : people
Date Created : 2014:04:26 14:31:44
Marked : True
Tone Curve : 0, 0, 255, 255
Tone Curve Blue : 0, 0, 255, 255
Tone Curve Green : 0, 0, 255, 255
Tone Curve PV2012 : 0, 0, 32, 22, 64, 56, 128, 128, 192, 196, 255, 255
Tone Curve PV2012 Blue : 0, 0, 255, 255
Tone Curve PV2012 Green : 0, 0, 255, 255
Tone Curve PV2012 Red : 0, 0, 255, 255
Tone Curve Red : 0, 0, 255, 255
Creator : ruggeroranzani
Rights : Copyright 2012
Image Width : 217
Image Height : 300
Bits Per Sample : 8
Color Components : 1
Image Size : 217x300
Megapixels : 0.065
Scale Factor To 35 mm Equivalent : 27.0
Shutter Speed : 1/80
Circle Of Confusion : 0.001 mm