Uber Exif Photo
Make : LEICA
Camera Model Name : D-LUX 4
Orientation : Horizontal (normal)
Software : Ver.2.2
Modify Date : 2011:03:23 13:13:15
Artist :
Exposure Time : 1/1300
F Number : 2.8
Exposure Program : Aperture-priority AE
ISO : 400
Date/Time Original : 2011:03:23 13:13:15
Create Date : 2011:03:23 13:13:15
Compressed Bits Per Pixel : 4
Exposure Compensation : 0
Max Aperture Value : 2.0
Metering Mode : Multi-segment
Light Source : Unknown
Focal Length : 12.8 mm
Image Quality : RAW
Firmware Version : 0.2.2.0
White Balance : Auto
Focus Mode : Auto
AF Area Mode : 1-area
Image Stabilization : On, Optical
Macro Mode : Off
Shooting Mode : Aperture Priority
Audio : No
Flash Bias : 0
Internal Serial Number : (F33) 2009:11:05 no. 0365
Panasonic Exif Version : 0291
Video Frame Rate : n/a
Color Effect : Black & White
Time Since Power On : 00:00:24.95
Burst Mode : Off
Sequence Number : 0
Contrast Mode : Normal
Noise Reduction : Standard
Self Timer : Off
Rotation : Horizontal (normal)
AF Assist Lamp : Enabled but Not Used
Color Mode : Normal
Optical Zoom Mode : Standard
Conversion Lens : Off
Travel Day : n/a
Battery Level : Full
World Time Location : Home
Program ISO : 400
Advanced Scene Type : 1
Faces Detected : 0
Film Mode : Dynamic (B&W)
JPEG Quality : High
Color Temp Kelvin : 0
WB Shift AB : 0
WB Shift GM : 0
Flash Curtain : n/a
Panasonic Image Width : 3776
Panasonic Image Height : 2520
AF Point Position : 0.5 0.5
Num Face Positions : 0
Maker Note Version : 0132
Scene Mode : Off
Highlight Warning : No
Dark Focus Environment : No
WB Red Level : 2362
WB Green Level : 1054
WB Blue Level : 1054
Text Stamp : Off
Baby Age : (not set)
Color Space : sRGB
Exif Image Width : 3776
Exif Image Height : 2520
Sensing Method : One-chip color area
Scene Type : Directly photographed
Custom Rendered : Custom
Exposure Mode : Auto
Digital Zoom Ratio : 0
Focal Length In 35mm Format : 60 mm
Scene Capture Type : Standard
Gain Control : High gain up
Contrast : Normal
Saturation : Normal
Sharpness : Normal
PrintIM Version : 0250
Shutter Speed Value : 1/1250
Aperture Value : 2.8
Creator Tool : Ver.2.2
Rating : 0
Raw File Name : L1040300.JPG
Version : 6.3
Process Version : 5.7
Incremental Temperature : +20
Incremental Tint : 0
Exposure : +0.30
Shadows : 6
Brightness : +16
Luminance Smoothing : 0
Color Noise Reduction : 0
Chromatic Aberration R : 0
Chromatic Aberration B : 0
Vignette Amount : 0
Shadow Tint : 0
Red Hue : 0
Red Saturation : 0
Green Hue : 0
Green Saturation : 0
Blue Hue : 0
Blue Saturation : 0
Fill Light : 50
Vibrance : -4
Highlight Recovery : 43
Clarity : +37
Defringe : 0
Hue Adjustment Red : 0
Hue Adjustment Orange : 0
Hue Adjustment Yellow : 0
Hue Adjustment Green : 0
Hue Adjustment Aqua : 0
Hue Adjustment Blue : 0
Hue Adjustment Purple : 0
Hue Adjustment Magenta : 0
Saturation Adjustment Red : 0
Saturation Adjustment Orange : 0
Saturation Adjustment Yellow : 0
Saturation Adjustment Green : 0
Saturation Adjustment Aqua : 0
Saturation Adjustment Blue : 0
Saturation Adjustment Purple : 0
Saturation Adjustment Magenta : 0
Luminance Adjustment Red : 0
Luminance Adjustment Orange : 0
Luminance Adjustment Yellow : 0
Luminance Adjustment Green : 0
Luminance Adjustment Aqua : 0
Luminance Adjustment Blue : 0
Luminance Adjustment Purple : 0
Luminance Adjustment Magenta : 0
Split Toning Shadow Hue : 0
Split Toning Shadow Saturation : 0
Split Toning Highlight Hue : 0
Split Toning Highlight Saturation : 0
Split Toning Balance : 0
Parametric Shadows : 0
Parametric Darks : 0
Parametric Lights : 0
Parametric Highlights : 0
Parametric Shadow Split : 25
Parametric Midtone Split : 50
Parametric Highlight Split : 75
Sharpen Radius : +1.0
Sharpen Detail : 25
Sharpen Edge Masking : 0
Post Crop Vignette Amount : 0
Grain Amount : 0
Lens Profile Enable : 0
Lens Manual Distortion Amount : 0
Perspective Vertical : 0
Perspective Horizontal : 0
Perspective Rotate : 0.0
Perspective Scale : 100
Convert To Grayscale : False
Tone Curve Name : Linear
Camera Profile : Embedded
Lens Profile Setup : LensDefaults
Has Settings : True
Has Crop : False
Already Applied : False
Flash Fired : False
Flash Return : No return detection
Flash Mode : Off
Flash Function : False
Flash Red Eye Mode : False
Tone Curve : 0, 0, 255, 255
Image Width : 300
Image Height : 200
Bits Per Sample : 8
Color Components : 1
Aperture : 2.8
Blue Balance : 1
Image Size : 300x200
Megapixels : 0.060
Red Balance : 2.240987
Scale Factor To 35 mm Equivalent : 4.7
Shutter Speed : 1/1300
Advanced Scene Mode : Off
Flash : Off, Did not fire
Circle Of Confusion : 0.006 mm
Field Of View : 33.4 deg
Focal Length : 12.8 mm (35 mm equivalent: 60.0 mm)
Hyperfocal Distance : 9.13 m
Light Value : 11.3