Uber Exif Photo
By-line : YURI-KRUZHNOV
Copyright Notice : yuriylux
Photometric Interpretation : RGB
Make : NIKON CORPORATION
Camera Model Name : NIKON D3
Orientation : Horizontal (normal)
Samples Per Pixel : 3
Software : Adobe Photoshop CC (Macintosh)
Modify Date : 2014:07:16 13:18:39
Artist : YURI-KRUZHNOV
Copyright : yuriylux
Exposure Time : 1/1000
F Number : 5.6
Exposure Program : Aperture-priority AE
ISO : 400
Date/Time Original : 2014:07:05 18:40:09
Create Date : 2014:07:05 18:40:09
Shutter Speed Value : 1/1000
Aperture Value : 5.6
Exposure Compensation : 0
Max Aperture Value : 4.0
Metering Mode : Multi-segment
Light Source : Unknown
Flash : No Flash
Focal Length : 175.0 mm
Color Space : sRGB
Exif Image Width : 2435
Exif Image Height : 1992
Sensing Method : One-chip color area
Scene Type : Directly photographed
CFA Pattern : [Red,Green][Green,Blue]
Custom Rendered : Normal
Exposure Mode : Auto
White Balance : Auto
Digital Zoom Ratio : 1
Focal Length In 35mm Format : 175 mm
Scene Capture Type : Standard
Gain Control : Low gain up
Contrast : Normal
Saturation : Normal
Sharpness : Normal
Subject Distance Range : Unknown
Serial Number : 2057367
Lens Info : 70-200mm f/4
Lens Model : 70.0-200.0 mm f/4.0
Profile Description : sRGB IEC61966-2.1
Format : image/jpeg
Creator Tool : Adobe Photoshop Lightroom 5.3 (Macintosh)
Lens : 70.0-200.0 mm f/4.0
Image Number : 49013
Approximate Focus Distance : 7.5
Date Created : 2014:07:05 18:40:09.049
Color Mode : RGB
ICC Profile Name : sRGB IEC61966-2.1
Version : 8.3
Process Version : 6.7
Auto White Version : 134348800
Color Temperature : 5350
Tint : +1
Luminance Smoothing : 0
Color Noise Reduction : 25
Vignette Amount : 0
Shadow Tint : 0
Red Hue : 0
Red Saturation : 0
Green Hue : 0
Green Saturation : 0
Blue Hue : 0
Blue Saturation : 0
Vibrance : 0
Hue Adjustment Red : 0
Hue Adjustment Orange : 0
Hue Adjustment Yellow : 0
Hue Adjustment Green : 0
Hue Adjustment Aqua : 0
Hue Adjustment Blue : 0
Hue Adjustment Purple : 0
Hue Adjustment Magenta : 0
Saturation Adjustment Red : 0
Saturation Adjustment Orange : 0
Saturation Adjustment Yellow : 0
Saturation Adjustment Green : 0
Saturation Adjustment Aqua : 0
Saturation Adjustment Blue : 0
Saturation Adjustment Purple : 0
Saturation Adjustment Magenta : 0
Luminance Adjustment Red : 0
Luminance Adjustment Orange : 0
Luminance Adjustment Yellow : 0
Luminance Adjustment Green : 0
Luminance Adjustment Aqua : 0
Luminance Adjustment Blue : 0
Luminance Adjustment Purple : 0
Luminance Adjustment Magenta : 0
Split Toning Shadow Hue : 0
Split Toning Shadow Saturation : 0
Split Toning Highlight Hue : 0
Split Toning Highlight Saturation : 0
Split Toning Balance : 0
Parametric Shadows : 0
Parametric Darks : 0
Parametric Lights : 0
Parametric Highlights : 0
Parametric Shadow Split : 25
Parametric Midtone Split : 50
Parametric Highlight Split : 75
Sharpen Radius : +1.0
Sharpen Detail : 25
Sharpen Edge Masking : 0
Post Crop Vignette Amount : 0
Grain Amount : 0
Color Noise Reduction Detail : 50
Color Noise Reduction Smoothness : 50
Lens Profile Enable : 0
Lens Manual Distortion Amount : 0
Perspective Vertical : 0
Perspective Horizontal : 0
Perspective Rotate : 0.0
Perspective Scale : 100
Perspective Aspect : 0
Perspective Upright : Off
Auto Lateral CA : 0
Exposure 2012 : -0.05
Contrast 2012 : -17
Highlights 2012 : 0
Shadows 2012 : +39
Whites 2012 : +12
Blacks 2012 : -21
Clarity 2012 : 0
Defringe Purple Amount : 0
Defringe Purple Hue Lo : 30
Defringe Purple Hue Hi : 70
Defringe Green Amount : 0
Defringe Green Hue Lo : 40
Defringe Green Hue Hi : 60
Convert To Grayscale : False
Tone Curve Name 2012 : Linear
Camera Profile : Adobe Standard
Lens Profile Setup : LensDefaults
Has Settings : True
Crop Top : 0.21214
Crop Left : 0.277773
Crop Bottom : 0.915496
Crop Right : 0.970364
Crop Angle : 0
Crop Constrain To Warp : 0
Has Crop : True
Already Applied : True
Creator : YURI-KRUZHNOV
Rights : yuriylux
Tone Curve PV2012 : 0, 0, 255, 255
Tone Curve PV2012 Red : 0, 0, 255, 255
Tone Curve PV2012 Green : 0, 0, 255, 255
Tone Curve PV2012 Blue : 0, 0, 255, 255
Image Width : 300
Image Height : 245
Bits Per Sample : 8
Color Components : 3
Aperture : 5.6
Image Size : 300x245
Megapixels : 0.073
Scale Factor To 35 mm Equivalent : 1.0
Shutter Speed : 1/1000
Create Date : 2014:07:05 18:40:09.49
Date/Time Original : 2014:07:05 18:40:09.49
Circle Of Confusion : 0.030 mm
Depth Of Field : 0.60 m (7.21 - 7.81 m)
Field Of View : 11.7 deg
Focal Length : 175.0 mm (35 mm equivalent: 175.0 mm)
Hyperfocal Distance : 182.01 m
Light Value : 12.9
Lens ID : AF-S Nikkor 70-200mm f/4G ED VR