Uber Exif Photo
Photometric Interpretation : RGB
Make : SONY
Camera Model Name : NEX-5N
Orientation : Horizontal (normal)
Samples Per Pixel : 3
Software : Adobe Photoshop Elements 11.0 Macintosh
Modify Date : 2014:07:25 14:53:47
Exposure Time : 2
F Number : 20.0
Exposure Program : Aperture-priority AE
ISO : 100
Sensitivity Type : Recommended Exposure Index
Recommended Exposure Index : 100
Date/Time Original : 2013:09:04 13:28:41
Create Date : 2013:09:04 13:28:41
Shutter Speed Value : 2
Aperture Value : 20.0
Brightness Value : 2.93125
Exposure Compensation : 0
Max Aperture Value : 5.6
Metering Mode : Multi-segment
Light Source : Unknown
Flash : Off, Did not fire
Focal Length : 55.0 mm
Color Space : sRGB
Exif Image Width : 4525
Exif Image Height : 2659
Scene Type : Directly photographed
Custom Rendered : Normal
Exposure Mode : Auto
White Balance : Auto
Focal Length In 35mm Format : 82 mm
Scene Capture Type : Standard
Contrast : Normal
Saturation : Normal
Sharpness : Normal
Lens Info : 18-55mm f/3.5-5.6
Lens Model : E 18-55mm F3.5-5.6 OSS
Profile Description : sRGB IEC61966-2.1
Creator Tool : Adobe Photoshop Elements 11.0 Macintosh
Lens : E 18-55mm F3.5-5.6 OSS
Date Created : 2013:09:04 13:28:41
Color Mode : RGB
ICC Profile Name : sRGB IEC61966-2.1
Version : 7.4
Process Version : 6.7
Color Temperature : 4850
Tint : -1
Luminance Smoothing : 0
Color Noise Reduction : 25
Vignette Amount : 0
Shadow Tint : 0
Red Hue : 0
Red Saturation : 0
Green Hue : 0
Green Saturation : 0
Blue Hue : 0
Blue Saturation : 0
Vibrance : 0
Hue Adjustment Red : 0
Hue Adjustment Orange : 0
Hue Adjustment Yellow : 0
Hue Adjustment Green : 0
Hue Adjustment Aqua : 0
Hue Adjustment Blue : 0
Hue Adjustment Purple : 0
Hue Adjustment Magenta : 0
Saturation Adjustment Red : 0
Saturation Adjustment Orange : 0
Saturation Adjustment Yellow : 0
Saturation Adjustment Green : 0
Saturation Adjustment Aqua : 0
Saturation Adjustment Blue : 0
Saturation Adjustment Purple : 0
Saturation Adjustment Magenta : 0
Luminance Adjustment Red : 0
Luminance Adjustment Orange : 0
Luminance Adjustment Yellow : 0
Luminance Adjustment Green : 0
Luminance Adjustment Aqua : 0
Luminance Adjustment Blue : 0
Luminance Adjustment Purple : 0
Luminance Adjustment Magenta : 0
Split Toning Shadow Hue : 0
Split Toning Shadow Saturation : 0
Split Toning Highlight Hue : 0
Split Toning Highlight Saturation : 0
Split Toning Balance : 0
Parametric Shadows : 0
Parametric Darks : 0
Parametric Lights : 0
Parametric Highlights : 0
Parametric Shadow Split : 25
Parametric Midtone Split : 50
Parametric Highlight Split : 75
Sharpen Radius : +1.0
Sharpen Detail : 25
Sharpen Edge Masking : 0
Post Crop Vignette Amount : 0
Grain Amount : 0
Color Noise Reduction Detail : 50
Lens Profile Enable : 0
Lens Manual Distortion Amount : 0
Perspective Vertical : 0
Perspective Horizontal : 0
Perspective Rotate : 0.0
Perspective Scale : 100
Auto Lateral CA : 0
Exposure 2012 : -0.30
Contrast 2012 : -10
Highlights 2012 : +37
Shadows 2012 : +100
Whites 2012 : 0
Blacks 2012 : +100
Clarity 2012 : +51
Defringe Purple Amount : 0
Defringe Purple Hue Lo : 30
Defringe Purple Hue Hi : 70
Defringe Green Amount : 0
Defringe Green Hue Lo : 40
Defringe Green Hue Hi : 60
Convert To Grayscale : False
Tone Curve Name 2012 : Linear
Camera Profile : Adobe Standard
Lens Profile Setup : LensDefaults
Has Settings : True
Crop Top : 0.098925
Crop Left : 0.023048
Crop Bottom : 0.835568
Crop Right : 1
Crop Angle : -4.00854
Crop Constrain To Warp : 0
Crop Width : 4619
Crop Height : 2734
Crop Unit : pixels
Has Crop : True
Already Applied : True
Format : image/jpeg
Tone Curve PV2012 : 0, 0, 255, 255
Tone Curve PV2012 Red : 0, 0, 255, 255
Tone Curve PV2012 Green : 0, 0, 255, 255
Tone Curve PV2012 Blue : 0, 0, 255, 255
Image Width : 300
Image Height : 176
Bits Per Sample : 8
Color Components : 3
Aperture : 20.0
Image Size : 300x176
Megapixels : 0.053
Scale Factor To 35 mm Equivalent : 1.5
Shutter Speed : 2
Circle Of Confusion : 0.020 mm
Field Of View : 24.8 deg
Focal Length : 55.0 mm (35 mm equivalent: 82.0 mm)
Hyperfocal Distance : 7.51 m
Light Value : 7.6
Lens ID : E 18-55mm F3.5-5.6 OSS