Uber Exif Photo
Make : Epson
Camera Model Name : PerfectionV600
Orientation : Horizontal (normal)
Software : GIMP 2.8.4
Modify Date : 2014:08:24 16:23:33
Artist : ruggeroranzani
Copyright : Copyright 2012
Color Space : Uncalibrated
Contrast : 0
Sharpness : 14
Already Applied : True
Blacks 2012 : +21
Brightness : 0
Clarity : 0
Clarity 2012 : +2
Contrast 2012 : -26
Crop Angle : 0
Crop Bottom : 0.995495
Crop Constrain To Warp : 0
Crop Height : 632
Crop Left : 0.014085
Crop Right : 0.991549
Crop Top : 0.009009
Crop Unit : pixels
Crop Width : 1000
Exposure : 0.00
Exposure 2012 : -0.35
Fill Light : 0
Grain Amount : 0
Has Crop : True
Has Settings : True
Highlight Recovery : 0
Highlights 2012 : -23
Lens Manual Distortion Amount : 0
Lens Profile Enable : 0
Lens Profile Setup : LensDefaults
Luminance Smoothing : 0
Parametric Darks : 0
Parametric Highlight Split : 75
Parametric Highlights : 0
Parametric Lights : 0
Parametric Midtone Split : 50
Parametric Shadow Split : 25
Parametric Shadows : 0
Perspective Horizontal : 0
Perspective Rotate : 0.0
Perspective Scale : 100
Perspective Vertical : 0
Post Crop Vignette Amount : 0
Process Version : 6.7
Shadows : 0
Shadows 2012 : +30
Sharpen Detail : 14
Sharpen Edge Masking : 1
Sharpen Radius : +0.8
Split Toning Balance : 0
Split Toning Highlight Hue : 0
Split Toning Highlight Saturation : 0
Split Toning Shadow Hue : 0
Split Toning Shadow Saturation : 0
Tone Curve Name : Linear
Tone Curve Name 2012 : Medium Contrast
Version : 7.0
Vignette Amount : 0
Whites 2012 : +5
Tone Curve : 0, 0, 255, 255
Tone Curve Blue : 0, 0, 255, 255
Tone Curve Green : 0, 0, 255, 255
Tone Curve PV2012 : 0, 0, 32, 22, 64, 56, 128, 128, 192, 196, 255, 255
Tone Curve PV2012 Blue : 0, 0, 255, 255
Tone Curve PV2012 Green : 0, 0, 255, 255
Tone Curve PV2012 Red : 0, 0, 255, 255
Tone Curve Red : 0, 0, 255, 255
Format : image/jpeg
Creator : ruggeroranzani
Rights : x-default
Create Date : 2014:08:24 15:42:04
Creator Tool : Adobe Photoshop Lightroom 4.0 (Windows)
Category : people
Derived From : .
Marked : True
Image Width : 190
Image Height : 300
Bits Per Sample : 8
Color Components : 1
Image Size : 190x300
Megapixels : 0.057