Uber Exif Photo
By-line : YURI-KRUZHNOV
Copyright Notice : yuriylux
Photometric Interpretation : RGB
Make : NIKON CORPORATION
Camera Model Name : NIKON D3
Orientation : Horizontal (normal)
Samples Per Pixel : 3
Software : Adobe Photoshop CC (Macintosh)
Modify Date : 2014:10:01 23:31:36
Artist : YURI-KRUZHNOV
Copyright : yuriylux
Exposure Time : 1/13
F Number : 8.0
Exposure Program : Aperture-priority AE
ISO : 400
Date/Time Original : 2014:10:01 18:04:30
Create Date : 2014:10:01 18:04:30
Shutter Speed Value : 1/13
Aperture Value : 8.0
Exposure Compensation : 0
Max Aperture Value : 2.8
Metering Mode : Multi-segment
Light Source : Unknown
Flash : No Flash
Focal Length : 20.0 mm
Color Space : sRGB
Exif Image Width : 1681
Exif Image Height : 1329
Sensing Method : One-chip color area
Scene Type : Directly photographed
CFA Pattern : [Red,Green][Green,Blue]
Custom Rendered : Normal
Exposure Mode : Auto
White Balance : Auto
Digital Zoom Ratio : 1
Focal Length In 35mm Format : 20 mm
Scene Capture Type : Standard
Gain Control : Low gain up
Contrast : Normal
Saturation : Normal
Sharpness : Normal
Subject Distance Range : Unknown
Serial Number : 2057367
Lens Info : 17-35mm f/2.8
Lens Model : 17.0-35.0 mm f/2.8
Profile Description : sRGB IEC61966-2.1
Format : image/jpeg
Creator Tool : Adobe Photoshop Lightroom 5.3 (Macintosh)
Lens : 17.0-35.0 mm f/2.8
Image Number : 50625
Approximate Focus Distance : 1.5
Date Created : 2014:10:01 18:04:30.028
Color Mode : RGB
ICC Profile Name : sRGB IEC61966-2.1
Version : 8.3
Process Version : 6.7
Auto White Version : 134348800
Color Temperature : 4950
Tint : +4
Luminance Smoothing : 0
Color Noise Reduction : 25
Vignette Amount : 0
Shadow Tint : 0
Red Hue : 0
Red Saturation : 0
Green Hue : 0
Green Saturation : 0
Blue Hue : 0
Blue Saturation : 0
Vibrance : 0
Hue Adjustment Red : 0
Hue Adjustment Orange : 0
Hue Adjustment Yellow : 0
Hue Adjustment Green : 0
Hue Adjustment Aqua : 0
Hue Adjustment Blue : 0
Hue Adjustment Purple : 0
Hue Adjustment Magenta : 0
Saturation Adjustment Red : 0
Saturation Adjustment Orange : 0
Saturation Adjustment Yellow : 0
Saturation Adjustment Green : 0
Saturation Adjustment Aqua : 0
Saturation Adjustment Blue : 0
Saturation Adjustment Purple : 0
Saturation Adjustment Magenta : 0
Luminance Adjustment Red : 0
Luminance Adjustment Orange : 0
Luminance Adjustment Yellow : 0
Luminance Adjustment Green : 0
Luminance Adjustment Aqua : 0
Luminance Adjustment Blue : 0
Luminance Adjustment Purple : 0
Luminance Adjustment Magenta : 0
Split Toning Shadow Hue : 0
Split Toning Shadow Saturation : 0
Split Toning Highlight Hue : 0
Split Toning Highlight Saturation : 0
Split Toning Balance : 0
Parametric Shadows : 0
Parametric Darks : 0
Parametric Lights : 0
Parametric Highlights : 0
Parametric Shadow Split : 25
Parametric Midtone Split : 50
Parametric Highlight Split : 75
Sharpen Radius : +1.0
Sharpen Detail : 25
Sharpen Edge Masking : 0
Post Crop Vignette Amount : 0
Grain Amount : 0
Color Noise Reduction Detail : 50
Color Noise Reduction Smoothness : 50
Lens Profile Enable : 1
Lens Manual Distortion Amount : 0
Perspective Vertical : 0
Perspective Horizontal : 0
Perspective Rotate : 0.0
Perspective Scale : 100
Perspective Aspect : 0
Perspective Upright : Auto
Auto Lateral CA : 1
Exposure 2012 : -0.50
Contrast 2012 : +22
Highlights 2012 : 0
Shadows 2012 : +27
Whites 2012 : 0
Blacks 2012 : -21
Clarity 2012 : 0
Defringe Purple Amount : 0
Defringe Purple Hue Lo : 30
Defringe Purple Hue Hi : 70
Defringe Green Amount : 0
Defringe Green Hue Lo : 40
Defringe Green Hue Hi : 60
Convert To Grayscale : False
Tone Curve Name 2012 : Linear
Camera Profile : Adobe Standard
Lens Profile Setup : LensDefaults
Lens Profile Name : Adobe (Nikon AF-S Zoom-Nikkor 17-35mm f/2.8D IF-ED)
Lens Profile Filename : NIKON D3X (Nikon AF-S Zoom-Nikkor 17-35mm f2.8D IF-ED) - RAW.lcp
Lens Profile Distortion Scale : 100
Lens Profile Chromatic Aberration Scale : 100
Lens Profile Vignetting Scale : 100
Has Settings : True
Crop Top : 0.440642
Crop Left : 0.412184
Crop Bottom : 0.897951
Crop Right : 0.849817
Crop Angle : -1.82343
Crop Constrain To Warp : 1
Has Crop : True
Already Applied : True
Creator : YURI-KRUZHNOV
Rights : yuriylux
Tone Curve PV2012 : 0, 0, 255, 255
Tone Curve PV2012 Red : 0, 0, 255, 255
Tone Curve PV2012 Green : 0, 0, 255, 255
Tone Curve PV2012 Blue : 0, 0, 255, 255
Gradient Based Corr What : Correction
Gradient Based Corr Amount : 1.000000
Gradient Based Corr Active : true
Gradient Based Corr Saturation : -0.125092
Gradient Based Corr Sharpness : 0.001195
Gradient Based Corr Brightness : 0.000000
Gradient Based Corr Toning Hue : 0.000000
Gradient Based Corr Toning Saturation : 0.000000
Gradient Based Corr Exposure 2012 : -0.311029
Gradient Based Corr Contrast 2012 : 0.014614
Gradient Based Corr Highlights 2012 : 0.000000
Gradient Based Corr Shadows 2012 : 0.022151
Gradient Based Corr Clarity 2012 : 0.022335
Gradient Based Corr Luminance Noise : 0.008364
Gradient Based Corr Moire : 0.000000
Gradient Based Corr Defringe : 0.018842
Gradient Based Corr Temperature : 0.000000
Gradient Based Corr Tint : -0.036857
Gradient Based Corr Mask What : Mask/Gradient
Gradient Based Corr Mask Value : 1.000000
Gradient Based Corr Mask Zero X : 0.460871
Gradient Based Corr Mask Zero Y : 0.774394
Gradient Based Corr Mask Full X : 0.450163
Gradient Based Corr Mask Full Y : 0.882545
Image Width : 300
Image Height : 237
Bits Per Sample : 8
Color Components : 3
Aperture : 8.0
Image Size : 300x237
Megapixels : 0.071
Scale Factor To 35 mm Equivalent : 1.0
Shutter Speed : 1/13
Create Date : 2014:10:01 18:04:30.28
Date/Time Original : 2014:10:01 18:04:30.28
Circle Of Confusion : 0.030 mm
Depth Of Field : 12.76 m (0.79 - 13.56 m)
Field Of View : 84.0 deg
Focal Length : 20.0 mm (35 mm equivalent: 20.0 mm)
Hyperfocal Distance : 1.66 m
Light Value : 7.7
Lens ID : AF-S Nikkor 17-35mm f/2.8D IF-ED