Uber Exif Photo
By-line : Andres Iglesias
Make : Canon
Camera Model Name : Canon EOS 5D Mark II
Software : Adobe Photoshop Lightroom 3.4.1
Modify Date : 2011:06:10 17:59:31
Artist : Andres Iglesias
Exposure Time : 1.3
F Number : 9.0
Exposure Program : Manual
ISO : 200
Date/Time Original : 2011:06:10 17:19:01
Create Date : 2011:06:10 17:19:01
Shutter Speed Value : 1.3
Aperture Value : 9.0
Exposure Compensation : 0
Max Aperture Value : 1.2
Subject Distance : 1.11 m
Metering Mode : Spot
Flash : Off, Did not fire
Focal Length : 85.0 mm
Custom Rendered : Normal
Exposure Mode : Manual
White Balance : Auto
Scene Capture Type : Standard
Owner Name : Andres Iglesias
Serial Number : 1230702249
Lens Info : 85mm f/?
Lens Model : EF85mm f/1.2L II USM
Lens : EF85mm f/1.2L II USM
Image Number : 0
Approximate Focus Distance : 1.11
Flash Compensation : 0
Firmware : 2.0.9
Creator Tool : Adobe Photoshop Lightroom 3.4.1
Date Created : 2011:06:10 17:19:01.20
Version : 6.4.1
Process Version : 5.7
Color Temperature : 4800
Tint : +13
Exposure : -0.15
Shadows : 0
Brightness : +40
Contrast : +53
Sharpness : 52
Luminance Smoothing : 0
Color Noise Reduction : 25
Chromatic Aberration R : 0
Chromatic Aberration B : 0
Vignette Amount : 0
Shadow Tint : 0
Red Hue : 0
Red Saturation : 0
Green Hue : 0
Green Saturation : 0
Blue Hue : 0
Blue Saturation : 0
Fill Light : 3
Highlight Recovery : 0
Clarity : +27
Defringe : 0
Gray Mixer Red : -2
Gray Mixer Orange : -20
Gray Mixer Yellow : -24
Gray Mixer Green : -27
Gray Mixer Aqua : -16
Gray Mixer Blue : +13
Gray Mixer Purple : +17
Gray Mixer Magenta : +3
Split Toning Shadow Hue : 0
Split Toning Shadow Saturation : 0
Split Toning Highlight Hue : 0
Split Toning Highlight Saturation : 0
Split Toning Balance : 0
Parametric Shadows : +13
Parametric Darks : +13
Parametric Lights : 0
Parametric Highlights : 0
Parametric Shadow Split : 25
Parametric Midtone Split : 50
Parametric Highlight Split : 75
Sharpen Radius : +1.0
Sharpen Detail : 25
Sharpen Edge Masking : 35
Post Crop Vignette Amount : 0
Grain Amount : 0
Color Noise Reduction Detail : 50
Lens Profile Enable : 0
Lens Manual Distortion Amount : 0
Perspective Vertical : 0
Perspective Horizontal : 0
Perspective Rotate : 0.0
Perspective Scale : 100
Convert To Grayscale : True
Tone Curve Name : Medium Contrast
Camera Profile : Adobe Standard
Lens Profile Setup : LensDefaults
Has Settings : True
Crop Top : 0
Crop Left : 0.175657
Crop Bottom : 1
Crop Right : 0.832642
Crop Angle : 0
Crop Constrain To Warp : 0
Crop Width : 591
Crop Height : 600
Crop Unit : pixels
Has Crop : True
Already Applied : True
Creator : Andres Iglesias
Tone Curve : 0, 0, 32, 22, 64, 56, 128, 128, 192, 196, 255, 255
Image Width : 296
Image Height : 300
Bits Per Sample : 8
Color Components : 1
Aperture : 9.0
Image Size : 296x300
Megapixels : 0.089
Scale Factor To 35 mm Equivalent : 1.0
Shutter Speed : 1.3
Create Date : 2011:06:10 17:19:01.20
Date/Time Original : 2011:06:10 17:19:01.20
Circle Of Confusion : 0.031 mm
Depth Of Field : 0.09 m (1.07 - 1.16 m)
Field Of View : 24.5 deg
Focal Length : 85.0 mm (35 mm equivalent: 83.0 mm)
Hyperfocal Distance : 26.08 m
Light Value : 5.0
Lens ID : Canon EF 85mm f/1.2L II USM