Uber Exif Photo
Keywords : lilo
Copyright Notice : dierk topp
Caption-Abstract : SONY DSC
Copyright Flag : True
Image Description : SONY DSC
Make : SONY
Camera Model Name : NEX-5
Software : Adobe Photoshop Lightroom 3.4.1
Modify Date : 2011:07:02 18:40:14
Copyright : dierk topp
Exposure Time : 1/500
F Number : 1.0
Exposure Program : Aperture-priority AE
ISO : 200
Date/Time Original : 2011:07:01 20:18:22
Create Date : 2011:07:01 20:18:22
Shutter Speed Value : 1/500
Aperture Value : 1.0
Brightness Value : 2.75
Exposure Compensation : 0
Max Aperture Value : 1.0
Metering Mode : Multi-segment
Light Source : Unknown
Flash : Off, Did not fire
Color Space : Uncalibrated
Scene Type : Directly photographed
Custom Rendered : Normal
Exposure Mode : Auto
White Balance : Auto
Scene Capture Type : Standard
Contrast : Normal
Saturation : Normal
Sharpness : Normal
Lens : ----
Description : SONY DSC
Rights : dierk topp
Subject : lilo
Date Created : 2011:07:01 20:18:22
Property Release Status : Unknown (nil)
PLUS Version : 1.2.0
Creator Tool : Adobe Photoshop Lightroom 3.4.1
Rating : 5
Marked : True
Already Applied : True
Blue Hue : 0
Blue Saturation : 0
Brightness : +26
Camera Profile : Adobe Standard
Chromatic Aberration B : 0
Chromatic Aberration R : 0
Clarity : 0
Color Noise Reduction : 25
Convert To Grayscale : True
Crop Angle : 0
Crop Bottom : 1
Crop Height : 1000
Crop Left : 0.192865
Crop Right : 0.878484
Crop Top : 0
Crop Unit : pixels
Crop Width : 1030
Defringe : 0
Exposure : +0.40
Fill Light : 8
Gray Mixer Aqua : -37
Gray Mixer Blue : -22
Gray Mixer Green : -37
Gray Mixer Magenta : +4
Gray Mixer Orange : -7
Gray Mixer Purple : +15
Gray Mixer Red : +24
Gray Mixer Yellow : -41
Green Hue : 0
Green Saturation : 0
Has Crop : True
Has Settings : True
Highlight Recovery : 32
Luminance Smoothing : 0
Parametric Darks : -22
Parametric Highlight Split : 75
Parametric Highlights : -22
Parametric Lights : -10
Parametric Midtone Split : 50
Parametric Shadow Split : 25
Parametric Shadows : 0
Post Crop Vignette Amount : -48
Post Crop Vignette Feather : 50
Post Crop Vignette Midpoint : 50
Post Crop Vignette Roundness : 0
Red Hue : 0
Red Saturation : 0
Shadow Tint : 0
Shadows : 29
Sharpen Detail : 35
Sharpen Edge Masking : 0
Sharpen Radius : +1.0
Split Toning Balance : 0
Split Toning Highlight Hue : 0
Split Toning Highlight Saturation : 0
Split Toning Shadow Hue : 0
Split Toning Shadow Saturation : 0
Color Temperature : 4250
Tint : +6
Tone Curve : 0, 0, 32, 22, 64, 56, 128, 128, 192, 196, 255, 255
Tone Curve Name : Medium Contrast
Version : 6.4.1
Vignette Amount : 0
Image Width : 300
Image Height : 292
Bits Per Sample : 8
Color Components : 1
Aperture : 1.0
Image Size : 300x292
Megapixels : 0.088
Shutter Speed : 1/500
Light Value : 8.0