Uber Exif Photo
Photometric Interpretation : RGB
Make : SONY
Camera Model Name : NEX-7
Orientation : Horizontal (normal)
Samples Per Pixel : 3
Software : Adobe Photoshop CC 2014 (Macintosh)
Modify Date : 2015:01:21 10:25:17
Exposure Time : 1/400
F Number : 5.6
Exposure Program : Aperture-priority AE
ISO : 100
Sensitivity Type : Recommended Exposure Index
Recommended Exposure Index : 100
Date/Time Original : 2015:01:11 11:11:16
Create Date : 2015:01:11 11:11:16
Shutter Speed Value : 1/400
Aperture Value : 5.6
Brightness Value : 8.48203125
Exposure Compensation : -0.3
Max Aperture Value : 3.5
Metering Mode : Spot
Light Source : Unknown
Flash : Off, Did not fire
Focal Length : 18.0 mm
Color Space : Uncalibrated
Exif Image Width : 5959
Exif Image Height : 3973
Scene Type : Directly photographed
Custom Rendered : Normal
Exposure Mode : Auto
White Balance : Auto
Focal Length In 35mm Format : 27 mm
Scene Capture Type : Standard
Contrast : Normal
Saturation : Normal
Sharpness : Normal
Lens Info : 18-55mm f/3.5-5.6
Lens Model : E 18-55mm F3.5-5.6 OSS
Profile Description : ProPhoto RGB
Rating : 0
Label :
Creator Tool : Adobe Photoshop CC 2014 (Macintosh)
Lens : E 18-55mm F3.5-5.6 OSS
Lens Distort Info : 33566/32768 -97127438/1073741824 30666948/1073741824 24614008/1073741824
Date Created : 2015:01:11 11:11:16
Color Mode : RGB
ICC Profile Name : ProPhoto RGB
Format : image/jpeg
Raw File Name : DSC06056.ARW
Version : 8.7.1
Process Version : 6.7
Auto White Version : 134348800
Color Temperature : 7144
Tint : +1
Luminance Smoothing : 0
Color Noise Reduction : 25
Vignette Amount : 0
Shadow Tint : 0
Red Hue : 0
Red Saturation : 0
Green Hue : 0
Green Saturation : 0
Blue Hue : 0
Blue Saturation : 0
Vibrance : 0
Hue Adjustment Red : 0
Hue Adjustment Orange : 0
Hue Adjustment Yellow : 0
Hue Adjustment Green : 0
Hue Adjustment Aqua : 0
Hue Adjustment Blue : 0
Hue Adjustment Purple : 0
Hue Adjustment Magenta : 0
Saturation Adjustment Red : 0
Saturation Adjustment Orange : 0
Saturation Adjustment Yellow : 0
Saturation Adjustment Green : 0
Saturation Adjustment Aqua : 0
Saturation Adjustment Blue : 0
Saturation Adjustment Purple : 0
Saturation Adjustment Magenta : 0
Luminance Adjustment Red : 0
Luminance Adjustment Orange : 0
Luminance Adjustment Yellow : 0
Luminance Adjustment Green : 0
Luminance Adjustment Aqua : 0
Luminance Adjustment Blue : 0
Luminance Adjustment Purple : 0
Luminance Adjustment Magenta : 0
Split Toning Shadow Hue : 0
Split Toning Shadow Saturation : 0
Split Toning Highlight Hue : 0
Split Toning Highlight Saturation : 0
Split Toning Balance : 0
Parametric Shadows : 0
Parametric Darks : 0
Parametric Lights : 0
Parametric Highlights : 0
Parametric Shadow Split : 25
Parametric Midtone Split : 50
Parametric Highlight Split : 75
Sharpen Radius : +1.0
Sharpen Detail : 25
Sharpen Edge Masking : 0
Post Crop Vignette Amount : 0
Grain Amount : 0
Color Noise Reduction Detail : 50
Color Noise Reduction Smoothness : 50
Lens Profile Enable : 0
Lens Manual Distortion Amount : 0
Perspective Vertical : 0
Perspective Horizontal : 0
Perspective Rotate : 0.0
Perspective Scale : 100
Perspective Aspect : 0
Perspective Upright : Off
Auto Lateral CA : 0
Exposure 2012 : +1.20
Contrast 2012 : 0
Highlights 2012 : 0
Shadows 2012 : 0
Whites 2012 : 0
Blacks 2012 : 0
Clarity 2012 : 0
Defringe Purple Amount : 0
Defringe Purple Hue Lo : 30
Defringe Purple Hue Hi : 70
Defringe Green Amount : 0
Defringe Green Hue Lo : 40
Defringe Green Hue Hi : 60
Convert To Grayscale : False
Tone Curve Name : Medium Contrast
Tone Curve Name 2012 : Linear
Camera Profile : Adobe Standard
Lens Profile Setup : LensDefaults
Has Settings : True
Crop Top : 0
Crop Left : 0.007833
Crop Bottom : 1
Crop Right : 0.992167
Crop Angle : 0.418789
Crop Constrain To Warp : 0
Has Crop : True
Already Applied : True
Tone Curve : 0, 0, 32, 22, 64, 56, 128, 128, 192, 196, 255, 255
Tone Curve Red : 0, 0, 255, 255
Tone Curve Green : 0, 0, 255, 255
Tone Curve Blue : 0, 0, 255, 255
Tone Curve PV2012 : 0, 0, 255, 255
Tone Curve PV2012 Red : 0, 0, 255, 255
Tone Curve PV2012 Green : 0, 0, 255, 255
Tone Curve PV2012 Blue : 0, 0, 255, 255
Paint Correction What : Correction
Paint Correction Amount : 1.000000
Paint Correction Active : true
Paint Correction Exposure : 0.000000
Paint Correction Saturation : 0.041608
Paint Correction Contrast : 0.000000
Paint Correction Clarity : 0.000000
Paint Correction Sharpness : 0.072858
Paint Correction Brightness : 0.000000
Paint Correction Toning Hue : 307.257996
Paint Correction Toning Saturation : 0.007305
Paint Correction Exposure 2012 : 0.099105
Paint Correction Contrast 2012 : 0.015801
Paint Correction Highlights 2012 : -0.004652
Paint Correction Shadows 2012 : -0.029933
Paint Correction Clarity 2012 : 0.109989
Paint Correction Luminance Noise : 0.000000
Paint Correction Moire : 0.000000
Paint Correction Defringe : 0.000000
Paint Correction Temperature : 0.233673
Paint Correction Tint : 0.000000
Paint Correction Mask What : Mask/Paint
Paint Correction Mask Value : 0.976391
Paint Correction Mask Radius : 0.008612
Paint Correction Mask Flow : 0.415842
Paint Correction Mask Center Weight : 1.000000
Gradient Based Corr What : Correction
Gradient Based Corr Amount : 1.000000
Gradient Based Corr Active : true
Gradient Based Corr Exposure : 0.000000
Gradient Based Corr Saturation : 0.041608
Gradient Based Corr Contrast : 0.000000
Gradient Based Corr Clarity : 0.000000
Gradient Based Corr Sharpness : 0.072858
Gradient Based Corr Brightness : 0.000000
Gradient Based Corr Toning Hue : 307.257996
Gradient Based Corr Toning Saturation : 0.007305
Gradient Based Corr Exposure 2012 : -0.603669
Gradient Based Corr Contrast 2012 : -0.108058
Gradient Based Corr Highlights 2012 : -0.004652
Gradient Based Corr Shadows 2012 : -0.029933
Gradient Based Corr Clarity 2012 : 0.109989
Gradient Based Corr Luminance Noise : 0.000000
Gradient Based Corr Moire : 0.000000
Gradient Based Corr Defringe : 0.000000
Gradient Based Corr Temperature : 0.160112
Gradient Based Corr Tint : 0.000000
Gradient Based Corr Mask What : Mask/Gradient
Gradient Based Corr Mask Value : 1.000000
Gradient Based Corr Mask Zero X : 0.578693
Gradient Based Corr Mask Zero Y : 0.415670
Gradient Based Corr Mask Full X : 0.582311
Gradient Based Corr Mask Full Y : 0.267946
Circ Grad Based Corr What : Correction
Circ Grad Based Corr Amount : 1.000000
Circ Grad Based Corr Active : true
Circ Grad Based Corr Exposure : 0.000000
Circ Grad Based Corr Saturation : 0.041608
Circ Grad Based Corr Contrast : 0.000000
Circ Grad Based Corr Clarity : 0.000000
Circ Grad Based Corr Sharpness : 0.072858
Circ Grad Based Corr Brightness : 0.000000
Circ Grad Based Corr Toning Hue : 307.257996
Circ Grad Based Corr Toning Saturation : 0.007305
Circ Grad Based Corr Exposure 2012 : -0.129301
Circ Grad Based Corr Contrast 2012 : 0.015801
Circ Grad Based Corr Highlights 2012 : -0.004652
Circ Grad Based Corr Shadows 2012 : -0.029933
Circ Grad Based Corr Clarity 2012 : 0.109989
Circ Grad Based Corr Luminance Noise : 0.000000
Circ Grad Based Corr Moire : 0.000000
Circ Grad Based Corr Defringe : 0.000000
Circ Grad Based Corr Temperature : -0.300211
Circ Grad Based Corr Tint : 0.000000
Circ Grad Based Corr Mask What : Mask/CircularGradient
Circ Grad Based Corr Mask Value : 1.000000
Circ Grad Based Corr Mask Top : -0.878528
Circ Grad Based Corr Mask Left : 0.008983
Circ Grad Based Corr Mask Bottom : 1.242300
Circ Grad Based Corr Mask Right : 0.755543
Circ Grad Based Corr Mask Angle : 44.936900
Circ Grad Based Corr Mask Midpoint : +50
Circ Grad Based Corr Mask Roundness : 0
Circ Grad Based Corr Mask Feather : +100
Circ Grad Based Corr Mask Flipped : false
Circ Grad Based Corr Mask Version : +2
Image Width : 300
Image Height : 200
Bits Per Sample : 8
Color Components : 3
Aperture : 5.6
Image Size : 300x200
Megapixels : 0.060
Scale Factor To 35 mm Equivalent : 1.5
Shutter Speed : 1/400
Circle Of Confusion : 0.020 mm
Field Of View : 67.4 deg
Focal Length : 18.0 mm (35 mm equivalent: 27.0 mm)
Hyperfocal Distance : 2.89 m
Light Value : 13.6
Lens ID : E 18-55mm F3.5-5.6 OSS