Uber Exif Photo
Keywords : 35mm, 50mm, Applecross, Fraser, Holiday, Leica, M9, Sky, Summicron, Torridon
Make : Leica Camera AG
Camera Model Name : M9 Digital Camera
Orientation : Horizontal (normal)
Software : Adobe Photoshop CS5 Windows
Modify Date : 2011:09:18 15:11:36
Maker Note Safety : Safe
Exposure Time : 1/2000
F Number : 5.7
Exposure Program : Manual
ISO : 160
Sensitivity Type : Unknown
Date/Time Original : 2011:08:02 15:20:08
Create Date : 2011:08:02 15:20:08
Shutter Speed Value : 1/2000
Aperture Value : 5.7
Exposure Compensation : 0
Max Aperture Value : 1.4
Metering Mode : Center-weighted average
Light Source : Unknown
Flash : No Flash
Focal Length : 50.0 mm
Color Space : sRGB
Exif Image Width : 1500
Exif Image Height : 634
Scene Type : Directly photographed
Exposure Mode : Manual
White Balance : Auto
Digital Zoom Ratio : 0
Focal Length In 35mm Format : 50 mm
Scene Capture Type : Standard
Serial Number : 3973621
Lens Model : Leica Summilux-M 50mm f/1.4 ASPH.
Profile Description : sRGB IEC61966-2.1
Creator Tool : Adobe Photoshop CS5 Windows
Rating : 5
Lens : Leica Summilux-M 50mm f/1.4 ASPH.
Format : image/jpeg
Raw File Name : L1000685.DNG
Version : 6.3
Process Version : 5.7
Color Temperature : 5450
Tint : +8
Exposure : 0.00
Shadows : 8
Brightness : +42
Contrast : +50
Saturation : 0
Sharpness : 65
Luminance Smoothing : 0
Color Noise Reduction : 25
Chromatic Aberration R : 0
Chromatic Aberration B : 0
Vignette Amount : 0
Shadow Tint : 0
Red Hue : 0
Red Saturation : 0
Green Hue : 0
Green Saturation : 0
Blue Hue : 0
Blue Saturation : 0
Fill Light : 10
Vibrance : +15
Highlight Recovery : 20
Clarity : +25
Defringe : 0
Hue Adjustment Red : 0
Hue Adjustment Orange : 0
Hue Adjustment Yellow : 0
Hue Adjustment Green : 0
Hue Adjustment Aqua : 0
Hue Adjustment Blue : 0
Hue Adjustment Purple : 0
Hue Adjustment Magenta : 0
Saturation Adjustment Red : 0
Saturation Adjustment Orange : 0
Saturation Adjustment Yellow : 0
Saturation Adjustment Green : 0
Saturation Adjustment Aqua : 0
Saturation Adjustment Blue : 0
Saturation Adjustment Purple : 0
Saturation Adjustment Magenta : 0
Luminance Adjustment Red : 0
Luminance Adjustment Orange : 0
Luminance Adjustment Yellow : 0
Luminance Adjustment Green : 0
Luminance Adjustment Aqua : 0
Luminance Adjustment Blue : 0
Luminance Adjustment Purple : 0
Luminance Adjustment Magenta : 0
Split Toning Shadow Hue : 0
Split Toning Shadow Saturation : 0
Split Toning Highlight Hue : 0
Split Toning Highlight Saturation : 0
Split Toning Balance : 0
Parametric Shadows : 0
Parametric Darks : 0
Parametric Lights : 0
Parametric Highlights : 0
Parametric Shadow Split : 25
Parametric Midtone Split : 50
Parametric Highlight Split : 75
Sharpen Radius : +1.5
Sharpen Detail : 15
Sharpen Edge Masking : 55
Post Crop Vignette Amount : 0
Grain Amount : 0
Color Noise Reduction Detail : 50
Lens Profile Enable : 0
Lens Manual Distortion Amount : 0
Perspective Vertical : 0
Perspective Horizontal : 0
Perspective Rotate : 0.0
Perspective Scale : 100
Convert To Grayscale : False
Tone Curve Name : Strong Contrast
Camera Profile : Adobe Standard
Lens Profile Setup : LensDefaults
Has Settings : True
Has Crop : False
Already Applied : True
Color Mode : RGB
ICC Profile Name : sRGB IEC61966-2.1
Date Created : 2011:08:02 15:20:08
Hierarchical Subject : Events|Holiday, People|Fraser, Places|Torridon, Other Keywords|35mm, Other Keywords|50mm, Other Keywords|M9, Other Keywords|Leica, Other Keywords|Summicron, Other Keywords|Sky, Places|Applecross
Subject : 35mm, 50mm, Applecross, Fraser, Holiday, Leica, M9, Sky, Summicron, Torridon
Tone Curve : 0, 0, 32, 16, 64, 50, 128, 128, 192, 202, 255, 255
Image Width : 300
Image Height : 127
Bits Per Sample : 8
Color Components : 3
Aperture : 5.7
Image Size : 300x127
Megapixels : 0.038
Scale Factor To 35 mm Equivalent : 1.0
Shutter Speed : 1/2000
Circle Of Confusion : 0.030 mm
Field Of View : 39.6 deg
Focal Length : 50.0 mm (35 mm equivalent: 50.0 mm)
Hyperfocal Distance : 14.60 m
Light Value : 15.3
Lens ID : Summilux-M 50mm f/1.4 ASPH.