Uber Exif Photo
Make : Panasonic
Camera Model Name : DMC-LX100
Software : Adobe Photoshop Lightroom 5.7 (Macintosh)
Modify Date : 2015:03:08 21:59:11
Exposure Time : 1/40
F Number : 2.8
Exposure Program : Manual
ISO : 1600
Date/Time Original : 2015:03:05 20:10:56
Create Date : 2015:03:05 20:10:56
Shutter Speed Value : 1/40
Aperture Value : 2.8
Exposure Compensation : 0
Max Aperture Value : 2.1
Metering Mode : Multi-segment
Light Source : Unknown
Flash : Off, Did not fire
Focal Length : 12.5 mm
Sensing Method : One-chip color area
Scene Type : Directly photographed
Custom Rendered : Normal
Exposure Mode : Manual
White Balance : Auto
Digital Zoom Ratio : 0
Focal Length In 35mm Format : 28 mm
Scene Capture Type : Standard
Gain Control : High gain up
Contrast : High
Saturation : Normal
Sharpness : Hard
Profile Description : sRGB IEC61966-2.1
Creator Tool : Adobe Photoshop Lightroom 5.7 (Macintosh)
Date Created : 2015:03:05 20:10:56.932
Format : image/jpeg
Version : 8.7
Process Version : 6.7
Auto White Version : 134348800
Color Temperature : 5691
Tint : +118
Luminance Smoothing : 0
Color Noise Reduction : 15
Vignette Amount : -75
Vignette Midpoint : 0
Shadow Tint : -100
Red Hue : -38
Red Saturation : +100
Green Hue : +69
Green Saturation : -100
Blue Hue : +100
Blue Saturation : +19
Vibrance : -38
Hue Adjustment Red : 0
Hue Adjustment Orange : -5
Hue Adjustment Yellow : 0
Hue Adjustment Green : -100
Hue Adjustment Aqua : -21
Hue Adjustment Blue : -33
Hue Adjustment Purple : -52
Hue Adjustment Magenta : 0
Saturation Adjustment Red : 0
Saturation Adjustment Orange : 0
Saturation Adjustment Yellow : +38
Saturation Adjustment Green : +100
Saturation Adjustment Aqua : +98
Saturation Adjustment Blue : +67
Saturation Adjustment Purple : -93
Saturation Adjustment Magenta : 0
Luminance Adjustment Red : 0
Luminance Adjustment Orange : +19
Luminance Adjustment Yellow : +100
Luminance Adjustment Green : +100
Luminance Adjustment Aqua : +100
Luminance Adjustment Blue : -100
Luminance Adjustment Purple : +48
Luminance Adjustment Magenta : 0
Split Toning Shadow Hue : 60
Split Toning Shadow Saturation : 24
Split Toning Highlight Hue : 223
Split Toning Highlight Saturation : 13
Split Toning Balance : 0
Parametric Shadows : -31
Parametric Darks : +62
Parametric Lights : +100
Parametric Highlights : -2
Parametric Shadow Split : 25
Parametric Midtone Split : 50
Parametric Highlight Split : 75
Sharpen Radius : +1.0
Sharpen Detail : 25
Sharpen Edge Masking : 0
Post Crop Vignette Amount : 0
Grain Amount : 0
Color Noise Reduction Detail : 50
Color Noise Reduction Smoothness : 50
Lens Profile Enable : 0
Lens Manual Distortion Amount : 0
Perspective Vertical : 0
Perspective Horizontal : 0
Perspective Rotate : 0.0
Perspective Scale : 100
Perspective Aspect : 0
Perspective Upright : Off
Auto Lateral CA : 0
Exposure 2012 : 0.00
Contrast 2012 : 0
Highlights 2012 : 0
Shadows 2012 : 0
Whites 2012 : 0
Blacks 2012 : 0
Clarity 2012 : 0
Defringe Purple Amount : 0
Defringe Purple Hue Lo : 30
Defringe Purple Hue Hi : 70
Defringe Green Amount : 0
Defringe Green Hue Lo : 40
Defringe Green Hue Hi : 60
Convert To Grayscale : False
Tone Curve Name : Linear
Tone Curve Name 2012 : Linear
Camera Profile : ACR 2.4
Lens Profile Setup : LensDefaults
Has Settings : True
Crop Top : 0.000532
Crop Left : 0.00675
Crop Bottom : 1
Crop Right : 0.984366
Crop Angle : 0.587664
Crop Constrain To Warp : 0
Has Crop : True
Already Applied : True
Tone Curve : 0, 0, 255, 255
Tone Curve Red : 0, 0, 255, 255
Tone Curve Green : 0, 0, 255, 255
Tone Curve Blue : 0, 0, 255, 255
Tone Curve PV2012 : 0, 0, 255, 255
Tone Curve PV2012 Red : 0, 0, 255, 255
Tone Curve PV2012 Green : 0, 0, 255, 255
Tone Curve PV2012 Blue : 0, 0, 255, 255
Image Width : 300
Image Height : 201
Bits Per Sample : 8
Color Components : 3
Aperture : 2.8
Image Size : 300x201
Megapixels : 0.060
Scale Factor To 35 mm Equivalent : 2.2
Shutter Speed : 1/40
Create Date : 2015:03:05 20:10:56.932
Date/Time Original : 2015:03:05 20:10:56.932
Circle Of Confusion : 0.013 mm
Field Of View : 65.5 deg
Focal Length : 12.5 mm (35 mm equivalent: 28.0 mm)
Hyperfocal Distance : 4.16 m
Light Value : 4.3