Uber Exif Photo
Caption-Abstract : Exif_JPEG_PICTURE
Image Description : Exif_JPEG_PICTURE
Make : RICOH
Camera Model Name : GXR A12
Software : Adobe Photoshop Lightroom 5.7.1 (Windows)
Modify Date : 2015:04:16 21:52:22
Exposure Time : 1/800
F Number : 5.6
Exposure Program : Program AE
ISO : 200
Sensitivity Type : Standard Output Sensitivity
Date/Time Original : 2014:03:29 16:00:58
Create Date : 2014:03:29 16:00:58
Shutter Speed Value : 1/800
Aperture Value : 5.6
Brightness Value : 8.9
Exposure Compensation : +0.3
Max Aperture Value : 2.4
Metering Mode : Multi-segment
Light Source : Unknown
Flash : Off, Did not fire
Focal Length : 18.3 mm
Color Space : sRGB
Exposure Mode : Auto
White Balance : Auto
Scene Capture Type : Standard
Sharpness : Normal
Lens Info : 18.3mm f/2.5
Lens Make : RICOH
Lens Model : GR LENS A12 28mm F2.5
Format : image/jpeg
Creator Tool : Adobe Photoshop Lightroom 5.7.1 (Windows)
Lens : GR LENS A12 28mm F2.5
Date Created : 2014:03:29 16:00:58
Version : 8.7.1
Process Version : 6.7
Auto White Version : 134348800
Incremental Temperature : 0
Incremental Tint : 0
Luminance Smoothing : 40
Color Noise Reduction : 0
Vignette Amount : 0
Shadow Tint : 0
Red Hue : 0
Red Saturation : 0
Green Hue : 0
Green Saturation : 0
Blue Hue : 0
Blue Saturation : 0
Gray Mixer Red : -10
Gray Mixer Orange : -19
Gray Mixer Yellow : -23
Gray Mixer Green : -27
Gray Mixer Aqua : -18
Gray Mixer Blue : +9
Gray Mixer Purple : +15
Gray Mixer Magenta : +4
Split Toning Shadow Hue : 0
Split Toning Shadow Saturation : 0
Split Toning Highlight Hue : 0
Split Toning Highlight Saturation : 0
Split Toning Balance : 0
Parametric Shadows : +77
Parametric Darks : 0
Parametric Lights : +9
Parametric Highlights : -53
Parametric Shadow Split : 25
Parametric Midtone Split : 50
Parametric Highlight Split : 75
Sharpen Radius : +0.8
Sharpen Detail : 35
Sharpen Edge Masking : 0
Post Crop Vignette Amount : 0
Grain Amount : 0
Luminance Noise Reduction Detail : 50
Luminance Noise Reduction Contrast : 0
Lens Profile Enable : 0
Lens Manual Distortion Amount : 0
Perspective Vertical : 0
Perspective Horizontal : 0
Perspective Rotate : 0.0
Perspective Scale : 100
Perspective Aspect : 0
Perspective Upright : Off
Auto Lateral CA : 0
Exposure 2012 : 0.00
Contrast 2012 : +48
Highlights 2012 : -28
Shadows 2012 : +31
Whites 2012 : 0
Blacks 2012 : 0
Clarity 2012 : +60
Convert To Grayscale : True
Tone Curve Name : Linear
Tone Curve Name 2012 : Medium Contrast
Camera Profile : Embedded
Lens Profile Setup : LensDefaults
Has Settings : True
Crop Top : 0.261217
Crop Left : 0.019991
Crop Bottom : 0.977446
Crop Right : 0.980009
Crop Angle : 2.02262
Crop Constrain To Warp : 0
Has Crop : True
Already Applied : True
Description : Exif_JPEG_PICTURE
Tone Curve : 0, 0, 255, 255
Tone Curve Red : 0, 0, 255, 255
Tone Curve Green : 0, 0, 255, 255
Tone Curve Blue : 0, 0, 255, 255
Tone Curve PV2012 : 0, 0, 32, 22, 64, 56, 128, 128, 192, 196, 255, 255
Tone Curve PV2012 Red : 0, 0, 255, 255
Tone Curve PV2012 Green : 0, 0, 255, 255
Tone Curve PV2012 Blue : 0, 0, 255, 255
Gradient Based Corr What : Correction
Gradient Based Corr Amount : 1.000000
Gradient Based Corr Active : true
Gradient Based Corr Saturation : 0.000000
Gradient Based Corr Sharpness : 0.000000
Gradient Based Corr Brightness : 0.000000
Gradient Based Corr Toning Hue : 233.000000
Gradient Based Corr Toning Saturation : 0.000000
Gradient Based Corr Exposure 2012 : 0.000000
Gradient Based Corr Contrast 2012 : 0.000000
Gradient Based Corr Highlights 2012 : -1.000000
Gradient Based Corr Shadows 2012 : 0.965726
Gradient Based Corr Clarity 2012 : 1.000000
Gradient Based Corr Luminance Noise : 0.000000
Gradient Based Corr Moire : 0.000000
Gradient Based Corr Defringe : 0.000000
Gradient Based Corr Temperature : 0.000000
Gradient Based Corr Tint : 0.000000
Gradient Based Corr Mask What : Mask/Gradient
Gradient Based Corr Mask Value : 1.000000
Gradient Based Corr Mask Zero X : 1.024490
Gradient Based Corr Mask Zero Y : 0.400483
Gradient Based Corr Mask Full X : 1.009460
Gradient Based Corr Mask Full Y : 0.400483
Image Width : 300
Image Height : 154
Bits Per Sample : 8
Color Components : 1
Aperture : 5.6
Image Size : 300x154
Megapixels : 0.046
Shutter Speed : 1/800
Light Value : 13.6
Lens ID : GR LENS A12 28mm F2.5