Uber Exif Photo
Make : Leica Camera AG
Camera Model Name : M8 Digital Camera
Orientation : Horizontal (normal)
Software : Adobe Photoshop CS5 Macintosh
Modify Date : 2011:12:22 20:30:17
Exposure Time : 1/8000
F Number : 4.8
Exposure Program : Aperture-priority AE
ISO : 320
Date/Time Original : 2011:12:22 12:22:57
Create Date : 2011:12:22 12:22:57
Shutter Speed Value : 1/8000
Aperture Value : 4.8
Exposure Compensation : -0.664
Max Aperture Value : 1.0
Metering Mode : Center-weighted average
Light Source : Unknown
Flash : Auto, Did not fire
Color Space : Uncalibrated
Exif Image Width : 1024
Exif Image Height : 689
Scene Type : Directly photographed
White Balance : Manual
Digital Zoom Ratio : 0
Scene Capture Type : Standard
Serial Number : 3104624
Creator Tool : Adobe Photoshop CS5 Macintosh
Date Created : 2011:12:22 12:22:57
Color Mode : RGB
ICC Profile Name : Adobe RGB (1998)
Format : image/jpeg
Version : 6.6
Process Version : 5.7
Color Temperature : 5700
Tint : +14
Exposure : +1.15
Shadows : 10
Brightness : +50
Contrast : +25
Sharpness : 55
Luminance Smoothing : 10
Color Noise Reduction : 25
Chromatic Aberration R : 0
Chromatic Aberration B : 0
Vignette Amount : 0
Shadow Tint : 0
Red Hue : 0
Red Saturation : 0
Green Hue : 0
Green Saturation : 0
Blue Hue : 0
Blue Saturation : 0
Fill Light : 30
Highlight Recovery : 0
Clarity : 0
Defringe : 0
Gray Mixer Red : +62
Gray Mixer Orange : 0
Gray Mixer Yellow : +56
Gray Mixer Green : 0
Gray Mixer Aqua : -19
Gray Mixer Blue : 0
Gray Mixer Purple : 0
Gray Mixer Magenta : 0
Split Toning Shadow Hue : 0
Split Toning Shadow Saturation : 0
Split Toning Highlight Hue : 0
Split Toning Highlight Saturation : 0
Split Toning Balance : 0
Parametric Shadows : -42
Parametric Darks : -9
Parametric Lights : +37
Parametric Highlights : -19
Parametric Shadow Split : 25
Parametric Midtone Split : 50
Parametric Highlight Split : 75
Sharpen Radius : +0.8
Sharpen Detail : 30
Sharpen Edge Masking : 39
Post Crop Vignette Amount : -12
Post Crop Vignette Midpoint : 50
Post Crop Vignette Feather : 50
Post Crop Vignette Roundness : 0
Post Crop Vignette Style : Highlight Priority
Post Crop Vignette Highlight Contrast : 0
Grain Amount : 0
Luminance Noise Reduction Detail : 50
Color Noise Reduction Detail : 50
Luminance Noise Reduction Contrast : 0
Lens Profile Enable : 0
Lens Manual Distortion Amount : 0
Perspective Vertical : 0
Perspective Horizontal : 0
Perspective Rotate : 0.0
Perspective Scale : 100
Convert To Grayscale : True
Tone Curve Name : Medium Contrast
Camera Profile : Adobe Standard
Lens Profile Setup : LensDefaults
Has Settings : True
Crop Top : 0.159638
Crop Left : 0.000198
Crop Bottom : 0.993525
Crop Right : 0.842851
Crop Angle : -0.276939
Crop Constrain To Warp : 0
Crop Width : 3289
Crop Height : 2212
Crop Unit : pixels
Has Crop : True
Already Applied : True
Tone Curve : 0, 0, 32, 22, 64, 56, 128, 128, 192, 196, 255, 255
Paint Correction What : Correction
Paint Correction Amount : 1.000000
Paint Correction Active : true
Paint Correction Exposure : 0.148015
Paint Correction Saturation : 0.000000
Paint Correction Contrast : 0.000000
Paint Correction Clarity : 0.000000
Paint Correction Sharpness : 0.000000
Paint Correction Brightness : 0.000000
Paint Correction Toning Hue : 240.000000
Paint Correction Toning Saturation : 0.000000
Paint Correction Mask What : Mask/Paint
Paint Correction Mask Value : 1.000000
Paint Correction Mask Radius : 0.003918
Paint Correction Mask Flow : 0.904381
Paint Correction Mask Center Weight : 0.034562
Image Width : 300
Image Height : 202
Bits Per Sample : 8
Color Components : 1
Aperture : 4.8
Image Size : 300x202
Megapixels : 0.061
Scale Factor To 35 mm Equivalent : 5.2
Shutter Speed : 1/8000
Circle Of Confusion : 0.006 mm
Light Value : 15.8