Uber Exif Photo
Camera Model Name : LEICA X1
Software : Adobe Photoshop Lightroom 3.6 (Macintosh)
Modify Date : 2011:12:29 19:05:52
Exposure Time : 1/60
F Number : 2.8
ISO : 100
Date/Time Original : 2011:12:29 17:52:15
Create Date : 2011:12:29 17:52:15
Shutter Speed Value : 1/60
Aperture Value : 2.8
Focal Length : 24.0 mm
Serial Number : 000003828306
Lens Info : 24mm f/2.8
Lens Model : 24.0 mm f/2.8
Creator Tool : Adobe Photoshop Lightroom 3.6 (Macintosh)
Method : Details Enhancer
Strength : 20.0
Color Saturation : 46.0
Luminosity : 6.1
White Clip : 0.249550
Black Clip : 1.039250
Smoothing Mode : Slider
Smoothing : 4.7
Microcontrast : 0.0
Microsmoothing : 27.6
Gamma : 1.67
Highlights Smoothing : 65.0
Shadows Smoothing : 31.0
Shadows Clipping : 51.0
Color Temperature : 0.0
Saturation Highlights : -4.6
Saturation Shadows : 0.0
Is Pano 360 : No
Lens : 24.0 mm f/2.8
Approximate Focus Distance : 4.5
Date Created : 2011:12:29 17:52:15
Format : image/jpeg
Version : 6.6
Process Version : 5.7
White Balance : As Shot
Incremental Temperature : 0
Incremental Tint : 0
Exposure : 0.00
Shadows : 3
Brightness : 0
Contrast : 0
Saturation : 0
Sharpness : 0
Luminance Smoothing : 0
Color Noise Reduction : 0
Chromatic Aberration R : 0
Chromatic Aberration B : 0
Vignette Amount : 0
Shadow Tint : 0
Red Hue : 0
Red Saturation : 0
Green Hue : 0
Green Saturation : 0
Blue Hue : 0
Blue Saturation : 0
Fill Light : 5
Vibrance : 0
Highlight Recovery : 0
Clarity : 0
Defringe : 0
Hue Adjustment Red : 0
Hue Adjustment Orange : 0
Hue Adjustment Yellow : 0
Hue Adjustment Green : 0
Hue Adjustment Aqua : 0
Hue Adjustment Blue : 0
Hue Adjustment Purple : 0
Hue Adjustment Magenta : 0
Saturation Adjustment Red : 0
Saturation Adjustment Orange : 0
Saturation Adjustment Yellow : 0
Saturation Adjustment Green : 0
Saturation Adjustment Aqua : 0
Saturation Adjustment Blue : 0
Saturation Adjustment Purple : 0
Saturation Adjustment Magenta : 0
Luminance Adjustment Red : 0
Luminance Adjustment Orange : 0
Luminance Adjustment Yellow : 0
Luminance Adjustment Green : 0
Luminance Adjustment Aqua : 0
Luminance Adjustment Blue : 0
Luminance Adjustment Purple : 0
Luminance Adjustment Magenta : 0
Split Toning Shadow Hue : 0
Split Toning Shadow Saturation : 0
Split Toning Highlight Hue : 0
Split Toning Highlight Saturation : 0
Split Toning Balance : 0
Parametric Shadows : 0
Parametric Darks : 0
Parametric Lights : 0
Parametric Highlights : 0
Parametric Shadow Split : 25
Parametric Midtone Split : 50
Parametric Highlight Split : 75
Sharpen Radius : +1.0
Sharpen Detail : 25
Sharpen Edge Masking : 0
Post Crop Vignette Amount : -28
Post Crop Vignette Midpoint : 43
Post Crop Vignette Feather : 50
Post Crop Vignette Roundness : -50
Post Crop Vignette Style : Highlight Priority
Post Crop Vignette Highlight Contrast : 0
Grain Amount : 0
Lens Profile Enable : 0
Lens Manual Distortion Amount : 0
Perspective Vertical : 0
Perspective Horizontal : 0
Perspective Rotate : 0.0
Perspective Scale : 100
Convert To Grayscale : False
Tone Curve Name : Linear
Camera Profile : Embedded
Lens Profile Setup : LensDefaults
Has Settings : True
Has Crop : False
Already Applied : True
Tone Curve : 0, 0, 255, 255
Image Width : 300
Image Height : 200
Bits Per Sample : 8
Color Components : 1
Aperture : 2.8
Image Size : 300x200
Megapixels : 0.060
Shutter Speed : 1/60
Light Value : 8.9
Lens ID : 24.0mm f/2.8