Uber Exif Photo
Make : LEICA
Camera Model Name : D-LUX 5
Orientation : Horizontal (normal)
Software : Capture NX 2.3.0 W
Modify Date : 2012:01:06 18:46:57
Exposure Time : 1/80
F Number : 3.5
Exposure Program : Aperture-priority AE
ISO : 400
Date/Time Original : 2011:12:30 14:12:23
Shutter Speed Value : 0.3
Aperture Value : 3.5
Exposure Compensation : 0
Max Aperture Value : 2.0
Metering Mode : Multi-segment
Light Source : Unknown
Flash : On, Did not fire
Focal Length : 12.8 mm
Maker Note Version : 2.10
Image Data Size : 253023
Nikon Capture Version : Capture NX 2.3.0 W
IFD0 Offset : 968
Preview IFD Offset : 868
NEF Bit Depth : 16 x 3
Color Space : Uncalibrated
Exif Image Width : 809
Exif Image Height : 1080
Sensing Method : One-chip color area
Scene Type : Directly photographed
Exposure Mode : Auto
White Balance : Auto
Digital Zoom Ratio : 0
Focal Length In 35mm Format : 60 mm
Scene Capture Type : Standard
Gain Control : High gain up
Contrast : Normal
Saturation : Normal
Sharpness : Normal
Already Applied : True
Blue Hue : 0
Blue Saturation : 0
Brightness : 0
Camera Profile : Embedded
Chromatic Aberration B : 0
Chromatic Aberration R : 0
Clarity : -1
Color Noise Reduction : 0
Convert To Grayscale : False
Defringe : 0
Exposure : 0.00
Fill Light : 0
Grain Amount : 0
Green Hue : 0
Green Saturation : 0
Has Crop : False
Has Settings : True
Highlight Recovery : 0
Hue Adjustment Aqua : 0
Hue Adjustment Blue : 0
Hue Adjustment Green : 0
Hue Adjustment Magenta : 0
Hue Adjustment Orange : 0
Hue Adjustment Purple : 0
Hue Adjustment Red : 0
Hue Adjustment Yellow : 0
Incremental Temperature : 0
Incremental Tint : 0
Lens Manual Distortion Amount : 0
Lens Profile Enable : 0
Lens Profile Setup : LensDefaults
Luminance Adjustment Aqua : 0
Luminance Adjustment Blue : 0
Luminance Adjustment Green : 0
Luminance Adjustment Magenta : 0
Luminance Adjustment Orange : 0
Luminance Adjustment Purple : 0
Luminance Adjustment Red : 0
Luminance Adjustment Yellow : 0
Luminance Smoothing : 0
Parametric Darks : 0
Parametric Highlight Split : 75
Parametric Highlights : 0
Parametric Lights : 0
Parametric Midtone Split : 50
Parametric Shadow Split : 25
Parametric Shadows : 0
Perspective Horizontal : 0
Perspective Rotate : 0.0
Perspective Scale : 100
Perspective Vertical : 0
Post Crop Vignette Amount : 0
Process Version : 5.7
Red Hue : 0
Red Saturation : 0
Saturation Adjustment Aqua : 0
Saturation Adjustment Blue : 0
Saturation Adjustment Green : 0
Saturation Adjustment Magenta : 0
Saturation Adjustment Orange : 0
Saturation Adjustment Purple : 0
Saturation Adjustment Red : 0
Saturation Adjustment Yellow : 0
Shadow Tint : 0
Shadows : 0
Sharpen Detail : 25
Sharpen Edge Masking : 0
Sharpen Radius : +1.0
Split Toning Balance : 0
Split Toning Highlight Hue : 0
Split Toning Highlight Saturation : 0
Split Toning Shadow Hue : 0
Split Toning Shadow Saturation : 0
Tone Curve Name : Linear
Version : 6.6
Vibrance : -1
Vignette Amount : 0
Format : image/tiff
Create Date : 2011:12:30 14:12:23+01:00
Creator Tool : Adobe Photoshop Lightroom 3.6 (Windows)
Date Created : 2011:12:30 14:12:23+01:00
Tone Curve : 0, 0, 255, 255
Image Width : 225
Image Height : 300
Bits Per Sample : 8
Color Components : 1
Aperture : 3.5
Image Size : 225x300
Megapixels : 0.068
Scale Factor To 35 mm Equivalent : 4.7
Shutter Speed : 1/80
Circle Of Confusion : 0.006 mm
Field Of View : 33.4 deg
Focal Length : 12.8 mm (35 mm equivalent: 60.0 mm)
Hyperfocal Distance : 7.30 m
Light Value : 7.9