Uber Exif Photo
By-line : Brandon Skinner
Copyright Notice : Brandon Skinner Photography
Copyright Flag : True
URL : www.skinnerphotographs.com
Photometric Interpretation : RGB
Make : Leica Camera AG
Camera Model Name : M8 Digital Camera
Orientation : Horizontal (normal)
Software : Adobe Photoshop CS5 Windows
Modify Date : 2011:12:30 08:08:05
Artist : Brandon Skinner
Copyright : Brandon Skinner Photography
Exposure Time : 1/30
F Number : 4.0
Exposure Program : Manual
ISO : 160
Date/Time Original : 2011:12:16 23:00:54
Create Date : 2011:12:16 23:00:54
Shutter Speed Value : 1/30
Aperture Value : 4.0
Exposure Compensation : -0.332
Max Aperture Value : 1.0
Metering Mode : Center-weighted average
Light Source : Unknown
Flash : On, Did not fire
Color Space : sRGB
Exif Image Width : 2300
Exif Image Height : 1547
Scene Type : Directly photographed
White Balance : Auto
Digital Zoom Ratio : 0
Scene Capture Type : Standard
Serial Number : 3106126
Creator Tool : Adobe Photoshop CS5 Windows
Date Created : 2011:12:16 23:00:54
Color Mode : RGB
ICC Profile Name : sRGB IEC61966-2.1
Marked : True
Web Statement : www.skinnerphotographs.com
Version : 6.5
Process Version : 5.7
Color Temperature : 6713
Tint : -36
Exposure : 0.00
Shadows : 31
Brightness : +50
Contrast : +25
Sharpness : 25
Luminance Smoothing : 0
Color Noise Reduction : 25
Chromatic Aberration R : 0
Chromatic Aberration B : 0
Vignette Amount : 0
Shadow Tint : 0
Red Hue : 0
Red Saturation : 0
Green Hue : 0
Green Saturation : 0
Blue Hue : 0
Blue Saturation : 0
Fill Light : 0
Highlight Recovery : 0
Clarity : 0
Defringe : 0
Gray Mixer Red : -6
Gray Mixer Orange : -14
Gray Mixer Yellow : -18
Gray Mixer Green : -24
Gray Mixer Aqua : -19
Gray Mixer Blue : +6
Gray Mixer Purple : +13
Gray Mixer Magenta : +5
Split Toning Shadow Hue : 0
Split Toning Shadow Saturation : 0
Split Toning Highlight Hue : 0
Split Toning Highlight Saturation : 0
Split Toning Balance : 0
Parametric Shadows : +7
Parametric Darks : -7
Parametric Lights : -43
Parametric Highlights : 0
Parametric Shadow Split : 25
Parametric Midtone Split : 50
Parametric Highlight Split : 75
Sharpen Radius : +1.0
Sharpen Detail : 25
Sharpen Edge Masking : 0
Post Crop Vignette Amount : 0
Grain Amount : 0
Color Noise Reduction Detail : 50
Lens Profile Enable : 0
Lens Manual Distortion Amount : 0
Perspective Vertical : 0
Perspective Horizontal : 0
Perspective Rotate : 0.0
Perspective Scale : 100
Convert To Grayscale : True
Tone Curve Name : Medium Contrast
Camera Profile : Adobe Standard
Lens Profile Setup : LensDefaults
Has Settings : True
Crop Top : 0
Crop Left : 0
Crop Bottom : 0.820055
Crop Right : 0.820055
Crop Angle : 0
Crop Constrain To Warp : 1
Crop Width : 3211
Crop Height : 2160
Crop Unit : pixels
Has Crop : True
Already Applied : True
Format : image/jpeg
Tone Curve : 0, 0, 32, 22, 64, 56, 128, 128, 192, 196, 255, 255
Creator : Brandon Skinner
Rights : Brandon Skinner Photography
Creator Postal Code : 92024
Creator City : Encinitas, CA
Creator Country : USA
Creator Work Email : skinnerphotographs@gmail.com
Creator Work URL : www.skinnerphotographs.com
Image Width : 300
Image Height : 202
Bits Per Sample : 8
Color Components : 1
Aperture : 4.0
Image Size : 300x202
Megapixels : 0.061
Scale Factor To 35 mm Equivalent : 2.3
Shutter Speed : 1/30
Circle Of Confusion : 0.013 mm
Light Value : 8.2