Uber Exif Photo
Caption-Abstract : Blueman Photography 2009
By-line : Bruce Kwan
Keywords : Architecture, Leica Summarit-M 75mm
Copyright Notice : Photo by Bruce Kwan (Blueman) 2009
Image Description : Blueman Photography 2009
Make : Leica Camera AG
Camera Model Name : M8 Digital Camera
Orientation : Horizontal (normal)
Software : Adobe Photoshop CS5 Macintosh
Modify Date : 2012:01:30 23:50:29
Artist : Bruce Kwan
Copyright : Photo by Bruce Kwan (Blueman) 2009
Exposure Time : 0.7
F Number : 4.0
Exposure Program : Aperture-priority AE
ISO : 160
Date/Time Original : 2009:05:30 01:40:12
Create Date : 2009:05:30 01:40:12
Shutter Speed Value : 0.7
Aperture Value : 4.0
Exposure Compensation : 0
Max Aperture Value : 2.5
Metering Mode : Center-weighted average
Light Source : Unknown
Flash : Auto, Did not fire
Focal Length : 75.0 mm
Color Space : sRGB
Exif Image Width : 1029
Exif Image Height : 1570
Scene Type : Directly photographed
White Balance : Auto
Digital Zoom Ratio : 0
Focal Length In 35mm Format : 101 mm
Scene Capture Type : Standard
Serial Number : 3332696
Lens Model : Leica Summarit-M 75mm f/2.5
Profile Description : sRGB IEC61966-2.1
Rating : 5
Label :
Creator Tool : 2.004
Lens : Leica Summarit-M 75mm f/2.5
Format : image/jpeg
Date Created : 2009:05:30 01:40:12+08:00
Color Mode : RGB
ICC Profile Name : sRGB IEC61966-2.1
Raw File Name : L1000563.DNG
Version : 6.5
Process Version : 5.7
Color Temperature : 4350
Tint : +7
Exposure : 0.00
Shadows : 5
Brightness : +50
Contrast : +25
Saturation : +10
Sharpness : 25
Luminance Smoothing : 0
Color Noise Reduction : 25
Chromatic Aberration R : 0
Chromatic Aberration B : 0
Vignette Amount : 0
Shadow Tint : 0
Red Hue : 0
Red Saturation : 0
Green Hue : 0
Green Saturation : 0
Blue Hue : 0
Blue Saturation : 0
Fill Light : 0
Vibrance : +10
Highlight Recovery : 0
Clarity : +20
Defringe : 0
Hue Adjustment Red : 0
Hue Adjustment Orange : 0
Hue Adjustment Yellow : 0
Hue Adjustment Green : 0
Hue Adjustment Aqua : 0
Hue Adjustment Blue : 0
Hue Adjustment Purple : 0
Hue Adjustment Magenta : 0
Saturation Adjustment Red : 0
Saturation Adjustment Orange : 0
Saturation Adjustment Yellow : 0
Saturation Adjustment Green : 0
Saturation Adjustment Aqua : 0
Saturation Adjustment Blue : 0
Saturation Adjustment Purple : 0
Saturation Adjustment Magenta : 0
Luminance Adjustment Red : 0
Luminance Adjustment Orange : 0
Luminance Adjustment Yellow : 0
Luminance Adjustment Green : 0
Luminance Adjustment Aqua : 0
Luminance Adjustment Blue : 0
Luminance Adjustment Purple : 0
Luminance Adjustment Magenta : 0
Split Toning Shadow Hue : 0
Split Toning Shadow Saturation : 0
Split Toning Highlight Hue : 0
Split Toning Highlight Saturation : 0
Split Toning Balance : 0
Parametric Shadows : 0
Parametric Darks : 0
Parametric Lights : 0
Parametric Highlights : 0
Parametric Shadow Split : 25
Parametric Midtone Split : 50
Parametric Highlight Split : 75
Sharpen Radius : +1.0
Sharpen Detail : 25
Sharpen Edge Masking : 0
Post Crop Vignette Amount : 0
Grain Amount : 0
Color Noise Reduction Detail : 50
Lens Profile Enable : 0
Lens Manual Distortion Amount : 0
Perspective Vertical : 0
Perspective Horizontal : 0
Perspective Rotate : 0.0
Perspective Scale : 100
Convert To Grayscale : False
Tone Curve Name : Medium Contrast
Camera Profile : Camera Standard
Lens Profile Setup : LensDefaults
Has Settings : True
Crop Top : 0
Crop Left : 0
Crop Bottom : 1
Crop Right : 1
Crop Angle : 0
Crop Constrain To Warp : 0
Has Crop : True
Already Applied : True
Creator City : Hong Kong
Creator Work Email : brucekwan@gmail.com
Creator Work URL : http://public.fotki.com/brucekwan/
Creator : Bruce Kwan
Description : Blueman Photography 2009
Rights : Photo by Bruce Kwan (Blueman) 2009
Subject : Architecture, Leica Summarit-M 75mm
Hierarchical Subject : Architecture, Leica Summarit-M 75mm
Tone Curve : 0, 0, 32, 22, 64, 56, 128, 128, 192, 196, 255, 255
Image Width : 197
Image Height : 300
Bits Per Sample : 8
Color Components : 3
Aperture : 4.0
Image Size : 197x300
Megapixels : 0.059
Scale Factor To 35 mm Equivalent : 1.3
Shutter Speed : 0.7
Circle Of Confusion : 0.022 mm
Field Of View : 20.2 deg
Focal Length : 75.0 mm (35 mm equivalent: 101.0 mm)
Hyperfocal Distance : 63.03 m
Light Value : 3.8
Lens ID : Summarit-M 75mm f/2.5