Uber Exif Photo
Caption-Abstract : Blueman Photography 2009 | Crztal
By-line : Bruce Kwan
Keywords : Crztal, Portrait, ZM C Biogon 35mm
Copyright Notice : Photo by Bruce Kwan (Blueman) 2009
Image Description : Blueman Photography 2009 | Crztal
Make : Leica Camera AG
Camera Model Name : M8 Digital Camera
Orientation : Horizontal (normal)
Software : Adobe Photoshop CS5 Macintosh
Modify Date : 2012:01:29 03:33:23
Artist : Bruce Kwan
Copyright : Photo by Bruce Kwan (Blueman) 2009
Exposure Time : 1/125
F Number : 6.7
Exposure Program : Aperture-priority AE
ISO : 160
Date/Time Original : 2009:06:20 15:57:11
Create Date : 2009:06:20 15:57:11
Shutter Speed Value : 1/125
Aperture Value : 6.7
Exposure Compensation : +0.332
Max Aperture Value : 1.0
Metering Mode : Center-weighted average
Light Source : Unknown
Flash : Auto, Did not fire
Color Space : sRGB
Exif Image Width : 1029
Exif Image Height : 1570
Scene Type : Directly photographed
White Balance : Auto
Digital Zoom Ratio : 0
Scene Capture Type : Standard
Serial Number : 3332696
Rating : 5
Label :
Creator Tool : 2.004
Format : image/jpeg
Date Created : 2009:06:20 15:57:11+08:00
Color Mode : RGB
ICC Profile Name : sRGB IEC61966-2.1
Raw File Name : L1000336.DNG
Version : 6.5
Process Version : 5.7
Color Temperature : 4500
Tint : 0
Exposure : 0.00
Shadows : 4
Brightness : +46
Contrast : +21
Sharpness : 104
Luminance Smoothing : 6
Color Noise Reduction : 25
Chromatic Aberration R : 0
Chromatic Aberration B : 0
Vignette Amount : 0
Shadow Tint : 0
Red Hue : 0
Red Saturation : 0
Green Hue : 0
Green Saturation : 0
Blue Hue : 0
Blue Saturation : 0
Fill Light : 5
Highlight Recovery : 27
Clarity : +62
Defringe : 0
Gray Mixer Red : -9
Gray Mixer Orange : -18
Gray Mixer Yellow : -22
Gray Mixer Green : -26
Gray Mixer Aqua : -19
Gray Mixer Blue : +8
Gray Mixer Purple : +15
Gray Mixer Magenta : +4
Split Toning Shadow Hue : 0
Split Toning Shadow Saturation : 0
Split Toning Highlight Hue : 0
Split Toning Highlight Saturation : 0
Split Toning Balance : 0
Parametric Shadows : -12
Parametric Darks : -8
Parametric Lights : 0
Parametric Highlights : +37
Parametric Shadow Split : 25
Parametric Midtone Split : 50
Parametric Highlight Split : 75
Sharpen Radius : +1.3
Sharpen Detail : 25
Sharpen Edge Masking : 0
Post Crop Vignette Amount : 0
Grain Amount : 0
Luminance Noise Reduction Detail : 50
Color Noise Reduction Detail : 50
Luminance Noise Reduction Contrast : 0
Lens Profile Enable : 0
Lens Manual Distortion Amount : 0
Perspective Vertical : 0
Perspective Horizontal : 0
Perspective Rotate : 0.0
Perspective Scale : 100
Convert To Grayscale : True
Tone Curve Name : Custom
Camera Profile : Camera Standard
Lens Profile Setup : LensDefaults
Has Settings : True
Crop Top : 0
Crop Left : 0
Crop Bottom : 1
Crop Right : 1
Crop Angle : 0
Crop Constrain To Warp : 0
Has Crop : True
Already Applied : True
Creator City : Hong Kong
Creator Work Email : brucekwan@gmail.com
Creator Work URL : http://public.fotki.com/brucekwan/
Creator : Bruce Kwan
Description : Blueman Photography 2009 | Crztal
Rights : Photo by Bruce Kwan (Blueman) 2009
Subject : Crztal, Portrait, ZM C Biogon 35mm
Hierarchical Subject : Crztal, Portrait, ZM C Biogon 35mm
Tone Curve : 0, 0, 30, 20, 67, 50, 128, 123, 132, 127, 197, 217, 255, 255
Image Width : 197
Image Height : 300
Bits Per Sample : 8
Color Components : 1
Aperture : 6.7
Image Size : 197x300
Megapixels : 0.059
Scale Factor To 35 mm Equivalent : 3.4
Shutter Speed : 1/125
Circle Of Confusion : 0.009 mm
Light Value : 11.8