Uber Exif Photo
Caption-Abstract : Blueman Photography 2009 | Crztal
By-line : Bruce Kwan
Keywords : Crztal, Leica Summarit-M 75mm, Portrait
Copyright Notice : Photo by Bruce Kwan (Blueman) 2009
Image Description : Blueman Photography 2009 | Crztal
Make : Leica Camera AG
Camera Model Name : M8 Digital Camera
Orientation : Horizontal (normal)
Software : Adobe Photoshop CS5 Macintosh
Modify Date : 2012:01:29 03:38:00
Artist : Bruce Kwan
Copyright : Photo by Bruce Kwan (Blueman) 2009
Exposure Time : 1/1500
F Number : 3.4
Exposure Program : Aperture-priority AE
ISO : 160
Date/Time Original : 2009:06:20 15:52:37
Create Date : 2009:06:20 15:52:37
Shutter Speed Value : 1/1500
Aperture Value : 3.4
Exposure Compensation : +0.332
Max Aperture Value : 1.0
Metering Mode : Center-weighted average
Light Source : Unknown
Flash : Auto, Did not fire
Color Space : sRGB
Exif Image Width : 1029
Exif Image Height : 1570
Scene Type : Directly photographed
White Balance : Auto
Digital Zoom Ratio : 0
Scene Capture Type : Standard
Serial Number : 3332696
Rating : 5
Label : Blue
Creator Tool : 2.004
Format : image/jpeg
Date Created : 2009:06:20 15:52:37+08:00
Color Mode : RGB
ICC Profile Name : sRGB IEC61966-2.1
Raw File Name : L1000297.DNG
Version : 6.5
Process Version : 5.7
Color Temperature : 5300
Tint : +3
Exposure : +0.80
Shadows : 5
Brightness : +62
Contrast : +13
Sharpness : 77
Luminance Smoothing : 12
Color Noise Reduction : 25
Chromatic Aberration R : 0
Chromatic Aberration B : 0
Vignette Amount : 0
Shadow Tint : 0
Red Hue : 0
Red Saturation : 0
Green Hue : 0
Green Saturation : 0
Blue Hue : 0
Blue Saturation : 0
Fill Light : 2
Highlight Recovery : 25
Clarity : +49
Defringe : 0
Gray Mixer Red : -10
Gray Mixer Orange : -19
Gray Mixer Yellow : -23
Gray Mixer Green : -27
Gray Mixer Aqua : -18
Gray Mixer Blue : +5
Gray Mixer Purple : +16
Gray Mixer Magenta : +4
Split Toning Shadow Hue : 0
Split Toning Shadow Saturation : 0
Split Toning Highlight Hue : 0
Split Toning Highlight Saturation : 0
Split Toning Balance : 0
Parametric Shadows : 0
Parametric Darks : 0
Parametric Lights : +5
Parametric Highlights : 0
Parametric Shadow Split : 25
Parametric Midtone Split : 50
Parametric Highlight Split : 75
Sharpen Radius : +1.4
Sharpen Detail : 15
Sharpen Edge Masking : 60
Post Crop Vignette Amount : 0
Grain Amount : 35
Grain Size : 25
Grain Frequency : 15
Luminance Noise Reduction Detail : 50
Color Noise Reduction Detail : 50
Luminance Noise Reduction Contrast : 0
Lens Profile Enable : 0
Lens Manual Distortion Amount : 0
Perspective Vertical : 0
Perspective Horizontal : 0
Perspective Rotate : 0.0
Perspective Scale : 100
Convert To Grayscale : True
Tone Curve Name : Custom
Camera Profile : Camera Standard
Lens Profile Setup : LensDefaults
Has Settings : True
Crop Top : 0
Crop Left : 0
Crop Bottom : 1
Crop Right : 1
Crop Angle : 0
Crop Constrain To Warp : 0
Has Crop : True
Already Applied : True
Creator City : Hong Kong
Creator Work Email : brucekwan@gmail.com
Creator Work URL : http://public.fotki.com/brucekwan/
Creator : Bruce Kwan
Description : Blueman Photography 2009 | Crztal
Rights : Photo by Bruce Kwan (Blueman) 2009
Subject : Crztal, Leica Summarit-M 75mm, Portrait
Hierarchical Subject : Crztal, Leica Summarit-M 75mm, Portrait
Tone Curve : 0, 0, 33, 18, 68, 51, 122, 130, 192, 212, 255, 255
Image Width : 197
Image Height : 300
Bits Per Sample : 8
Color Components : 1
Aperture : 3.4
Image Size : 197x300
Megapixels : 0.059
Scale Factor To 35 mm Equivalent : 3.4
Shutter Speed : 1/1500
Circle Of Confusion : 0.009 mm
Light Value : 13.4