Uber Exif Photo
Make : Leica Camera AG
Camera Model Name : Leica S2
Software : Adobe Photoshop Lightroom 3.6 (Macintosh)
Modify Date : 2012:02:20 15:23:09
Exposure Time : 1/25
F Number : 19.0
Exposure Program : Program AE
ISO : 160
Date/Time Original : 2012:02:18 17:14:07
Create Date : 2012:02:18 17:14:07
Shutter Speed Value : 1/25
Aperture Value : 19.0
Exposure Compensation : 0
Max Aperture Value : 2.5
Metering Mode : Multi-spot
Light Source : Unknown
Flash : No Flash
Focal Length : 35.0 mm
Scene Type : Directly photographed
Custom Rendered : Normal
White Balance : Auto
Digital Zoom Ratio : 0
Scene Capture Type : Standard
Contrast : Normal
Saturation : Normal
Sharpness : Normal
Serial Number : 3905600
Lens Model : Summarit-S 35
Profile Description : sRGB IEC61966-2.1
Creator Tool : Adobe Photoshop Lightroom 3.6 (Macintosh)
Lens : Summarit-S 35
Approximate Focus Distance : 7.57
Date Created : 2012:02:18 17:14:07
Format : image/jpeg
Version : 6.6
Process Version : 5.7
Color Temperature : 5500
Tint : +21
Exposure : 0.00
Shadows : 10
Brightness : +150
Luminance Smoothing : 100
Color Noise Reduction : 100
Chromatic Aberration R : 0
Chromatic Aberration B : 0
Vignette Amount : 0
Shadow Tint : 0
Red Hue : 0
Red Saturation : 0
Green Hue : 0
Green Saturation : 0
Blue Hue : 0
Blue Saturation : 0
Fill Light : 50
Vibrance : +100
Highlight Recovery : 50
Clarity : -100
Defringe : 0
Hue Adjustment Red : 0
Hue Adjustment Orange : 0
Hue Adjustment Yellow : 0
Hue Adjustment Green : 0
Hue Adjustment Aqua : 0
Hue Adjustment Blue : 0
Hue Adjustment Purple : 0
Hue Adjustment Magenta : 0
Saturation Adjustment Red : 0
Saturation Adjustment Orange : 0
Saturation Adjustment Yellow : 0
Saturation Adjustment Green : 0
Saturation Adjustment Aqua : 0
Saturation Adjustment Blue : +13
Saturation Adjustment Purple : 0
Saturation Adjustment Magenta : 0
Luminance Adjustment Red : 0
Luminance Adjustment Orange : 0
Luminance Adjustment Yellow : 0
Luminance Adjustment Green : 0
Luminance Adjustment Aqua : 0
Luminance Adjustment Blue : 0
Luminance Adjustment Purple : 0
Luminance Adjustment Magenta : 0
Split Toning Shadow Hue : 41
Split Toning Shadow Saturation : 26
Split Toning Highlight Hue : 0
Split Toning Highlight Saturation : 0
Split Toning Balance : -35
Parametric Shadows : -27
Parametric Darks : -19
Parametric Lights : 0
Parametric Highlights : 0
Parametric Shadow Split : 25
Parametric Midtone Split : 50
Parametric Highlight Split : 75
Sharpen Radius : +3.0
Sharpen Detail : 14
Sharpen Edge Masking : 45
Post Crop Vignette Amount : +12
Post Crop Vignette Midpoint : 79
Post Crop Vignette Feather : 81
Post Crop Vignette Roundness : 0
Post Crop Vignette Style : Highlight Priority
Grain Amount : 0
Luminance Noise Reduction Detail : 50
Color Noise Reduction Detail : 50
Luminance Noise Reduction Contrast : 0
Lens Profile Enable : 1
Lens Manual Distortion Amount : 0
Perspective Vertical : 0
Perspective Horizontal : 0
Perspective Rotate : 0.0
Perspective Scale : 100
Convert To Grayscale : False
Tone Curve Name : Medium Contrast
Camera Profile : Adobe Standard
Lens Profile Setup : LensDefaults
Lens Profile Name : Adobe (Leica SUMMARIT-S 1:2.5/35mm ASPH.)
Lens Profile Filename : Leica SUMMARIT-S 2.5 35 mm ASPH.lcp
Lens Profile Distortion Scale : 100
Lens Profile Chromatic Aberration Scale : 100
Lens Profile Vignetting Scale : 100
Has Settings : True
Crop Top : 0.00434
Crop Left : 0.234798
Crop Bottom : 0.60032
Crop Right : 0.830778
Crop Angle : 0
Crop Constrain To Warp : 0
Crop Width : 4477
Crop Height : 2975
Crop Unit : pixels
Has Crop : True
Already Applied : True
Tone Curve : 0, 0, 32, 22, 64, 56, 128, 128, 192, 196, 255, 255
Image Width : 300
Image Height : 199
Bits Per Sample : 8
Color Components : 3
Aperture : 19.0
Image Size : 300x199
Megapixels : 0.060
Shutter Speed : 1/25
Light Value : 12.5
Lens ID : Summarit-S 35