Uber Exif Photo
By-line : Jian Gao
Copyright Notice : JIan Gao
Copyright Flag : True
Photometric Interpretation : RGB
Make : Nikon
Camera Model Name : Nikon SUPER COOLSCAN 9000 ED
Orientation : Horizontal (normal)
Software : Adobe Photoshop CS5 Macintosh
Modify Date : 2012:04:24 23:15:21
Artist : Jian Gao
Copyright : JIan Gao
Sensitivity Type : Unknown
Create Date : 2012:04:24 17:28:41
Color Space : sRGB
Exif Image Width : 733
Exif Image Height : 1108
Format : image/jpeg
Creator Tool : Adobe Photoshop Lightroom 3.6 (Macintosh)
Color Mode : RGB
ICC Profile Name : sRGB IEC61966-2.1
Marked : True
Version : 6.3
Process Version : 5.7
White Balance : As Shot
Incremental Temperature : 0
Incremental Tint : 0
Exposure : +0.30
Shadows : 6
Brightness : +6
Contrast : +36
Sharpness : 0
Luminance Smoothing : 0
Color Noise Reduction : 0
Chromatic Aberration R : 0
Chromatic Aberration B : 0
Vignette Amount : 0
Shadow Tint : 0
Red Hue : 0
Red Saturation : 0
Green Hue : 0
Green Saturation : 0
Blue Hue : 0
Blue Saturation : 0
Fill Light : 4
Highlight Recovery : 100
Clarity : +45
Defringe : 0
Gray Mixer Red : 0
Gray Mixer Orange : 0
Gray Mixer Yellow : 0
Gray Mixer Green : 0
Gray Mixer Aqua : 0
Gray Mixer Blue : 0
Gray Mixer Purple : 0
Gray Mixer Magenta : 0
Split Toning Shadow Hue : 0
Split Toning Shadow Saturation : 0
Split Toning Highlight Hue : 0
Split Toning Highlight Saturation : 0
Split Toning Balance : 0
Parametric Shadows : 0
Parametric Darks : 0
Parametric Lights : 0
Parametric Highlights : 0
Parametric Shadow Split : 25
Parametric Midtone Split : 50
Parametric Highlight Split : 75
Sharpen Radius : +1.0
Sharpen Detail : 25
Sharpen Edge Masking : 0
Post Crop Vignette Amount : -23
Post Crop Vignette Midpoint : 50
Post Crop Vignette Feather : 50
Post Crop Vignette Roundness : 0
Post Crop Vignette Style : Highlight Priority
Post Crop Vignette Highlight Contrast : 0
Grain Amount : 0
Lens Profile Enable : 0
Lens Manual Distortion Amount : 0
Perspective Vertical : 0
Perspective Horizontal : 0
Perspective Rotate : 0.0
Perspective Scale : 100
Convert To Grayscale : True
Tone Curve Name : Linear
Camera Profile : Embedded
Lens Profile Setup : LensDefaults
Has Settings : True
Has Crop : False
Already Applied : True
Creator : Jian Gao
Rights : JIan Gao
Usage Terms : All Rights Reserved
Tone Curve : 0, 0, 255, 255
Creator Postal Code : 94130
Creator Region : CA
Creator Country : United States
Creator City : San Francisco
Creator Address : 1314 Gateview Ave Unit B
Creator Work Email : Jian.Gao37@gmail.com
Image Width : 198
Image Height : 300
Bits Per Sample : 8
Color Components : 1
Image Size : 198x300
Megapixels : 0.059