Uber Exif Photo
Caption-Abstract : 8 by 10, traditional darkroom print. Shot with 35mm black and white film, window matte.
By-line : Jian Gao
By-line Title : MFA Documentary and Photojourna
Object Name : Chinatown-a woman with her child.
Keywords : Documeatary Class., Instructor: Andre Hermann .
Copyright Notice : JIan Gao
Copyright Flag : True
Photometric Interpretation : RGB
Image Description : 8 by 10, traditional darkroom print. Shot with 35mm black and white film, window matte.
Make : Nikon
Camera Model Name : Nikon SUPER COOLSCAN 9000 ED
Orientation : Horizontal (normal)
Software : Adobe Photoshop CS5 Macintosh
Modify Date : 2012:03:30 01:16:29
Artist : Jian Gao
Copyright : JIan Gao
Sensitivity Type : Unknown
Create Date : 2012:03:26 19:19:59
Color Space : sRGB
Exif Image Width : 1920
Exif Image Height : 1262
Format : image/jpeg
Creator Tool : Adobe Photoshop Lightroom 3.6 (Macintosh)
Color Mode : RGB
ICC Profile Name : sRGB IEC61966-2.1
Authors Position : MFA Documentary and Photojournalism
Marked : True
Version : 6.3
Process Version : 5.7
White Balance : As Shot
Incremental Temperature : 0
Incremental Tint : 0
Exposure : +0.35
Shadows : 0
Brightness : 0
Contrast : -50
Saturation : 0
Sharpness : 0
Luminance Smoothing : 0
Color Noise Reduction : 0
Chromatic Aberration R : 0
Chromatic Aberration B : 0
Vignette Amount : 0
Shadow Tint : 0
Red Hue : 0
Red Saturation : 0
Green Hue : 0
Green Saturation : 0
Blue Hue : 0
Blue Saturation : 0
Fill Light : 0
Vibrance : 0
Highlight Recovery : 100
Clarity : -23
Defringe : 0
Hue Adjustment Red : 0
Hue Adjustment Orange : 0
Hue Adjustment Yellow : 0
Hue Adjustment Green : 0
Hue Adjustment Aqua : 0
Hue Adjustment Blue : 0
Hue Adjustment Purple : 0
Hue Adjustment Magenta : 0
Saturation Adjustment Red : 0
Saturation Adjustment Orange : 0
Saturation Adjustment Yellow : 0
Saturation Adjustment Green : 0
Saturation Adjustment Aqua : 0
Saturation Adjustment Blue : 0
Saturation Adjustment Purple : 0
Saturation Adjustment Magenta : 0
Luminance Adjustment Red : 0
Luminance Adjustment Orange : 0
Luminance Adjustment Yellow : 0
Luminance Adjustment Green : 0
Luminance Adjustment Aqua : 0
Luminance Adjustment Blue : 0
Luminance Adjustment Purple : 0
Luminance Adjustment Magenta : 0
Split Toning Shadow Hue : 0
Split Toning Shadow Saturation : 0
Split Toning Highlight Hue : 0
Split Toning Highlight Saturation : 0
Split Toning Balance : 0
Parametric Shadows : 0
Parametric Darks : 0
Parametric Lights : 0
Parametric Highlights : 0
Parametric Shadow Split : 25
Parametric Midtone Split : 50
Parametric Highlight Split : 75
Sharpen Radius : +1.0
Sharpen Detail : 25
Sharpen Edge Masking : 0
Post Crop Vignette Amount : -6
Post Crop Vignette Midpoint : 63
Post Crop Vignette Feather : 50
Post Crop Vignette Roundness : 0
Post Crop Vignette Style : Highlight Priority
Post Crop Vignette Highlight Contrast : 0
Grain Amount : 0
Lens Profile Enable : 0
Lens Manual Distortion Amount : 0
Perspective Vertical : 0
Perspective Horizontal : 0
Perspective Rotate : 0.0
Perspective Scale : 100
Convert To Grayscale : False
Tone Curve Name : Linear
Camera Profile : Embedded
Lens Profile Setup : LensDefaults
Has Settings : True
Has Crop : False
Already Applied : True
Creator : Jian Gao
Rights : JIan Gao
Title : Chinatown-a woman with her child.
Description : 8 by 10, traditional darkroom print. Shot with 35mm black and white film, window matte.
Subject : Documeatary Class., Instructor: Andre Hermann .
Usage Terms : All Rights Reserved
Tone Curve : 0, 0, 255, 255
Creator Postal Code : 94130
Creator Region : CA
Creator Country : United States
Creator City : San Francisco
Creator Address : 1314 Gateview Ave Unit B
Creator Work Email : Jian.Gao37@gmail.com
Image Width : 300
Image Height : 197
Bits Per Sample : 8
Color Components : 1
Image Size : 300x197
Megapixels : 0.059