Uber Exif Photo
Make : Panasonic
Camera Model Name : DMC-LX100
Software : Adobe Photoshop Lightroom 6.1.1 (Macintosh)
Modify Date : 2015:08:25 21:19:02
Exposure Time : 1/125
F Number : 11.0
Exposure Program : Aperture-priority AE
ISO : 1000
Date/Time Original : 2015:08:24 14:38:24
Create Date : 2015:08:24 14:38:24
Shutter Speed Value : 1/125
Aperture Value : 11.0
Exposure Compensation : 0
Max Aperture Value : 2.8
Metering Mode : Multi-segment
Light Source : Unknown
Flash : Off, Did not fire
Focal Length : 34.0 mm
Sensing Method : One-chip color area
Scene Type : Directly photographed
Custom Rendered : Normal
Exposure Mode : Auto
White Balance : Auto
Digital Zoom Ratio : 0
Focal Length In 35mm Format : 75 mm
Scene Capture Type : Standard
Gain Control : High gain up
Contrast : Normal
Saturation : Low
Sharpness : Hard
Profile Description : sRGB IEC61966-2.1
Rating : 5
Creator Tool : Adobe Photoshop Lightroom 6.1.1 (Macintosh)
Date Created : 2015:08:24 14:38:24.219
Format : image/jpeg
Version : 9.1.1
Process Version : 6.7
Auto White Version : 134348800
Color Temperature : 6550
Tint : +5
Luminance Smoothing : 0
Color Noise Reduction : 25
Vignette Amount : 0
Shadow Tint : 0
Red Hue : 0
Red Saturation : 0
Green Hue : 0
Green Saturation : 0
Blue Hue : 0
Blue Saturation : -15
Vibrance : 0
Hue Adjustment Red : 0
Hue Adjustment Orange : 0
Hue Adjustment Yellow : 0
Hue Adjustment Green : 0
Hue Adjustment Aqua : 0
Hue Adjustment Blue : 0
Hue Adjustment Purple : 0
Hue Adjustment Magenta : 0
Saturation Adjustment Red : -8
Saturation Adjustment Orange : -19
Saturation Adjustment Yellow : -14
Saturation Adjustment Green : -20
Saturation Adjustment Aqua : -24
Saturation Adjustment Blue : -55
Saturation Adjustment Purple : -17
Saturation Adjustment Magenta : -18
Luminance Adjustment Red : 0
Luminance Adjustment Orange : 0
Luminance Adjustment Yellow : 0
Luminance Adjustment Green : 0
Luminance Adjustment Aqua : 0
Luminance Adjustment Blue : 0
Luminance Adjustment Purple : 0
Luminance Adjustment Magenta : 0
Split Toning Shadow Hue : 0
Split Toning Shadow Saturation : 0
Split Toning Highlight Hue : 0
Split Toning Highlight Saturation : 0
Split Toning Balance : 0
Parametric Shadows : 0
Parametric Darks : 0
Parametric Lights : 0
Parametric Highlights : 0
Parametric Shadow Split : 25
Parametric Midtone Split : 50
Parametric Highlight Split : 75
Sharpen Radius : +1.0
Sharpen Detail : 25
Sharpen Edge Masking : 0
Post Crop Vignette Amount : 0
Grain Amount : 20
Grain Size : 25
Grain Frequency : 50
Color Noise Reduction Detail : 50
Color Noise Reduction Smoothness : 50
Lens Profile Enable : 0
Lens Manual Distortion Amount : 0
Perspective Vertical : 0
Perspective Horizontal : 0
Perspective Rotate : 0.0
Perspective Scale : 100
Perspective Aspect : 0
Perspective Upright : Off
Auto Lateral CA : 0
Exposure 2012 : +0.25
Contrast 2012 : +75
Highlights 2012 : 0
Shadows 2012 : 0
Whites 2012 : 0
Blacks 2012 : 0
Clarity 2012 : 0
Defringe Purple Amount : 0
Defringe Purple Hue Lo : 30
Defringe Purple Hue Hi : 70
Defringe Green Amount : 0
Defringe Green Hue Lo : 40
Defringe Green Hue Hi : 60
Dehaze : 0
Tone Map Strength : 0
Convert To Grayscale : False
Tone Curve Name : Linear
Tone Curve Name 2012 : Custom
Camera Profile : Adobe Standard
Lens Profile Setup : LensDefaults
Has Settings : True
Crop Top : 0.009282
Crop Left : 0.129131
Crop Bottom : 0.884913
Crop Right : 0.980691
Crop Angle : 0.967413
Crop Constrain To Warp : 0
Has Crop : True
Already Applied : True
Tone Curve : 0, 0, 255, 255
Tone Curve Red : 0, 0, 255, 255
Tone Curve Green : 0, 0, 255, 255
Tone Curve Blue : 0, 0, 255, 255
Tone Curve PV2012 : 0, 0, 68, 64, 189, 209, 255, 255
Tone Curve PV2012 Red : 0, 0, 65, 62, 194, 206, 255, 255
Tone Curve PV2012 Green : 0, 0, 67, 64, 192, 204, 255, 255
Tone Curve PV2012 Blue : 0, 0, 64, 56, 190, 204, 255, 255
Image Width : 199
Image Height : 300
Bits Per Sample : 8
Color Components : 3
Aperture : 11.0
Image Size : 199x300
Megapixels : 0.060
Scale Factor To 35 mm Equivalent : 2.2
Shutter Speed : 1/125
Create Date : 2015:08:24 14:38:24.219
Date/Time Original : 2015:08:24 14:38:24.219
Circle Of Confusion : 0.014 mm
Field Of View : 27.0 deg
Focal Length : 34.0 mm (35 mm equivalent: 75.0 mm)
Hyperfocal Distance : 7.72 m
Light Value : 10.6